BEGIN:VCALENDAR
VERSION:2.0
PRODID:-//jEvents 2.0 for Joomla//EN
CALSCALE:GREGORIAN
METHOD:PUBLISH
BEGIN:VTIMEZONE
TZID:America/Denver
BEGIN:STANDARD
DTSTART:20141102T010000
RDATE:20150308T030000
TZOFFSETFROM:-0600
TZOFFSETTO:-0700
TZNAME:America/Denver MST
END:STANDARD
BEGIN:STANDARD
DTSTART:20151101T010000
RDATE:20160313T030000
TZOFFSETFROM:-0600
TZOFFSETTO:-0700
TZNAME:America/Denver MST
END:STANDARD
BEGIN:STANDARD
DTSTART:20161106T010000
RDATE:20170312T030000
TZOFFSETFROM:-0600
TZOFFSETTO:-0700
TZNAME:America/Denver MST
END:STANDARD
BEGIN:STANDARD
DTSTART:20171105T010000
RDATE:20180311T030000
TZOFFSETFROM:-0600
TZOFFSETTO:-0700
TZNAME:America/Denver MST
END:STANDARD
BEGIN:STANDARD
DTSTART:20181104T010000
RDATE:20190310T030000
TZOFFSETFROM:-0600
TZOFFSETTO:-0700
TZNAME:America/Denver MST
END:STANDARD
BEGIN:STANDARD
DTSTART:20191103T010000
RDATE:20200308T030000
TZOFFSETFROM:-0600
TZOFFSETTO:-0700
TZNAME:America/Denver MST
END:STANDARD
BEGIN:STANDARD
DTSTART:20201101T010000
RDATE:20210314T030000
TZOFFSETFROM:-0600
TZOFFSETTO:-0700
TZNAME:America/Denver MST
END:STANDARD
BEGIN:STANDARD
DTSTART:20211107T010000
RDATE:20220313T030000
TZOFFSETFROM:-0600
TZOFFSETTO:-0700
TZNAME:America/Denver MST
END:STANDARD
BEGIN:STANDARD
DTSTART:20221106T010000
RDATE:20230312T030000
TZOFFSETFROM:-0600
TZOFFSETTO:-0700
TZNAME:America/Denver MST
END:STANDARD
BEGIN:STANDARD
DTSTART:20231105T010000
RDATE:20240310T030000
TZOFFSETFROM:-0600
TZOFFSETTO:-0700
TZNAME:America/Denver MST
END:STANDARD
BEGIN:STANDARD
DTSTART:20241103T010000
RDATE:20250309T030000
TZOFFSETFROM:-0600
TZOFFSETTO:-0700
TZNAME:America/Denver MST
END:STANDARD
BEGIN:STANDARD
DTSTART:20251102T010000
RDATE:20260308T030000
TZOFFSETFROM:-0600
TZOFFSETTO:-0700
TZNAME:America/Denver MST
END:STANDARD
BEGIN:STANDARD
DTSTART:20261101T010000
RDATE:20270314T030000
TZOFFSETFROM:-0600
TZOFFSETTO:-0700
TZNAME:America/Denver MST
END:STANDARD
BEGIN:STANDARD
DTSTART:20271107T010000
RDATE:20280312T030000
TZOFFSETFROM:-0600
TZOFFSETTO:-0700
TZNAME:America/Denver MST
END:STANDARD
BEGIN:STANDARD
DTSTART:20281105T010000
RDATE:20290311T030000
TZOFFSETFROM:-0600
TZOFFSETTO:-0700
TZNAME:America/Denver MST
END:STANDARD
BEGIN:STANDARD
DTSTART:20291104T010000
RDATE:20300310T030000
TZOFFSETFROM:-0600
TZOFFSETTO:-0700
TZNAME:America/Denver MST
END:STANDARD
BEGIN:STANDARD
DTSTART:20301103T010000
RDATE:20310309T030000
TZOFFSETFROM:-0600
TZOFFSETTO:-0700
TZNAME:America/Denver MST
END:STANDARD
BEGIN:STANDARD
DTSTART:20311102T010000
RDATE:20320314T030000
TZOFFSETFROM:-0600
TZOFFSETTO:-0700
TZNAME:America/Denver MST
END:STANDARD
BEGIN:DAYLIGHT
DTSTART:20141016T090000
RDATE:20141102T010000
TZOFFSETFROM:-0700
TZOFFSETTO:-0600
TZNAME:America/Denver MDT
END:DAYLIGHT
BEGIN:DAYLIGHT
DTSTART:20150308T030000
RDATE:20151101T010000
TZOFFSETFROM:-0700
TZOFFSETTO:-0600
TZNAME:America/Denver MDT
END:DAYLIGHT
BEGIN:DAYLIGHT
DTSTART:20160313T030000
RDATE:20161106T010000
TZOFFSETFROM:-0700
TZOFFSETTO:-0600
TZNAME:America/Denver MDT
END:DAYLIGHT
BEGIN:DAYLIGHT
DTSTART:20170312T030000
RDATE:20171105T010000
TZOFFSETFROM:-0700
TZOFFSETTO:-0600
TZNAME:America/Denver MDT
END:DAYLIGHT
BEGIN:DAYLIGHT
DTSTART:20180311T030000
RDATE:20181104T010000
TZOFFSETFROM:-0700
TZOFFSETTO:-0600
TZNAME:America/Denver MDT
END:DAYLIGHT
BEGIN:DAYLIGHT
DTSTART:20190310T030000
RDATE:20191103T010000
TZOFFSETFROM:-0700
TZOFFSETTO:-0600
TZNAME:America/Denver MDT
END:DAYLIGHT
BEGIN:DAYLIGHT
DTSTART:20200308T030000
RDATE:20201101T010000
TZOFFSETFROM:-0700
TZOFFSETTO:-0600
TZNAME:America/Denver MDT
END:DAYLIGHT
BEGIN:DAYLIGHT
DTSTART:20210314T030000
RDATE:20211107T010000
TZOFFSETFROM:-0700
TZOFFSETTO:-0600
TZNAME:America/Denver MDT
END:DAYLIGHT
BEGIN:DAYLIGHT
DTSTART:20220313T030000
RDATE:20221106T010000
TZOFFSETFROM:-0700
TZOFFSETTO:-0600
TZNAME:America/Denver MDT
END:DAYLIGHT
BEGIN:DAYLIGHT
DTSTART:20230312T030000
RDATE:20231105T010000
TZOFFSETFROM:-0700
TZOFFSETTO:-0600
TZNAME:America/Denver MDT
END:DAYLIGHT
BEGIN:DAYLIGHT
DTSTART:20240310T030000
RDATE:20241103T010000
TZOFFSETFROM:-0700
TZOFFSETTO:-0600
TZNAME:America/Denver MDT
END:DAYLIGHT
BEGIN:DAYLIGHT
DTSTART:20250309T030000
RDATE:20251102T010000
TZOFFSETFROM:-0700
TZOFFSETTO:-0600
TZNAME:America/Denver MDT
END:DAYLIGHT
BEGIN:DAYLIGHT
DTSTART:20260308T030000
RDATE:20261101T010000
TZOFFSETFROM:-0700
TZOFFSETTO:-0600
TZNAME:America/Denver MDT
END:DAYLIGHT
BEGIN:DAYLIGHT
DTSTART:20270314T030000
RDATE:20271107T010000
TZOFFSETFROM:-0700
TZOFFSETTO:-0600
TZNAME:America/Denver MDT
END:DAYLIGHT
BEGIN:DAYLIGHT
DTSTART:20280312T030000
RDATE:20281105T010000
TZOFFSETFROM:-0700
TZOFFSETTO:-0600
TZNAME:America/Denver MDT
END:DAYLIGHT
BEGIN:DAYLIGHT
DTSTART:20290311T030000
RDATE:20291104T010000
TZOFFSETFROM:-0700
TZOFFSETTO:-0600
TZNAME:America/Denver MDT
END:DAYLIGHT
BEGIN:DAYLIGHT
DTSTART:20300310T030000
RDATE:20301103T010000
TZOFFSETFROM:-0700
TZOFFSETTO:-0600
TZNAME:America/Denver MDT
END:DAYLIGHT
BEGIN:DAYLIGHT
DTSTART:20310309T030000
RDATE:20311102T010000
TZOFFSETFROM:-0700
TZOFFSETTO:-0600
TZNAME:America/Denver MDT
END:DAYLIGHT
END:VTIMEZONE
BEGIN:VEVENT
UID:d5c577ad1ae6f2d6e000a70f5d562432
CATEGORIES:Community Events
CREATED:20150411T202527
SUMMARY:Rocky Mountain Literary Festival: A Celebration of Authors, Readers, and Books
LOCATION:Mount Vernon Country Club, 24933 Clubhouse Circle, Golden, CO  80401
DESCRIPTION;ENCODING=QUOTED-PRINTABLE:<p><span style="text-decoration: none; font-style: normal; font-weight: 400
 ; color: #000000;"><span style="text-decoration: none; font-style: normal; 
 font-weight: 400; color: #000000;"><span style="text-decoration: none; font
 -style: normal; font-weight: 400; color: #000000;"><span style="text-decora
 tion: none; font-style: normal; font-weight: 400; color: #000000;"><span st
 yle="text-decoration: none; font-style: normal; font-weight: 400; color: #0
 00000;"><span style="text-decoration: none; font-style: normal; font-weight
 : 400; color: #415161;"><span style="text-decoration: none; font-style: nor
 mal; font-weight: 400; color: #415161;"><span style="text-decoration: none;
  font-style: normal; font-weight: 400; color: #415161;"><span style="text-d
 ecoration: none; font-style: normal; font-weight: 400; color: #415161;"><sp
 an style="text-decoration: none; font-style: normal; font-weight: 400; colo
 r: #415161;"><span style="text-decoration: none; font-style: normal; font-w
 eight: 400; color: #415161;"><span style="text-decoration: none; font-style
 : normal; font-weight: 400; color: #415161;"><span style="text-decoration: 
 none; font-style: normal; font-weight: 400; color: #415161;"><span style="t
 ext-decoration: none; font-style: normal; font-weight: 400; color: #415161;
 "><span style="text-decoration: none; font-style: normal; font-weight: 400;
  color: #415161;"><span style="text-decoration: none; font-style: normal; f
 ont-weight: 400; color: #415161;"><span style="text-decoration: none; font-
 style: normal; font-weight: 400; color: #415161;"><span style="text-decorat
 ion: none; font-style: normal; font-weight: 400; color: #415161;"><span sty
 le="text-decoration: none; font-style: normal; font-weight: 400; color: #41
 5161;"><span style="text-decoration: none; font-style: normal; font-weight:
  400; color: #415161;"><span style="text-decoration: none; font-style: norm
 al; font-weight: 400; color: #415161;"><span style="color: #3f3f3f;"><span 
 style="font-size: small;">The Rocky Mountain Literary Festival is the gathe
 ring of authors, readers, and books to celebrate the importance of literatu
 re in our culture and education. A passion for reading, the love of literat
 ure, and a sense of community has inspired a group of mountain-area residen
 ts to launch this endeavor. Evergreen has long supported artists in many di
 fferent categories such as fine art, music and theatre. Now with the foundi
 ng of this new event, the art of the written word will be highlighted.</spa
 n></span></span></span></span></span></span></span></span></span></span></s
 pan></span></span></span></span></span></span></span></span></span></span><
 /span></p><p><span style="color: #3f3f3f;">The Festival will be an opportun
 ity for readers and authors to share literary experiences in a small and in
 timate setting. With a day-long gathering at Mt. Vernon Country Club, the s
 elected authors will share their journey of research, writing, and publishi
 ng. Readers will gain a sense of personal acquaintance with the writers whi
 le hearing about the experiences that inspired their books. </span></p><p><
 span style="color: #3f3f3f;">The setting at Mt. Vernon Country Club assures
  beautiful views and a welcoming environment for good conversation. Lunch w
 ill be served and beverages will be available for purchase throughout the d
 ay. Book sales will be ongoing with a casual book signing near the end of t
 he day. The fact the event's proceeds will support scholarships for local y
 oung adults is an appropriate and exciting benefit.</span></p>
CONTACT:This email address is being protected from spambots. You need JavaScript enabled to view it.
				document.getElementById('cloakc0bbbc7e731b7217546aa18624a71476').innerHTML = '';
				var prefix = '&#109;a' + 'i&#108;' + '&#116;o';
				var path = 'hr' + 'ef' + '=';
				var addyc0bbbc7e731b7217546aa18624a71476 = 'R&#111;ckyM&#111;&#117;nt&#97;&#105;nL&#105;t&#101;r&#97;ryF&#101;st&#105;v&#97;l' + '&#64;';
				addyc0bbbc7e731b7217546aa18624a71476 = addyc0bbbc7e731b7217546aa18624a71476 + 'gm&#97;&#105;l' + '&#46;' + 'c&#111;m';
				var addy_textc0bbbc7e731b7217546aa18624a71476 = 'R&#111;ckyM&#111;&#117;nt&#97;&#105;nL&#105;t&#101;r&#97;ryF&#101;st&#105;v&#97;l' + '&#64;' + 'gm&#97;&#105;l' + '&#46;' + 'c&#111;m';document.getElementById('cloakc0bbbc7e731b7217546aa18624a71476').innerHTML += ''+addy_textc0bbbc7e731b7217546aa18624a71476+'';
		
X-EXTRAINFO:http://www.rockymountainliteraryfestival.org/
DTSTAMP:20260419T155940Z
DTSTART;TZID=America/Denver:20151017T090000
DTEND;TZID=America/Denver:20151017T150000
SEQUENCE:0
TRANSP:OPAQUE
END:VEVENT
END:VCALENDAR