BEGIN:VCALENDAR
VERSION:2.0
PRODID:-//jEvents 2.0 for Joomla//EN
CALSCALE:GREGORIAN
METHOD:PUBLISH
BEGIN:VTIMEZONE
TZID:America/Denver
BEGIN:STANDARD
DTSTART:20141102T010000
RDATE:20150308T030000
TZOFFSETFROM:-0600
TZOFFSETTO:-0700
TZNAME:America/Denver MST
END:STANDARD
BEGIN:STANDARD
DTSTART:20151101T010000
RDATE:20160313T030000
TZOFFSETFROM:-0600
TZOFFSETTO:-0700
TZNAME:America/Denver MST
END:STANDARD
BEGIN:STANDARD
DTSTART:20161106T010000
RDATE:20170312T030000
TZOFFSETFROM:-0600
TZOFFSETTO:-0700
TZNAME:America/Denver MST
END:STANDARD
BEGIN:STANDARD
DTSTART:20171105T010000
RDATE:20180311T030000
TZOFFSETFROM:-0600
TZOFFSETTO:-0700
TZNAME:America/Denver MST
END:STANDARD
BEGIN:STANDARD
DTSTART:20181104T010000
RDATE:20190310T030000
TZOFFSETFROM:-0600
TZOFFSETTO:-0700
TZNAME:America/Denver MST
END:STANDARD
BEGIN:STANDARD
DTSTART:20191103T010000
RDATE:20200308T030000
TZOFFSETFROM:-0600
TZOFFSETTO:-0700
TZNAME:America/Denver MST
END:STANDARD
BEGIN:STANDARD
DTSTART:20201101T010000
RDATE:20210314T030000
TZOFFSETFROM:-0600
TZOFFSETTO:-0700
TZNAME:America/Denver MST
END:STANDARD
BEGIN:STANDARD
DTSTART:20211107T010000
RDATE:20220313T030000
TZOFFSETFROM:-0600
TZOFFSETTO:-0700
TZNAME:America/Denver MST
END:STANDARD
BEGIN:STANDARD
DTSTART:20221106T010000
RDATE:20230312T030000
TZOFFSETFROM:-0600
TZOFFSETTO:-0700
TZNAME:America/Denver MST
END:STANDARD
BEGIN:STANDARD
DTSTART:20231105T010000
RDATE:20240310T030000
TZOFFSETFROM:-0600
TZOFFSETTO:-0700
TZNAME:America/Denver MST
END:STANDARD
BEGIN:STANDARD
DTSTART:20241103T010000
RDATE:20250309T030000
TZOFFSETFROM:-0600
TZOFFSETTO:-0700
TZNAME:America/Denver MST
END:STANDARD
BEGIN:STANDARD
DTSTART:20251102T010000
RDATE:20260308T030000
TZOFFSETFROM:-0600
TZOFFSETTO:-0700
TZNAME:America/Denver MST
END:STANDARD
BEGIN:STANDARD
DTSTART:20261101T010000
RDATE:20270314T030000
TZOFFSETFROM:-0600
TZOFFSETTO:-0700
TZNAME:America/Denver MST
END:STANDARD
BEGIN:STANDARD
DTSTART:20271107T010000
RDATE:20280312T030000
TZOFFSETFROM:-0600
TZOFFSETTO:-0700
TZNAME:America/Denver MST
END:STANDARD
BEGIN:STANDARD
DTSTART:20281105T010000
RDATE:20290311T030000
TZOFFSETFROM:-0600
TZOFFSETTO:-0700
TZNAME:America/Denver MST
END:STANDARD
BEGIN:STANDARD
DTSTART:20291104T010000
RDATE:20300310T030000
TZOFFSETFROM:-0600
TZOFFSETTO:-0700
TZNAME:America/Denver MST
END:STANDARD
BEGIN:STANDARD
DTSTART:20301103T010000
RDATE:20310309T030000
TZOFFSETFROM:-0600
TZOFFSETTO:-0700
TZNAME:America/Denver MST
END:STANDARD
BEGIN:STANDARD
DTSTART:20311102T010000
RDATE:20320314T030000
TZOFFSETFROM:-0600
TZOFFSETTO:-0700
TZNAME:America/Denver MST
END:STANDARD
BEGIN:DAYLIGHT
DTSTART:20140908T183000
RDATE:20141102T010000
TZOFFSETFROM:-0700
TZOFFSETTO:-0600
TZNAME:America/Denver MDT
END:DAYLIGHT
BEGIN:DAYLIGHT
DTSTART:20150308T030000
RDATE:20151101T010000
TZOFFSETFROM:-0700
TZOFFSETTO:-0600
TZNAME:America/Denver MDT
END:DAYLIGHT
BEGIN:DAYLIGHT
DTSTART:20160313T030000
RDATE:20161106T010000
TZOFFSETFROM:-0700
TZOFFSETTO:-0600
TZNAME:America/Denver MDT
END:DAYLIGHT
BEGIN:DAYLIGHT
DTSTART:20170312T030000
RDATE:20171105T010000
TZOFFSETFROM:-0700
TZOFFSETTO:-0600
TZNAME:America/Denver MDT
END:DAYLIGHT
BEGIN:DAYLIGHT
DTSTART:20180311T030000
RDATE:20181104T010000
TZOFFSETFROM:-0700
TZOFFSETTO:-0600
TZNAME:America/Denver MDT
END:DAYLIGHT
BEGIN:DAYLIGHT
DTSTART:20190310T030000
RDATE:20191103T010000
TZOFFSETFROM:-0700
TZOFFSETTO:-0600
TZNAME:America/Denver MDT
END:DAYLIGHT
BEGIN:DAYLIGHT
DTSTART:20200308T030000
RDATE:20201101T010000
TZOFFSETFROM:-0700
TZOFFSETTO:-0600
TZNAME:America/Denver MDT
END:DAYLIGHT
BEGIN:DAYLIGHT
DTSTART:20210314T030000
RDATE:20211107T010000
TZOFFSETFROM:-0700
TZOFFSETTO:-0600
TZNAME:America/Denver MDT
END:DAYLIGHT
BEGIN:DAYLIGHT
DTSTART:20220313T030000
RDATE:20221106T010000
TZOFFSETFROM:-0700
TZOFFSETTO:-0600
TZNAME:America/Denver MDT
END:DAYLIGHT
BEGIN:DAYLIGHT
DTSTART:20230312T030000
RDATE:20231105T010000
TZOFFSETFROM:-0700
TZOFFSETTO:-0600
TZNAME:America/Denver MDT
END:DAYLIGHT
BEGIN:DAYLIGHT
DTSTART:20240310T030000
RDATE:20241103T010000
TZOFFSETFROM:-0700
TZOFFSETTO:-0600
TZNAME:America/Denver MDT
END:DAYLIGHT
BEGIN:DAYLIGHT
DTSTART:20250309T030000
RDATE:20251102T010000
TZOFFSETFROM:-0700
TZOFFSETTO:-0600
TZNAME:America/Denver MDT
END:DAYLIGHT
BEGIN:DAYLIGHT
DTSTART:20260308T030000
RDATE:20261101T010000
TZOFFSETFROM:-0700
TZOFFSETTO:-0600
TZNAME:America/Denver MDT
END:DAYLIGHT
BEGIN:DAYLIGHT
DTSTART:20270314T030000
RDATE:20271107T010000
TZOFFSETFROM:-0700
TZOFFSETTO:-0600
TZNAME:America/Denver MDT
END:DAYLIGHT
BEGIN:DAYLIGHT
DTSTART:20280312T030000
RDATE:20281105T010000
TZOFFSETFROM:-0700
TZOFFSETTO:-0600
TZNAME:America/Denver MDT
END:DAYLIGHT
BEGIN:DAYLIGHT
DTSTART:20290311T030000
RDATE:20291104T010000
TZOFFSETFROM:-0700
TZOFFSETTO:-0600
TZNAME:America/Denver MDT
END:DAYLIGHT
BEGIN:DAYLIGHT
DTSTART:20300310T030000
RDATE:20301103T010000
TZOFFSETFROM:-0700
TZOFFSETTO:-0600
TZNAME:America/Denver MDT
END:DAYLIGHT
BEGIN:DAYLIGHT
DTSTART:20310309T030000
RDATE:20311102T010000
TZOFFSETFROM:-0700
TZOFFSETTO:-0600
TZNAME:America/Denver MDT
END:DAYLIGHT
END:VTIMEZONE
BEGIN:VEVENT
UID:f413538dca53da13d8a2bb0d9207ff26
CATEGORIES:Community Events
CREATED:20150810T002453
SUMMARY:A Positive Note
LOCATION:The Mezzanine 20 North Tejon Colorado Springs
DESCRIPTION;ENCODING=QUOTED-PRINTABLE:<div><p style="text-align: center; line-height: 13.5pt;" align="center"><sp
 an style="font-size: x-large;"><strong><span style="font-family: 'Verdana',
 sans-serif; color: black;"><span style="color: #ff0000;">T</span><span styl
 e="color: #339966;">R</span><span style="color: #0000ff;">U</span><span sty
 le="color: #ff6600;">E</span> <span style="color: #800080;">C</span>O<span 
 style="color: #cc99ff;">L</span><span style="color: #000080;">O</span><span
  style="color: #00ffff;">R</span><span style="color: #f00e2e;">S</span></sp
 an></strong></span></p><p style="text-align: center; line-height: 13.5pt;" 
 align="center"><span style="font-size: medium; font-family: 'Verdana',sans-
 serif; color: black;">A Program of the Colorado Springs Conservatory</span>
 </p><p style="text-align: center; line-height: 13.5pt;" align="center"><str
 ong><span style="font-size: small; font-family: 'Verdana',sans-serif; color
 : black;">Wednesday, September 9   6:30 pm  </span></strong></p><p style="t
 ext-align: center;"><strong><span style="font-size: small; font-family: 'Ve
 rdana',sans-serif; color: black;">The Mezzanine</span></strong></p><p style
 ="text-align: center;"><span style="font-size: small; font-family: 'Verdana
 ',sans-serif; color: black;">20 North Tejon  </span></p><p style="text-alig
 n: center; line-height: 13.5pt;" align="center"><span style="font-size: sma
 ll; font-family: 'Verdana',sans-serif; color: black;">The program will feat
 ure </span><span style="font-size: small; font-family: 'Verdana',sans-serif
 ; color: black;"><strong><span style="font-family: 'Verdana',sans-serif;">J
 ordy and the Positive</span><span style="font-family: 'Verdana',sans-serif;
 "> Notes</span> </strong>with special performances by students of<strong>  
     <span style="font-family: 'Verdana',sans-serif;">A Positive Note.  </sp
 an></strong></span></p><p style="text-align: center; line-height: 13.5pt;" 
 align="center"><span style="font-size: small;"><span style="font-family: 'V
 erdana',sans-serif; color: black;">Tickets are $25 and available at </span>
 <a href="http://www.coloradospringsconservatory.org/the-resource-exchange-a
 nd-the-conservatory-collaborate-casting-a-spotlight-on-a-positive-note/" ta
 rget="_blank"><strong><span style="font-family: 'Verdana',sans-serif;">csco
 nservatory.org</span></strong></a></span></p><p style="text-align: center; 
 line-height: 13.5pt;" align="center"><span style="font-size: small;"><span 
 style="font-family: 'Verdana',sans-serif; color: black;">Proceeds will bene
 fit </span></span><span style="font-size: small;"><span style="font-family:
  'Verdana',sans-serif; color: black;">A Positive Note and TRE</span></span>
 </p><p style="text-align: center; line-height: 13.5pt;" align="center"><spa
 n style="font-size: small;"><span style="font-family: 'Verdana',sans-serif;
  color: black;">For more information: </span></span></p><p style="text-alig
 n: center; line-height: 13.5pt;" align="center"><span style="font-size: sma
 ll;"><span style="font-family: 'Verdana',sans-serif; color: black;">Garry B
 utcher 418-4913 or gbutcher<span id="cloakd723c5440537574e6e4edfba5b4ea4af"
 >This email address is being protected from spambots. You need JavaScript e
 nabled to view it.</span><script type='text/javascript'>
				document.getEl
 ementById('cloakd723c5440537574e6e4edfba5b4ea4af').innerHTML = '';
				var 
 prefix = '&#109;a' + 'i&#108;' + '&#116;o';
				var path = 'hr' + 'ef' + '=
 ';
				var addyd723c5440537574e6e4edfba5b4ea4af = 'bby&#101;r' + '&#64;';
	
 			addyd723c5440537574e6e4edfba5b4ea4af = addyd723c5440537574e6e4edfba5b4ea
 4af + 'tr&#101;' + '&#46;' + '&#111;rg';
				var addy_textd723c5440537574e6
 e4edfba5b4ea4af = '@tr&#101;.&#111;rg';document.getElementById('cloakd723c5
 440537574e6e4edfba5b4ea4af').innerHTML += '<a ' + path + '\'' + prefix + ':
 ' + addyd723c5440537574e6e4edfba5b4ea4af + '\'>'+addy_textd723c5440537574e6
 e4edfba5b4ea4af+'<\/a>';
		</script></span></span></p></div>
X-EXTRAINFO:http://www.tre.org/events/60-a_positive_note
DTSTAMP:20260419T094846Z
DTSTART;TZID=America/Denver:20150909T183000
DTEND;TZID=America/Denver:20150909T203000
SEQUENCE:0
TRANSP:OPAQUE
END:VEVENT
END:VCALENDAR