BEGIN:VCALENDAR
VERSION:2.0
PRODID:-//jEvents 2.0 for Joomla//EN
CALSCALE:GREGORIAN
METHOD:PUBLISH
BEGIN:VTIMEZONE
TZID:America/Denver
BEGIN:STANDARD
DTSTART:20141102T010000
RDATE:20150308T030000
TZOFFSETFROM:-0600
TZOFFSETTO:-0700
TZNAME:America/Denver MST
END:STANDARD
BEGIN:STANDARD
DTSTART:20151101T010000
RDATE:20160313T030000
TZOFFSETFROM:-0600
TZOFFSETTO:-0700
TZNAME:America/Denver MST
END:STANDARD
BEGIN:STANDARD
DTSTART:20161106T010000
RDATE:20170312T030000
TZOFFSETFROM:-0600
TZOFFSETTO:-0700
TZNAME:America/Denver MST
END:STANDARD
BEGIN:STANDARD
DTSTART:20171105T010000
RDATE:20180311T030000
TZOFFSETFROM:-0600
TZOFFSETTO:-0700
TZNAME:America/Denver MST
END:STANDARD
BEGIN:STANDARD
DTSTART:20181104T010000
RDATE:20190310T030000
TZOFFSETFROM:-0600
TZOFFSETTO:-0700
TZNAME:America/Denver MST
END:STANDARD
BEGIN:STANDARD
DTSTART:20191103T010000
RDATE:20200308T030000
TZOFFSETFROM:-0600
TZOFFSETTO:-0700
TZNAME:America/Denver MST
END:STANDARD
BEGIN:STANDARD
DTSTART:20201101T010000
RDATE:20210314T030000
TZOFFSETFROM:-0600
TZOFFSETTO:-0700
TZNAME:America/Denver MST
END:STANDARD
BEGIN:STANDARD
DTSTART:20211107T010000
RDATE:20220313T030000
TZOFFSETFROM:-0600
TZOFFSETTO:-0700
TZNAME:America/Denver MST
END:STANDARD
BEGIN:STANDARD
DTSTART:20221106T010000
RDATE:20230312T030000
TZOFFSETFROM:-0600
TZOFFSETTO:-0700
TZNAME:America/Denver MST
END:STANDARD
BEGIN:STANDARD
DTSTART:20231105T010000
RDATE:20240310T030000
TZOFFSETFROM:-0600
TZOFFSETTO:-0700
TZNAME:America/Denver MST
END:STANDARD
BEGIN:STANDARD
DTSTART:20241103T010000
RDATE:20250309T030000
TZOFFSETFROM:-0600
TZOFFSETTO:-0700
TZNAME:America/Denver MST
END:STANDARD
BEGIN:STANDARD
DTSTART:20251102T010000
RDATE:20260308T030000
TZOFFSETFROM:-0600
TZOFFSETTO:-0700
TZNAME:America/Denver MST
END:STANDARD
BEGIN:STANDARD
DTSTART:20261101T010000
RDATE:20270314T030000
TZOFFSETFROM:-0600
TZOFFSETTO:-0700
TZNAME:America/Denver MST
END:STANDARD
BEGIN:STANDARD
DTSTART:20271107T010000
RDATE:20280312T030000
TZOFFSETFROM:-0600
TZOFFSETTO:-0700
TZNAME:America/Denver MST
END:STANDARD
BEGIN:STANDARD
DTSTART:20281105T010000
RDATE:20290311T030000
TZOFFSETFROM:-0600
TZOFFSETTO:-0700
TZNAME:America/Denver MST
END:STANDARD
BEGIN:STANDARD
DTSTART:20291104T010000
RDATE:20300310T030000
TZOFFSETFROM:-0600
TZOFFSETTO:-0700
TZNAME:America/Denver MST
END:STANDARD
BEGIN:STANDARD
DTSTART:20301103T010000
RDATE:20310309T030000
TZOFFSETFROM:-0600
TZOFFSETTO:-0700
TZNAME:America/Denver MST
END:STANDARD
BEGIN:STANDARD
DTSTART:20311102T010000
RDATE:20320314T030000
TZOFFSETFROM:-0600
TZOFFSETTO:-0700
TZNAME:America/Denver MST
END:STANDARD
BEGIN:DAYLIGHT
DTSTART:20140902T100000
RDATE:20141102T010000
TZOFFSETFROM:-0700
TZOFFSETTO:-0600
TZNAME:America/Denver MDT
END:DAYLIGHT
BEGIN:DAYLIGHT
DTSTART:20150308T030000
RDATE:20151101T010000
TZOFFSETFROM:-0700
TZOFFSETTO:-0600
TZNAME:America/Denver MDT
END:DAYLIGHT
BEGIN:DAYLIGHT
DTSTART:20160313T030000
RDATE:20161106T010000
TZOFFSETFROM:-0700
TZOFFSETTO:-0600
TZNAME:America/Denver MDT
END:DAYLIGHT
BEGIN:DAYLIGHT
DTSTART:20170312T030000
RDATE:20171105T010000
TZOFFSETFROM:-0700
TZOFFSETTO:-0600
TZNAME:America/Denver MDT
END:DAYLIGHT
BEGIN:DAYLIGHT
DTSTART:20180311T030000
RDATE:20181104T010000
TZOFFSETFROM:-0700
TZOFFSETTO:-0600
TZNAME:America/Denver MDT
END:DAYLIGHT
BEGIN:DAYLIGHT
DTSTART:20190310T030000
RDATE:20191103T010000
TZOFFSETFROM:-0700
TZOFFSETTO:-0600
TZNAME:America/Denver MDT
END:DAYLIGHT
BEGIN:DAYLIGHT
DTSTART:20200308T030000
RDATE:20201101T010000
TZOFFSETFROM:-0700
TZOFFSETTO:-0600
TZNAME:America/Denver MDT
END:DAYLIGHT
BEGIN:DAYLIGHT
DTSTART:20210314T030000
RDATE:20211107T010000
TZOFFSETFROM:-0700
TZOFFSETTO:-0600
TZNAME:America/Denver MDT
END:DAYLIGHT
BEGIN:DAYLIGHT
DTSTART:20220313T030000
RDATE:20221106T010000
TZOFFSETFROM:-0700
TZOFFSETTO:-0600
TZNAME:America/Denver MDT
END:DAYLIGHT
BEGIN:DAYLIGHT
DTSTART:20230312T030000
RDATE:20231105T010000
TZOFFSETFROM:-0700
TZOFFSETTO:-0600
TZNAME:America/Denver MDT
END:DAYLIGHT
BEGIN:DAYLIGHT
DTSTART:20240310T030000
RDATE:20241103T010000
TZOFFSETFROM:-0700
TZOFFSETTO:-0600
TZNAME:America/Denver MDT
END:DAYLIGHT
BEGIN:DAYLIGHT
DTSTART:20250309T030000
RDATE:20251102T010000
TZOFFSETFROM:-0700
TZOFFSETTO:-0600
TZNAME:America/Denver MDT
END:DAYLIGHT
BEGIN:DAYLIGHT
DTSTART:20260308T030000
RDATE:20261101T010000
TZOFFSETFROM:-0700
TZOFFSETTO:-0600
TZNAME:America/Denver MDT
END:DAYLIGHT
BEGIN:DAYLIGHT
DTSTART:20270314T030000
RDATE:20271107T010000
TZOFFSETFROM:-0700
TZOFFSETTO:-0600
TZNAME:America/Denver MDT
END:DAYLIGHT
BEGIN:DAYLIGHT
DTSTART:20280312T030000
RDATE:20281105T010000
TZOFFSETFROM:-0700
TZOFFSETTO:-0600
TZNAME:America/Denver MDT
END:DAYLIGHT
BEGIN:DAYLIGHT
DTSTART:20290311T030000
RDATE:20291104T010000
TZOFFSETFROM:-0700
TZOFFSETTO:-0600
TZNAME:America/Denver MDT
END:DAYLIGHT
BEGIN:DAYLIGHT
DTSTART:20300310T030000
RDATE:20301103T010000
TZOFFSETFROM:-0700
TZOFFSETTO:-0600
TZNAME:America/Denver MDT
END:DAYLIGHT
BEGIN:DAYLIGHT
DTSTART:20310309T030000
RDATE:20311102T010000
TZOFFSETFROM:-0700
TZOFFSETTO:-0600
TZNAME:America/Denver MDT
END:DAYLIGHT
END:VTIMEZONE
BEGIN:VEVENT
UID:c9d3cbac79c2d05cad4ac20597830b4a
CATEGORIES:Kids & Family
CREATED:20150816T132345
SUMMARY:Baehrden Historic Lodge and Observatory Open House
LOCATION:Pine Valley Ranch Park  30400 Crystal Lake Road  Pine, CO 80470
DESCRIPTION;ENCODING=QUOTED-PRINTABLE:Thursday, September 3, 2015 from 10:00 AM to 1:00 PM (MDT)\nExplore a uniqu
 e time in Jefferson County by visiting the historic Baehrden Lodge and Obse
 rvatory. Built in 1927, Baehrden Lodge is a classic representation of the r
 ustic Colorado Alpine style of architecture. Unfortunately, the whole lodge
  is not yet available but you will be able to walk through and marvel at th
 e restored porch, main room, and dining room. Then you can take the steep h
 ike up to the observatory built for William Baehr in 1937. Come join us for
  a look into the history of Baehrden and Pine Valley Ranch Park.\n \nNo for
 mal tours will be offered, however, staff and volunteers will be present to
  answer questions. Stop by anytime between 10:00 am and 1:00 pm to walk aro
 und and get a closer look. \n \nProgram Details\nAll Ages\n \nNo registrati
 on is required. Please stop by anytime from 10:00 am to 1:00 pm.\n \nNo foo
 d, drink, or dogs allowed in either building.\n \nPlease park in the upper 
 parking lot and go up the stairs that are located across from the parking l
 ot. There will be a small a-frame sign pointing to the stairs. The stairs u
 p to the lodge are very steep. The trail from the parking lot to the front 
 door is approximately 350 ft with a 60 ft elevation gain. This is considere
 d a hard trail. \n \nIf you feel that you are unable to walk up the stairs 
 a ride can be arranged. If you need a ride please arrive 15 - 20 minutes ea
 rly. Let the staff member standing at the bottom of the stairs know that yo
 u will need to be driven up to the lodge. There is still a short, slightly 
 uphill walk from where you will be dropped off to the lodge. (250 ft with a
 n easy 2 - 8% grade, dirt trail). Please make sure you are still able to wa
 lk this distance or have someone with you to assist you. \nThere is a 1/3 m
 ile moderate to strenuous unpaved trail up to the observatory. You must be 
 able to hike this distance to view the observatory. We will be unable to dr
 ive participants up to the observatory. If you are unable to walk this dist
 ance, we do not recommend this part of the program due to the nature of the
  hike. The observatory is not ADA accessible. \n \nThe lodge can be quite c
 old please dress in layers. Bathrooms are located in the lower parking lot;
  there are NO BATHROOMS at the lodge or observatory.\n \nAdditional Informa
 tion\nhttp://bit.ly/BaehrdenObservatoryOpenHouse\n \n\n\n \nOffice hours ar
 e 9:00 am to 4:00 pm Tuesday-Sunday, inquiries made after 4 pm may not be a
 nswered until the following day. LMNC is closed on Mondays.\n
CONTACT:This email address is being protected from spambots. You need JavaScript enabled to view it.
				document.getElementById('cloakee5c2c19a6f8cf02edf18c90ee4deb34').innerHTML = '';
				var prefix = '&#109;a' + 'i&#108;' + '&#116;o';
				var path = 'hr' + 'ef' + '=';
				var addyee5c2c19a6f8cf02edf18c90ee4deb34 = 'lmnc' + '&#64;';
				addyee5c2c19a6f8cf02edf18c90ee4deb34 = addyee5c2c19a6f8cf02edf18c90ee4deb34 + 'j&#101;ffc&#111;' + '&#46;' + '&#117;s';
				var addy_textee5c2c19a6f8cf02edf18c90ee4deb34 = 'lmnc' + '&#64;' + 'j&#101;ffc&#111;' + '&#46;' + '&#117;s';document.getElementById('cloakee5c2c19a6f8cf02edf18c90ee4deb34').innerHTML += ''+addy_textee5c2c19a6f8cf02edf18c90ee4deb34+'';
		
DTSTAMP:20260419T061216Z
DTSTART;TZID=America/Denver:20150903T100000
DTEND;TZID=America/Denver:20150903T130000
SEQUENCE:0
TRANSP:OPAQUE
END:VEVENT
END:VCALENDAR