BEGIN:VCALENDAR
VERSION:2.0
PRODID:-//jEvents 2.0 for Joomla//EN
CALSCALE:GREGORIAN
METHOD:PUBLISH
BEGIN:VTIMEZONE
TZID:America/Denver
BEGIN:STANDARD
DTSTART:20141102T010000
RDATE:20150308T030000
TZOFFSETFROM:-0600
TZOFFSETTO:-0700
TZNAME:America/Denver MST
END:STANDARD
BEGIN:STANDARD
DTSTART:20151101T010000
RDATE:20160313T030000
TZOFFSETFROM:-0600
TZOFFSETTO:-0700
TZNAME:America/Denver MST
END:STANDARD
BEGIN:STANDARD
DTSTART:20161106T010000
RDATE:20170312T030000
TZOFFSETFROM:-0600
TZOFFSETTO:-0700
TZNAME:America/Denver MST
END:STANDARD
BEGIN:STANDARD
DTSTART:20171105T010000
RDATE:20180311T030000
TZOFFSETFROM:-0600
TZOFFSETTO:-0700
TZNAME:America/Denver MST
END:STANDARD
BEGIN:STANDARD
DTSTART:20181104T010000
RDATE:20190310T030000
TZOFFSETFROM:-0600
TZOFFSETTO:-0700
TZNAME:America/Denver MST
END:STANDARD
BEGIN:STANDARD
DTSTART:20191103T010000
RDATE:20200308T030000
TZOFFSETFROM:-0600
TZOFFSETTO:-0700
TZNAME:America/Denver MST
END:STANDARD
BEGIN:STANDARD
DTSTART:20201101T010000
RDATE:20210314T030000
TZOFFSETFROM:-0600
TZOFFSETTO:-0700
TZNAME:America/Denver MST
END:STANDARD
BEGIN:STANDARD
DTSTART:20211107T010000
RDATE:20220313T030000
TZOFFSETFROM:-0600
TZOFFSETTO:-0700
TZNAME:America/Denver MST
END:STANDARD
BEGIN:STANDARD
DTSTART:20221106T010000
RDATE:20230312T030000
TZOFFSETFROM:-0600
TZOFFSETTO:-0700
TZNAME:America/Denver MST
END:STANDARD
BEGIN:STANDARD
DTSTART:20231105T010000
RDATE:20240310T030000
TZOFFSETFROM:-0600
TZOFFSETTO:-0700
TZNAME:America/Denver MST
END:STANDARD
BEGIN:STANDARD
DTSTART:20241103T010000
RDATE:20250309T030000
TZOFFSETFROM:-0600
TZOFFSETTO:-0700
TZNAME:America/Denver MST
END:STANDARD
BEGIN:STANDARD
DTSTART:20251102T010000
RDATE:20260308T030000
TZOFFSETFROM:-0600
TZOFFSETTO:-0700
TZNAME:America/Denver MST
END:STANDARD
BEGIN:STANDARD
DTSTART:20261101T010000
RDATE:20270314T030000
TZOFFSETFROM:-0600
TZOFFSETTO:-0700
TZNAME:America/Denver MST
END:STANDARD
BEGIN:STANDARD
DTSTART:20271107T010000
RDATE:20280312T030000
TZOFFSETFROM:-0600
TZOFFSETTO:-0700
TZNAME:America/Denver MST
END:STANDARD
BEGIN:STANDARD
DTSTART:20281105T010000
RDATE:20290311T030000
TZOFFSETFROM:-0600
TZOFFSETTO:-0700
TZNAME:America/Denver MST
END:STANDARD
BEGIN:STANDARD
DTSTART:20291104T010000
RDATE:20300310T030000
TZOFFSETFROM:-0600
TZOFFSETTO:-0700
TZNAME:America/Denver MST
END:STANDARD
BEGIN:STANDARD
DTSTART:20301103T010000
RDATE:20310309T030000
TZOFFSETFROM:-0600
TZOFFSETTO:-0700
TZNAME:America/Denver MST
END:STANDARD
BEGIN:STANDARD
DTSTART:20311102T010000
RDATE:20320314T030000
TZOFFSETFROM:-0600
TZOFFSETTO:-0700
TZNAME:America/Denver MST
END:STANDARD
BEGIN:DAYLIGHT
DTSTART:20140909T101500
RDATE:20141102T010000
TZOFFSETFROM:-0700
TZOFFSETTO:-0600
TZNAME:America/Denver MDT
END:DAYLIGHT
BEGIN:DAYLIGHT
DTSTART:20150308T030000
RDATE:20151101T010000
TZOFFSETFROM:-0700
TZOFFSETTO:-0600
TZNAME:America/Denver MDT
END:DAYLIGHT
BEGIN:DAYLIGHT
DTSTART:20160313T030000
RDATE:20161106T010000
TZOFFSETFROM:-0700
TZOFFSETTO:-0600
TZNAME:America/Denver MDT
END:DAYLIGHT
BEGIN:DAYLIGHT
DTSTART:20170312T030000
RDATE:20171105T010000
TZOFFSETFROM:-0700
TZOFFSETTO:-0600
TZNAME:America/Denver MDT
END:DAYLIGHT
BEGIN:DAYLIGHT
DTSTART:20180311T030000
RDATE:20181104T010000
TZOFFSETFROM:-0700
TZOFFSETTO:-0600
TZNAME:America/Denver MDT
END:DAYLIGHT
BEGIN:DAYLIGHT
DTSTART:20190310T030000
RDATE:20191103T010000
TZOFFSETFROM:-0700
TZOFFSETTO:-0600
TZNAME:America/Denver MDT
END:DAYLIGHT
BEGIN:DAYLIGHT
DTSTART:20200308T030000
RDATE:20201101T010000
TZOFFSETFROM:-0700
TZOFFSETTO:-0600
TZNAME:America/Denver MDT
END:DAYLIGHT
BEGIN:DAYLIGHT
DTSTART:20210314T030000
RDATE:20211107T010000
TZOFFSETFROM:-0700
TZOFFSETTO:-0600
TZNAME:America/Denver MDT
END:DAYLIGHT
BEGIN:DAYLIGHT
DTSTART:20220313T030000
RDATE:20221106T010000
TZOFFSETFROM:-0700
TZOFFSETTO:-0600
TZNAME:America/Denver MDT
END:DAYLIGHT
BEGIN:DAYLIGHT
DTSTART:20230312T030000
RDATE:20231105T010000
TZOFFSETFROM:-0700
TZOFFSETTO:-0600
TZNAME:America/Denver MDT
END:DAYLIGHT
BEGIN:DAYLIGHT
DTSTART:20240310T030000
RDATE:20241103T010000
TZOFFSETFROM:-0700
TZOFFSETTO:-0600
TZNAME:America/Denver MDT
END:DAYLIGHT
BEGIN:DAYLIGHT
DTSTART:20250309T030000
RDATE:20251102T010000
TZOFFSETFROM:-0700
TZOFFSETTO:-0600
TZNAME:America/Denver MDT
END:DAYLIGHT
BEGIN:DAYLIGHT
DTSTART:20260308T030000
RDATE:20261101T010000
TZOFFSETFROM:-0700
TZOFFSETTO:-0600
TZNAME:America/Denver MDT
END:DAYLIGHT
BEGIN:DAYLIGHT
DTSTART:20270314T030000
RDATE:20271107T010000
TZOFFSETFROM:-0700
TZOFFSETTO:-0600
TZNAME:America/Denver MDT
END:DAYLIGHT
BEGIN:DAYLIGHT
DTSTART:20280312T030000
RDATE:20281105T010000
TZOFFSETFROM:-0700
TZOFFSETTO:-0600
TZNAME:America/Denver MDT
END:DAYLIGHT
BEGIN:DAYLIGHT
DTSTART:20290311T030000
RDATE:20291104T010000
TZOFFSETFROM:-0700
TZOFFSETTO:-0600
TZNAME:America/Denver MDT
END:DAYLIGHT
BEGIN:DAYLIGHT
DTSTART:20300310T030000
RDATE:20301103T010000
TZOFFSETFROM:-0700
TZOFFSETTO:-0600
TZNAME:America/Denver MDT
END:DAYLIGHT
BEGIN:DAYLIGHT
DTSTART:20310309T030000
RDATE:20311102T010000
TZOFFSETFROM:-0700
TZOFFSETTO:-0600
TZNAME:America/Denver MDT
END:DAYLIGHT
END:VTIMEZONE
BEGIN:VEVENT
UID:0d219ff2def4de46450383950dc77717
CATEGORIES:Kids & Family
CREATED:20150816T143423
SUMMARY:Preschool Nature Nuts: Coyotes
LOCATION:Lookout Mountain Nature Center  910 Colorow Road  Golden, CO 80401
DESCRIPTION;ENCODING=QUOTED-PRINTABLE:<p class="MsoNoSpacing">Wednesday, September 9, 2015 from 10:15 AM to 11:00
  AM (MDT)</p><p class="MsoNoSpacing">Wednesday, September 9, 2015 from 11:1
 5 AM to 12:00 PM (MDT)</p><p class="MsoNoSpacing">Thursday, September 10, 2
 015 from 10:15 AM to 11:00 AM (MDT)</p><p class="MsoNoSpacing">Thursday, Se
 ptember 10, 2015 from 11:15 AM to 12:00 PM (MDT)</p><p class="MsoNoSpacing"
 >Saturday, September 12, 2015 from 10:15 AM to 11:00 AM (MDT)</p><p class="
 MsoNoSpacing">Saturday, September 12, 2015 from 11:15 AM to 12:00 PM (MDT)<
 /p><p class="MsoNoSpacing"> </p><p class="MsoNoSpacing">Lookout Mountain Na
 ture Center <br /> 910 Colorow Road <br /> Golden, CO 80401</p><p class="Ms
 oNoSpacing"> </p><p class="MsoNoSpacing">Come join us for an exploration of
  our wild and wily neighbors, coyotes! Participants will hear coyote storie
 s, make a craft, listen to the language of coyote, and more.</p><p class="M
 soNoSpacing"><strong><span style="font-family: 'Calibri','sans-serif'; mso-
 ascii-theme-font: minor-latin; mso-hansi-theme-font: minor-latin; mso-bidi-
 font-family: 'Times New Roman'; mso-bidi-theme-font: minor-bidi;"> </span><
 /strong></p><p class="MsoNoSpacing"><strong><span style="font-family: 'Cali
 bri','sans-serif'; mso-ascii-theme-font: minor-latin; mso-hansi-theme-font:
  minor-latin; mso-bidi-font-family: 'Times New Roman'; mso-bidi-theme-font:
  minor-bidi;">Program details</span></strong></p><p class="MsoNoSpacing">Th
 is program is specifically designed for children<span class="apple-converte
 d-space"> </span><strong><span style="font-family: 'Calibri','sans-serif'; 
 mso-ascii-theme-font: minor-latin; mso-hansi-theme-font: minor-latin; mso-b
 idi-font-family: 'Times New Roman'; mso-bidi-theme-font: minor-bidi;">ages 
 3-5 y</span></strong><strong><span style="font-family: 'Calibri','sans-seri
 f'; mso-ascii-theme-font: minor-latin; mso-hansi-theme-font: minor-latin; m
 so-bidi-font-family: 'Times New Roman'; mso-bidi-theme-font: minor-bidi; fo
 nt-weight: normal;">ea</span></strong><strong><span style="font-family: 'Ca
 libri','sans-serif'; mso-ascii-theme-font: minor-latin; mso-hansi-theme-fon
 t: minor-latin; mso-bidi-font-family: 'Times New Roman'; mso-bidi-theme-fon
 t: minor-bidi;">rs with an adult</span></strong>.  We ask that your child h
 as reached his/her third birthday before participating in this class.</p><p
  class="MsoNoSpacing"><em><span style="font-family: 'Calibri','sans-serif';
  mso-ascii-theme-font: minor-latin; mso-hansi-theme-font: minor-latin; mso-
 bidi-font-family: 'Times New Roman'; mso-bidi-theme-font: minor-bidi; font-
 style: normal;"> </span></em></p><p class="MsoNoSpacing"><em><span style="f
 ont-family: 'Calibri','sans-serif'; mso-ascii-theme-font: minor-latin; mso-
 hansi-theme-font: minor-latin; mso-bidi-font-family: 'Times New Roman'; mso
 -bidi-theme-font: minor-bidi;">Partic</span></em><em><span style="font-fami
 ly: 'Calibri','sans-serif'; mso-ascii-theme-font: minor-latin; mso-hansi-th
 eme-font: minor-latin; mso-bidi-font-family: 'Times New Roman'; mso-bidi-th
 eme-font: minor-bidi; font-style: normal;">ipant limit: 15 preschoolers (3<
 /span></em><em><span style="font-family: 'Calibri','sans-serif'; mso-ascii-
 theme-font: minor-latin; mso-hansi-theme-font: minor-latin; mso-bidi-font-f
 amily: 'Times New Roman'; mso-bidi-theme-font: minor-bidi;">-5 y</span></em
 ><em><span style="font-family: 'Calibri','sans-serif'; mso-ascii-theme-font
 : minor-latin; mso-hansi-theme-font: minor-latin; mso-bidi-font-family: 'Ti
 mes New Roman'; mso-bidi-theme-font: minor-bidi; font-style: normal;">ea</s
 pan></em><em><span style="font-family: 'Calibri','sans-serif'; mso-ascii-th
 eme-font: minor-latin; mso-hansi-theme-font: minor-latin; mso-bidi-font-fam
 ily: 'Times New Roman'; mso-bidi-theme-font: minor-bidi;">rs old)</span></e
 m></p><p class="MsoNoSpacing"> </p><p class="MsoNoSpacing">During this prog
 ram, we will go explore just outside the nature center. Please bring a jack
 et, hat, or sunscreen as needed. </p><p class="MsoNoSpacing"><strong><span 
 style="font-family: 'Calibri','sans-serif'; mso-ascii-theme-font: minor-lat
 in; mso-hansi-theme-font: minor-latin; mso-bidi-font-family: 'Times New Rom
 an'; mso-bidi-theme-font: minor-bidi;"> </span></strong></p><p class="MsoNo
 Spacing"><strong><span style="font-family: 'Calibri','sans-serif'; mso-asci
 i-theme-font: minor-latin; mso-hansi-theme-font: minor-latin; mso-bidi-font
 -family: 'Times New Roman'; mso-bidi-theme-font: minor-bidi;">Additional In
 formation</span></strong><br /> http://bit.ly/LMNCEventbrite</p><p class="M
 soNoSpacing"><strong><span style="mso-bidi-font-size: 8.5pt; font-family: '
 Calibri','sans-serif'; mso-ascii-theme-font: minor-latin; mso-hansi-theme-f
 ont: minor-latin; mso-bidi-font-family: 'Times New Roman'; mso-bidi-theme-f
 ont: minor-bidi;"> </span></strong></p><p class="MsoNoSpacing"><strong><spa
 n style="mso-bidi-font-size: 8.5pt; font-family: 'Calibri','sans-serif'; ms
 o-ascii-theme-font: minor-latin; mso-hansi-theme-font: minor-latin; mso-bid
 i-font-family: 'Times New Roman'; mso-bidi-theme-font: minor-bidi;">Registr
 ation for this program is available one month before the date of the progra
 m.  If you are registering during this time, but space is no longer availab
 le, please call Lookout Mountain Nature Center at 720-497-7600 to be placed
  on a waiting list.</span></strong></p><p class="MsoNoSpacing"> </p><p clas
 s="MsoNoSpacing"><strong><span style="font-family: 'Calibri','sans-serif'; 
 mso-ascii-theme-font: minor-latin; mso-hansi-theme-font: minor-latin; mso-b
 idi-font-family: 'Times New Roman'; mso-bidi-theme-font: minor-bidi;">Alrea
 dy registered and need to cancel? Have questions about the program? Please 
 give us a call at 720-497-7600 or e-mail <span id="cloakba0cb93102b93e16700
 209fd07bb1233">This email address is being protected from spambots. You nee
 d JavaScript enabled to view it.</span><script type='text/javascript'>
				
 document.getElementById('cloakba0cb93102b93e16700209fd07bb1233').innerHTML 
 = '';
				var prefix = '&#109;a' + 'i&#108;' + '&#116;o';
				var path = 'h
 r' + 'ef' + '=';
				var addyba0cb93102b93e16700209fd07bb1233 = 'lmnc' + '&
 #64;';
				addyba0cb93102b93e16700209fd07bb1233 = addyba0cb93102b93e1670020
 9fd07bb1233 + 'j&#101;ffc&#111;' + '&#46;' + '&#117;s';
				var addy_textba
 0cb93102b93e16700209fd07bb1233 = 'lmnc' + '&#64;' + 'j&#101;ffc&#111;' + '&
 #46;' + '&#117;s';document.getElementById('cloakba0cb93102b93e16700209fd07b
 b1233').innerHTML += '<a ' + path + '\'' + prefix + ':' + addyba0cb93102b93
 e16700209fd07bb1233 + '\'>'+addy_textba0cb93102b93e16700209fd07bb1233+'<\/a
 >';
		</script> to let us know! Please include the program title.</span></s
 trong></p><p class="MsoNoSpacing"> </p><p> </p><p class="MsoNoSpacing"><str
 ong><span style="font-family: 'Calibri','sans-serif'; mso-ascii-theme-font:
  minor-latin; mso-hansi-theme-font: minor-latin; mso-bidi-font-family: 'Tim
 es New Roman'; mso-bidi-theme-font: minor-bidi;">Office hours are 9:00 am t
 o 4:00 pm Tuesday-Sunday, inquiries made after 4 pm may not be answered unt
 il the following day. LMNC is closed on Mondays.</span></strong></p>
CONTACT:This email address is being protected from spambots. You need JavaScript enabled to view it.
				document.getElementById('cloak324ed536027795c011561f801c835400').innerHTML = '';
				var prefix = '&#109;a' + 'i&#108;' + '&#116;o';
				var path = 'hr' + 'ef' + '=';
				var addy324ed536027795c011561f801c835400 = 'lmnc' + '&#64;';
				addy324ed536027795c011561f801c835400 = addy324ed536027795c011561f801c835400 + 'j&#101;ffc&#111;' + '&#46;' + '&#117;s';
				var addy_text324ed536027795c011561f801c835400 = 'lmnc' + '&#64;' + 'j&#101;ffc&#111;' + '&#46;' + '&#117;s';document.getElementById('cloak324ed536027795c011561f801c835400').innerHTML += ''+addy_text324ed536027795c011561f801c835400+'';
		
DTSTAMP:20260419T090526Z
DTSTART;TZID=America/Denver:20150910T101500
DTEND;TZID=America/Denver:20150910T110000
SEQUENCE:0
TRANSP:OPAQUE
END:VEVENT
END:VCALENDAR