BEGIN:VCALENDAR
VERSION:2.0
PRODID:-//jEvents 2.0 for Joomla//EN
CALSCALE:GREGORIAN
METHOD:PUBLISH
BEGIN:VTIMEZONE
TZID:America/Denver
BEGIN:STANDARD
DTSTART:20141102T010000
RDATE:20150308T030000
TZOFFSETFROM:-0600
TZOFFSETTO:-0700
TZNAME:America/Denver MST
END:STANDARD
BEGIN:STANDARD
DTSTART:20151101T010000
RDATE:20160313T030000
TZOFFSETFROM:-0600
TZOFFSETTO:-0700
TZNAME:America/Denver MST
END:STANDARD
BEGIN:STANDARD
DTSTART:20161106T010000
RDATE:20170312T030000
TZOFFSETFROM:-0600
TZOFFSETTO:-0700
TZNAME:America/Denver MST
END:STANDARD
BEGIN:STANDARD
DTSTART:20171105T010000
RDATE:20180311T030000
TZOFFSETFROM:-0600
TZOFFSETTO:-0700
TZNAME:America/Denver MST
END:STANDARD
BEGIN:STANDARD
DTSTART:20181104T010000
RDATE:20190310T030000
TZOFFSETFROM:-0600
TZOFFSETTO:-0700
TZNAME:America/Denver MST
END:STANDARD
BEGIN:STANDARD
DTSTART:20191103T010000
RDATE:20200308T030000
TZOFFSETFROM:-0600
TZOFFSETTO:-0700
TZNAME:America/Denver MST
END:STANDARD
BEGIN:STANDARD
DTSTART:20201101T010000
RDATE:20210314T030000
TZOFFSETFROM:-0600
TZOFFSETTO:-0700
TZNAME:America/Denver MST
END:STANDARD
BEGIN:STANDARD
DTSTART:20211107T010000
RDATE:20220313T030000
TZOFFSETFROM:-0600
TZOFFSETTO:-0700
TZNAME:America/Denver MST
END:STANDARD
BEGIN:STANDARD
DTSTART:20221106T010000
RDATE:20230312T030000
TZOFFSETFROM:-0600
TZOFFSETTO:-0700
TZNAME:America/Denver MST
END:STANDARD
BEGIN:STANDARD
DTSTART:20231105T010000
RDATE:20240310T030000
TZOFFSETFROM:-0600
TZOFFSETTO:-0700
TZNAME:America/Denver MST
END:STANDARD
BEGIN:STANDARD
DTSTART:20241103T010000
RDATE:20250309T030000
TZOFFSETFROM:-0600
TZOFFSETTO:-0700
TZNAME:America/Denver MST
END:STANDARD
BEGIN:STANDARD
DTSTART:20251102T010000
RDATE:20260308T030000
TZOFFSETFROM:-0600
TZOFFSETTO:-0700
TZNAME:America/Denver MST
END:STANDARD
BEGIN:STANDARD
DTSTART:20261101T010000
RDATE:20270314T030000
TZOFFSETFROM:-0600
TZOFFSETTO:-0700
TZNAME:America/Denver MST
END:STANDARD
BEGIN:STANDARD
DTSTART:20271107T010000
RDATE:20280312T030000
TZOFFSETFROM:-0600
TZOFFSETTO:-0700
TZNAME:America/Denver MST
END:STANDARD
BEGIN:STANDARD
DTSTART:20281105T010000
RDATE:20290311T030000
TZOFFSETFROM:-0600
TZOFFSETTO:-0700
TZNAME:America/Denver MST
END:STANDARD
BEGIN:STANDARD
DTSTART:20291104T010000
RDATE:20300310T030000
TZOFFSETFROM:-0600
TZOFFSETTO:-0700
TZNAME:America/Denver MST
END:STANDARD
BEGIN:STANDARD
DTSTART:20301103T010000
RDATE:20310309T030000
TZOFFSETFROM:-0600
TZOFFSETTO:-0700
TZNAME:America/Denver MST
END:STANDARD
BEGIN:STANDARD
DTSTART:20311102T010000
RDATE:20320314T030000
TZOFFSETFROM:-0600
TZOFFSETTO:-0700
TZNAME:America/Denver MST
END:STANDARD
BEGIN:DAYLIGHT
DTSTART:20140911T111500
RDATE:20141102T010000
TZOFFSETFROM:-0700
TZOFFSETTO:-0600
TZNAME:America/Denver MDT
END:DAYLIGHT
BEGIN:DAYLIGHT
DTSTART:20150308T030000
RDATE:20151101T010000
TZOFFSETFROM:-0700
TZOFFSETTO:-0600
TZNAME:America/Denver MDT
END:DAYLIGHT
BEGIN:DAYLIGHT
DTSTART:20160313T030000
RDATE:20161106T010000
TZOFFSETFROM:-0700
TZOFFSETTO:-0600
TZNAME:America/Denver MDT
END:DAYLIGHT
BEGIN:DAYLIGHT
DTSTART:20170312T030000
RDATE:20171105T010000
TZOFFSETFROM:-0700
TZOFFSETTO:-0600
TZNAME:America/Denver MDT
END:DAYLIGHT
BEGIN:DAYLIGHT
DTSTART:20180311T030000
RDATE:20181104T010000
TZOFFSETFROM:-0700
TZOFFSETTO:-0600
TZNAME:America/Denver MDT
END:DAYLIGHT
BEGIN:DAYLIGHT
DTSTART:20190310T030000
RDATE:20191103T010000
TZOFFSETFROM:-0700
TZOFFSETTO:-0600
TZNAME:America/Denver MDT
END:DAYLIGHT
BEGIN:DAYLIGHT
DTSTART:20200308T030000
RDATE:20201101T010000
TZOFFSETFROM:-0700
TZOFFSETTO:-0600
TZNAME:America/Denver MDT
END:DAYLIGHT
BEGIN:DAYLIGHT
DTSTART:20210314T030000
RDATE:20211107T010000
TZOFFSETFROM:-0700
TZOFFSETTO:-0600
TZNAME:America/Denver MDT
END:DAYLIGHT
BEGIN:DAYLIGHT
DTSTART:20220313T030000
RDATE:20221106T010000
TZOFFSETFROM:-0700
TZOFFSETTO:-0600
TZNAME:America/Denver MDT
END:DAYLIGHT
BEGIN:DAYLIGHT
DTSTART:20230312T030000
RDATE:20231105T010000
TZOFFSETFROM:-0700
TZOFFSETTO:-0600
TZNAME:America/Denver MDT
END:DAYLIGHT
BEGIN:DAYLIGHT
DTSTART:20240310T030000
RDATE:20241103T010000
TZOFFSETFROM:-0700
TZOFFSETTO:-0600
TZNAME:America/Denver MDT
END:DAYLIGHT
BEGIN:DAYLIGHT
DTSTART:20250309T030000
RDATE:20251102T010000
TZOFFSETFROM:-0700
TZOFFSETTO:-0600
TZNAME:America/Denver MDT
END:DAYLIGHT
BEGIN:DAYLIGHT
DTSTART:20260308T030000
RDATE:20261101T010000
TZOFFSETFROM:-0700
TZOFFSETTO:-0600
TZNAME:America/Denver MDT
END:DAYLIGHT
BEGIN:DAYLIGHT
DTSTART:20270314T030000
RDATE:20271107T010000
TZOFFSETFROM:-0700
TZOFFSETTO:-0600
TZNAME:America/Denver MDT
END:DAYLIGHT
BEGIN:DAYLIGHT
DTSTART:20280312T030000
RDATE:20281105T010000
TZOFFSETFROM:-0700
TZOFFSETTO:-0600
TZNAME:America/Denver MDT
END:DAYLIGHT
BEGIN:DAYLIGHT
DTSTART:20290311T030000
RDATE:20291104T010000
TZOFFSETFROM:-0700
TZOFFSETTO:-0600
TZNAME:America/Denver MDT
END:DAYLIGHT
BEGIN:DAYLIGHT
DTSTART:20300310T030000
RDATE:20301103T010000
TZOFFSETFROM:-0700
TZOFFSETTO:-0600
TZNAME:America/Denver MDT
END:DAYLIGHT
BEGIN:DAYLIGHT
DTSTART:20310309T030000
RDATE:20311102T010000
TZOFFSETFROM:-0700
TZOFFSETTO:-0600
TZNAME:America/Denver MDT
END:DAYLIGHT
END:VTIMEZONE
BEGIN:VEVENT
UID:e677483577561271b6a937dd406780ad
CATEGORIES:Kids & Family
CREATED:20150816T143643
SUMMARY:Preschool Nature Nuts: Coyotes
LOCATION:Lookout Mountain Nature Center  910 Colorow Road  Golden, CO 80401
DESCRIPTION;ENCODING=QUOTED-PRINTABLE:Wednesday, September 9, 2015 from 10:15 AM to 11:00 AM (MDT)\nWednesday, Se
 ptember 9, 2015 from 11:15 AM to 12:00 PM (MDT)\nThursday, September 10, 20
 15 from 10:15 AM to 11:00 AM (MDT)\nThursday, September 10, 2015 from 11:15
  AM to 12:00 PM (MDT)\nSaturday, September 12, 2015 from 10:15 AM to 11:00 
 AM (MDT)\nSaturday, September 12, 2015 from 11:15 AM to 12:00 PM (MDT)\n \n
 Lookout Mountain Nature Center \n 910 Colorow Road \n Golden, CO 80401\n \n
 Come join us for an exploration of our wild and wily neighbors, coyotes! Pa
 rticipants will hear coyote stories, make a craft, listen to the language o
 f coyote, and more.\n \nProgram details\nThis program is specifically desig
 ned for children ages 3-5 years with an adult.  We ask that your child has 
 reached his/her third birthday before participating in this class.\n \nPart
 icipant limit: 15 preschoolers (3-5 years old)\n \nDuring this program, we 
 will go explore just outside the nature center. Please bring a jacket, hat,
  or sunscreen as needed. \n \nAdditional Information\n http://bit.ly/LMNCEv
 entbrite\n \nRegistration for this program is available one month before th
 e date of the program.  If you are registering during this time, but space 
 is no longer available, please call Lookout Mountain Nature Center at 720-4
 97-7600 to be placed on a waiting list.\n \nAlready registered and need to 
 cancel? Have questions about the program? Please give us a call at 720-497-
 7600 or e-mail This email address is being protected from spambots. You nee
 d JavaScript enabled to view it.
				document.getElementById('cloak5e60395f
 ea7ff8caebf3072091787cbb').innerHTML = '';
				var prefix = '&#109;a' + 'i&
 #108;' + '&#116;o';
				var path = 'hr' + 'ef' + '=';
				var addy5e60395fe
 a7ff8caebf3072091787cbb = 'lmnc' + '&#64;';
				addy5e60395fea7ff8caebf3072
 091787cbb = addy5e60395fea7ff8caebf3072091787cbb + 'j&#101;ffc&#111;' + '&#
 46;' + '&#117;s';
				var addy_text5e60395fea7ff8caebf3072091787cbb = 'lmnc
 ' + '&#64;' + 'j&#101;ffc&#111;' + '&#46;' + '&#117;s';document.getElementB
 yId('cloak5e60395fea7ff8caebf3072091787cbb').innerHTML += ''+addy_text5e603
 95fea7ff8caebf3072091787cbb+'';
		 to let us know! Please include the progr
 am title.\n \n\n\n \nOffice hours are 9:00 am to 4:00 pm Tuesday-Sunday, in
 quiries made after 4 pm may not be answered until the following day. LMNC i
 s closed on Mondays.\n
CONTACT:This email address is being protected from spambots. You need JavaScript enabled to view it.
				document.getElementById('cloak55490928a546113f72bf1ea53efc498a').innerHTML = '';
				var prefix = '&#109;a' + 'i&#108;' + '&#116;o';
				var path = 'hr' + 'ef' + '=';
				var addy55490928a546113f72bf1ea53efc498a = 'lmnc' + '&#64;';
				addy55490928a546113f72bf1ea53efc498a = addy55490928a546113f72bf1ea53efc498a + 'j&#101;ffc&#111;' + '&#46;' + '&#117;s';
				var addy_text55490928a546113f72bf1ea53efc498a = 'lmnc' + '&#64;' + 'j&#101;ffc&#111;' + '&#46;' + '&#117;s';document.getElementById('cloak55490928a546113f72bf1ea53efc498a').innerHTML += ''+addy_text55490928a546113f72bf1ea53efc498a+'';
		
DTSTAMP:20260419T085940Z
DTSTART;TZID=America/Denver:20150912T111500
DTEND;TZID=America/Denver:20150912T120000
SEQUENCE:0
TRANSP:OPAQUE
END:VEVENT
END:VCALENDAR