BEGIN:VCALENDAR
VERSION:2.0
PRODID:-//jEvents 2.0 for Joomla//EN
CALSCALE:GREGORIAN
METHOD:PUBLISH
BEGIN:VTIMEZONE
TZID:America/Denver
BEGIN:STANDARD
DTSTART:20141102T010000
RDATE:20150308T030000
TZOFFSETFROM:-0600
TZOFFSETTO:-0700
TZNAME:America/Denver MST
END:STANDARD
BEGIN:STANDARD
DTSTART:20151101T010000
RDATE:20160313T030000
TZOFFSETFROM:-0600
TZOFFSETTO:-0700
TZNAME:America/Denver MST
END:STANDARD
BEGIN:STANDARD
DTSTART:20161106T010000
RDATE:20170312T030000
TZOFFSETFROM:-0600
TZOFFSETTO:-0700
TZNAME:America/Denver MST
END:STANDARD
BEGIN:STANDARD
DTSTART:20171105T010000
RDATE:20180311T030000
TZOFFSETFROM:-0600
TZOFFSETTO:-0700
TZNAME:America/Denver MST
END:STANDARD
BEGIN:STANDARD
DTSTART:20181104T010000
RDATE:20190310T030000
TZOFFSETFROM:-0600
TZOFFSETTO:-0700
TZNAME:America/Denver MST
END:STANDARD
BEGIN:STANDARD
DTSTART:20191103T010000
RDATE:20200308T030000
TZOFFSETFROM:-0600
TZOFFSETTO:-0700
TZNAME:America/Denver MST
END:STANDARD
BEGIN:STANDARD
DTSTART:20201101T010000
RDATE:20210314T030000
TZOFFSETFROM:-0600
TZOFFSETTO:-0700
TZNAME:America/Denver MST
END:STANDARD
BEGIN:STANDARD
DTSTART:20211107T010000
RDATE:20220313T030000
TZOFFSETFROM:-0600
TZOFFSETTO:-0700
TZNAME:America/Denver MST
END:STANDARD
BEGIN:STANDARD
DTSTART:20221106T010000
RDATE:20230312T030000
TZOFFSETFROM:-0600
TZOFFSETTO:-0700
TZNAME:America/Denver MST
END:STANDARD
BEGIN:STANDARD
DTSTART:20231105T010000
RDATE:20240310T030000
TZOFFSETFROM:-0600
TZOFFSETTO:-0700
TZNAME:America/Denver MST
END:STANDARD
BEGIN:STANDARD
DTSTART:20241103T010000
RDATE:20250309T030000
TZOFFSETFROM:-0600
TZOFFSETTO:-0700
TZNAME:America/Denver MST
END:STANDARD
BEGIN:STANDARD
DTSTART:20251102T010000
RDATE:20260308T030000
TZOFFSETFROM:-0600
TZOFFSETTO:-0700
TZNAME:America/Denver MST
END:STANDARD
BEGIN:STANDARD
DTSTART:20261101T010000
RDATE:20270314T030000
TZOFFSETFROM:-0600
TZOFFSETTO:-0700
TZNAME:America/Denver MST
END:STANDARD
BEGIN:STANDARD
DTSTART:20271107T010000
RDATE:20280312T030000
TZOFFSETFROM:-0600
TZOFFSETTO:-0700
TZNAME:America/Denver MST
END:STANDARD
BEGIN:STANDARD
DTSTART:20281105T010000
RDATE:20290311T030000
TZOFFSETFROM:-0600
TZOFFSETTO:-0700
TZNAME:America/Denver MST
END:STANDARD
BEGIN:STANDARD
DTSTART:20291104T010000
RDATE:20300310T030000
TZOFFSETFROM:-0600
TZOFFSETTO:-0700
TZNAME:America/Denver MST
END:STANDARD
BEGIN:STANDARD
DTSTART:20301103T010000
RDATE:20310309T030000
TZOFFSETFROM:-0600
TZOFFSETTO:-0700
TZNAME:America/Denver MST
END:STANDARD
BEGIN:STANDARD
DTSTART:20311102T010000
RDATE:20320314T030000
TZOFFSETFROM:-0600
TZOFFSETTO:-0700
TZNAME:America/Denver MST
END:STANDARD
BEGIN:DAYLIGHT
DTSTART:20140912T100000
RDATE:20141102T010000
TZOFFSETFROM:-0700
TZOFFSETTO:-0600
TZNAME:America/Denver MDT
END:DAYLIGHT
BEGIN:DAYLIGHT
DTSTART:20150308T030000
RDATE:20151101T010000
TZOFFSETFROM:-0700
TZOFFSETTO:-0600
TZNAME:America/Denver MDT
END:DAYLIGHT
BEGIN:DAYLIGHT
DTSTART:20160313T030000
RDATE:20161106T010000
TZOFFSETFROM:-0700
TZOFFSETTO:-0600
TZNAME:America/Denver MDT
END:DAYLIGHT
BEGIN:DAYLIGHT
DTSTART:20170312T030000
RDATE:20171105T010000
TZOFFSETFROM:-0700
TZOFFSETTO:-0600
TZNAME:America/Denver MDT
END:DAYLIGHT
BEGIN:DAYLIGHT
DTSTART:20180311T030000
RDATE:20181104T010000
TZOFFSETFROM:-0700
TZOFFSETTO:-0600
TZNAME:America/Denver MDT
END:DAYLIGHT
BEGIN:DAYLIGHT
DTSTART:20190310T030000
RDATE:20191103T010000
TZOFFSETFROM:-0700
TZOFFSETTO:-0600
TZNAME:America/Denver MDT
END:DAYLIGHT
BEGIN:DAYLIGHT
DTSTART:20200308T030000
RDATE:20201101T010000
TZOFFSETFROM:-0700
TZOFFSETTO:-0600
TZNAME:America/Denver MDT
END:DAYLIGHT
BEGIN:DAYLIGHT
DTSTART:20210314T030000
RDATE:20211107T010000
TZOFFSETFROM:-0700
TZOFFSETTO:-0600
TZNAME:America/Denver MDT
END:DAYLIGHT
BEGIN:DAYLIGHT
DTSTART:20220313T030000
RDATE:20221106T010000
TZOFFSETFROM:-0700
TZOFFSETTO:-0600
TZNAME:America/Denver MDT
END:DAYLIGHT
BEGIN:DAYLIGHT
DTSTART:20230312T030000
RDATE:20231105T010000
TZOFFSETFROM:-0700
TZOFFSETTO:-0600
TZNAME:America/Denver MDT
END:DAYLIGHT
BEGIN:DAYLIGHT
DTSTART:20240310T030000
RDATE:20241103T010000
TZOFFSETFROM:-0700
TZOFFSETTO:-0600
TZNAME:America/Denver MDT
END:DAYLIGHT
BEGIN:DAYLIGHT
DTSTART:20250309T030000
RDATE:20251102T010000
TZOFFSETFROM:-0700
TZOFFSETTO:-0600
TZNAME:America/Denver MDT
END:DAYLIGHT
BEGIN:DAYLIGHT
DTSTART:20260308T030000
RDATE:20261101T010000
TZOFFSETFROM:-0700
TZOFFSETTO:-0600
TZNAME:America/Denver MDT
END:DAYLIGHT
BEGIN:DAYLIGHT
DTSTART:20270314T030000
RDATE:20271107T010000
TZOFFSETFROM:-0700
TZOFFSETTO:-0600
TZNAME:America/Denver MDT
END:DAYLIGHT
BEGIN:DAYLIGHT
DTSTART:20280312T030000
RDATE:20281105T010000
TZOFFSETFROM:-0700
TZOFFSETTO:-0600
TZNAME:America/Denver MDT
END:DAYLIGHT
BEGIN:DAYLIGHT
DTSTART:20290311T030000
RDATE:20291104T010000
TZOFFSETFROM:-0700
TZOFFSETTO:-0600
TZNAME:America/Denver MDT
END:DAYLIGHT
BEGIN:DAYLIGHT
DTSTART:20300310T030000
RDATE:20301103T010000
TZOFFSETFROM:-0700
TZOFFSETTO:-0600
TZNAME:America/Denver MDT
END:DAYLIGHT
BEGIN:DAYLIGHT
DTSTART:20310309T030000
RDATE:20311102T010000
TZOFFSETFROM:-0700
TZOFFSETTO:-0600
TZNAME:America/Denver MDT
END:DAYLIGHT
END:VTIMEZONE
BEGIN:VEVENT
UID:eaaea95899d487cc5f3c60477b35bd91
CATEGORIES:Kids & Family
CREATED:20150830T125337
SUMMARY:Bear Essentials
LOCATION:Lookout Mountain Nature Center  910 Colorow Road  Golden, CO 80401
DESCRIPTION;ENCODING=QUOTED-PRINTABLE:<p class="MsoNoSpacing">Sunday, September 13, 2015 from 10:00 AM to 12:00 P
 M (MDT)</p><p class="MsoNoSpacing"> </p><p class="MsoNoSpacing">Lookout Mou
 ntain Nature Center <br /> 910 Colorow Road <br /> Golden, CO 80401</p><p c
 lass="MsoNoSpacing"> </p><p class="MsoNoSpacing">Stop by anytime between 10
 :00 am to 12:00 pm to learn what Black Bears really eat. Touch a black bear
  pelt, smell their scat, and more! We are joking about smelling the scat, b
 ut you can take a closer look!</p><p class="MsoNoSpacing"> </p><p class="Ms
 oNoSpacing"><strong><span style="font-family: 'Calibri','sans-serif'; mso-a
 scii-theme-font: minor-latin; mso-hansi-theme-font: minor-latin; mso-bidi-f
 ont-family: 'Times New Roman'; mso-bidi-theme-font: minor-bidi;">Program de
 tails</span></strong><br /> All ages</p><p class="MsoNoSpacing"> </p><p cla
 ss="MsoNoSpacing">No registration required. Please stop by any time between
  10:00am-12:00pm to talk with our naturalists<strong><span style="font-fami
 ly: 'Calibri','sans-serif'; mso-ascii-theme-font: minor-latin; mso-hansi-th
 eme-font: minor-latin; mso-bidi-font-family: 'Times New Roman'; mso-bidi-th
 eme-font: minor-bidi;">.</span></strong></p><p class="MsoNoSpacing"><strong
 ><span style="font-family: 'Calibri','sans-serif'; mso-ascii-theme-font: mi
 nor-latin; mso-hansi-theme-font: minor-latin; mso-bidi-font-family: 'Times 
 New Roman'; mso-bidi-theme-font: minor-bidi; font-weight: normal;"> </span>
 </strong></p><p class="MsoNormal" style="margin-bottom: .0001pt; line-heigh
 t: normal;"><strong><span style="font-family: 'Calibri','sans-serif'; mso-a
 scii-theme-font: minor-latin; mso-hansi-theme-font: minor-latin; mso-bidi-f
 ont-family: 'Times New Roman'; mso-bidi-theme-font: minor-bidi;">Additional
  Information</span></strong><br /> <span style="mso-ascii-font-family: Cali
 bri; mso-fareast-font-family: 'Times New Roman'; mso-hansi-font-family: Cal
 ibri; mso-bidi-font-family: 'Times New Roman'; color: black;"><a href="http
 ://bit.ly/BearEssentialsLMNC">http://bit.ly/BearEssentialsLMNC</a></span></
 p><p class="MsoNormal" style="margin-bottom: .0001pt; line-height: normal;"
 ><span style="mso-ascii-font-family: Calibri; mso-fareast-font-family: 'Tim
 es New Roman'; mso-hansi-font-family: Calibri; mso-bidi-font-family: 'Times
  New Roman'; color: black;"> </span></p><p> </p><p class="MsoNoSpacing"><st
 rong><span style="font-family: 'Calibri','sans-serif'; mso-ascii-theme-font
 : minor-latin; mso-hansi-theme-font: minor-latin; mso-bidi-font-family: 'Ti
 mes New Roman'; mso-bidi-theme-font: minor-bidi;">Office hours a</span></st
 rong><strong><span style="font-family: 'Calibri','sans-serif'; mso-ascii-th
 eme-font: minor-latin; mso-hansi-theme-font: minor-latin; mso-bidi-font-fam
 ily: 'Times New Roman'; mso-bidi-theme-font: minor-bidi; font-weight: norma
 l;">re 9:00am- 4:00</span></strong><strong><span style="font-family: 'Calib
 ri','sans-serif'; mso-ascii-theme-font: minor-latin; mso-hansi-theme-font: 
 minor-latin; mso-bidi-font-family: 'Times New Roman'; mso-bidi-theme-font: 
 minor-bidi;">pm Tuesday-Sunday, inquiries made after 4</span></strong><stro
 ng><span style="font-family: 'Calibri','sans-serif'; mso-ascii-theme-font: 
 minor-latin; mso-hansi-theme-font: minor-latin; mso-bidi-font-family: 'Time
 s New Roman'; mso-bidi-theme-font: minor-bidi; font-weight: normal;">:00</s
 pan></strong><strong><span style="font-family: 'Calibri','sans-serif'; mso-
 ascii-theme-font: minor-latin; mso-hansi-theme-font: minor-latin; mso-bidi-
 font-family: 'Times New Roman'; mso-bidi-theme-font: minor-bidi;">pm may no
 t be answered until the following day. LMNC is closed on Mondays.</span></s
 trong></p>
CONTACT:This email address is being protected from spambots. You need JavaScript enabled to view it.
				document.getElementById('cloak528d3619f241da1e11c36b91a4a2334c').innerHTML = '';
				var prefix = '&#109;a' + 'i&#108;' + '&#116;o';
				var path = 'hr' + 'ef' + '=';
				var addy528d3619f241da1e11c36b91a4a2334c = 'lmnc' + '&#64;';
				addy528d3619f241da1e11c36b91a4a2334c = addy528d3619f241da1e11c36b91a4a2334c + 'j&#101;ffc&#111;' + '&#46;' + '&#117;s';
				var addy_text528d3619f241da1e11c36b91a4a2334c = 'lmnc' + '&#64;' + 'j&#101;ffc&#111;' + '&#46;' + '&#117;s';document.getElementById('cloak528d3619f241da1e11c36b91a4a2334c').innerHTML += ''+addy_text528d3619f241da1e11c36b91a4a2334c+'';
		
DTSTAMP:20260419T090554Z
DTSTART;TZID=America/Denver:20150913T100000
DTEND;TZID=America/Denver:20150913T120000
SEQUENCE:0
TRANSP:OPAQUE
END:VEVENT
END:VCALENDAR