BEGIN:VCALENDAR
VERSION:2.0
PRODID:-//jEvents 2.0 for Joomla//EN
CALSCALE:GREGORIAN
METHOD:PUBLISH
BEGIN:VTIMEZONE
TZID:America/Denver
BEGIN:STANDARD
DTSTART:20141102T010000
RDATE:20150308T030000
TZOFFSETFROM:-0600
TZOFFSETTO:-0700
TZNAME:America/Denver MST
END:STANDARD
BEGIN:STANDARD
DTSTART:20151101T010000
RDATE:20160313T030000
TZOFFSETFROM:-0600
TZOFFSETTO:-0700
TZNAME:America/Denver MST
END:STANDARD
BEGIN:STANDARD
DTSTART:20161106T010000
RDATE:20170312T030000
TZOFFSETFROM:-0600
TZOFFSETTO:-0700
TZNAME:America/Denver MST
END:STANDARD
BEGIN:STANDARD
DTSTART:20171105T010000
RDATE:20180311T030000
TZOFFSETFROM:-0600
TZOFFSETTO:-0700
TZNAME:America/Denver MST
END:STANDARD
BEGIN:STANDARD
DTSTART:20181104T010000
RDATE:20190310T030000
TZOFFSETFROM:-0600
TZOFFSETTO:-0700
TZNAME:America/Denver MST
END:STANDARD
BEGIN:STANDARD
DTSTART:20191103T010000
RDATE:20200308T030000
TZOFFSETFROM:-0600
TZOFFSETTO:-0700
TZNAME:America/Denver MST
END:STANDARD
BEGIN:STANDARD
DTSTART:20201101T010000
RDATE:20210314T030000
TZOFFSETFROM:-0600
TZOFFSETTO:-0700
TZNAME:America/Denver MST
END:STANDARD
BEGIN:STANDARD
DTSTART:20211107T010000
RDATE:20220313T030000
TZOFFSETFROM:-0600
TZOFFSETTO:-0700
TZNAME:America/Denver MST
END:STANDARD
BEGIN:STANDARD
DTSTART:20221106T010000
RDATE:20230312T030000
TZOFFSETFROM:-0600
TZOFFSETTO:-0700
TZNAME:America/Denver MST
END:STANDARD
BEGIN:STANDARD
DTSTART:20231105T010000
RDATE:20240310T030000
TZOFFSETFROM:-0600
TZOFFSETTO:-0700
TZNAME:America/Denver MST
END:STANDARD
BEGIN:STANDARD
DTSTART:20241103T010000
RDATE:20250309T030000
TZOFFSETFROM:-0600
TZOFFSETTO:-0700
TZNAME:America/Denver MST
END:STANDARD
BEGIN:STANDARD
DTSTART:20251102T010000
RDATE:20260308T030000
TZOFFSETFROM:-0600
TZOFFSETTO:-0700
TZNAME:America/Denver MST
END:STANDARD
BEGIN:STANDARD
DTSTART:20261101T010000
RDATE:20270314T030000
TZOFFSETFROM:-0600
TZOFFSETTO:-0700
TZNAME:America/Denver MST
END:STANDARD
BEGIN:STANDARD
DTSTART:20271107T010000
RDATE:20280312T030000
TZOFFSETFROM:-0600
TZOFFSETTO:-0700
TZNAME:America/Denver MST
END:STANDARD
BEGIN:STANDARD
DTSTART:20281105T010000
RDATE:20290311T030000
TZOFFSETFROM:-0600
TZOFFSETTO:-0700
TZNAME:America/Denver MST
END:STANDARD
BEGIN:STANDARD
DTSTART:20291104T010000
RDATE:20300310T030000
TZOFFSETFROM:-0600
TZOFFSETTO:-0700
TZNAME:America/Denver MST
END:STANDARD
BEGIN:STANDARD
DTSTART:20301103T010000
RDATE:20310309T030000
TZOFFSETFROM:-0600
TZOFFSETTO:-0700
TZNAME:America/Denver MST
END:STANDARD
BEGIN:STANDARD
DTSTART:20311102T010000
RDATE:20320314T030000
TZOFFSETFROM:-0600
TZOFFSETTO:-0700
TZNAME:America/Denver MST
END:STANDARD
BEGIN:DAYLIGHT
DTSTART:20140919T093000
RDATE:20141102T010000
TZOFFSETFROM:-0700
TZOFFSETTO:-0600
TZNAME:America/Denver MDT
END:DAYLIGHT
BEGIN:DAYLIGHT
DTSTART:20150308T030000
RDATE:20151101T010000
TZOFFSETFROM:-0700
TZOFFSETTO:-0600
TZNAME:America/Denver MDT
END:DAYLIGHT
BEGIN:DAYLIGHT
DTSTART:20160313T030000
RDATE:20161106T010000
TZOFFSETFROM:-0700
TZOFFSETTO:-0600
TZNAME:America/Denver MDT
END:DAYLIGHT
BEGIN:DAYLIGHT
DTSTART:20170312T030000
RDATE:20171105T010000
TZOFFSETFROM:-0700
TZOFFSETTO:-0600
TZNAME:America/Denver MDT
END:DAYLIGHT
BEGIN:DAYLIGHT
DTSTART:20180311T030000
RDATE:20181104T010000
TZOFFSETFROM:-0700
TZOFFSETTO:-0600
TZNAME:America/Denver MDT
END:DAYLIGHT
BEGIN:DAYLIGHT
DTSTART:20190310T030000
RDATE:20191103T010000
TZOFFSETFROM:-0700
TZOFFSETTO:-0600
TZNAME:America/Denver MDT
END:DAYLIGHT
BEGIN:DAYLIGHT
DTSTART:20200308T030000
RDATE:20201101T010000
TZOFFSETFROM:-0700
TZOFFSETTO:-0600
TZNAME:America/Denver MDT
END:DAYLIGHT
BEGIN:DAYLIGHT
DTSTART:20210314T030000
RDATE:20211107T010000
TZOFFSETFROM:-0700
TZOFFSETTO:-0600
TZNAME:America/Denver MDT
END:DAYLIGHT
BEGIN:DAYLIGHT
DTSTART:20220313T030000
RDATE:20221106T010000
TZOFFSETFROM:-0700
TZOFFSETTO:-0600
TZNAME:America/Denver MDT
END:DAYLIGHT
BEGIN:DAYLIGHT
DTSTART:20230312T030000
RDATE:20231105T010000
TZOFFSETFROM:-0700
TZOFFSETTO:-0600
TZNAME:America/Denver MDT
END:DAYLIGHT
BEGIN:DAYLIGHT
DTSTART:20240310T030000
RDATE:20241103T010000
TZOFFSETFROM:-0700
TZOFFSETTO:-0600
TZNAME:America/Denver MDT
END:DAYLIGHT
BEGIN:DAYLIGHT
DTSTART:20250309T030000
RDATE:20251102T010000
TZOFFSETFROM:-0700
TZOFFSETTO:-0600
TZNAME:America/Denver MDT
END:DAYLIGHT
BEGIN:DAYLIGHT
DTSTART:20260308T030000
RDATE:20261101T010000
TZOFFSETFROM:-0700
TZOFFSETTO:-0600
TZNAME:America/Denver MDT
END:DAYLIGHT
BEGIN:DAYLIGHT
DTSTART:20270314T030000
RDATE:20271107T010000
TZOFFSETFROM:-0700
TZOFFSETTO:-0600
TZNAME:America/Denver MDT
END:DAYLIGHT
BEGIN:DAYLIGHT
DTSTART:20280312T030000
RDATE:20281105T010000
TZOFFSETFROM:-0700
TZOFFSETTO:-0600
TZNAME:America/Denver MDT
END:DAYLIGHT
BEGIN:DAYLIGHT
DTSTART:20290311T030000
RDATE:20291104T010000
TZOFFSETFROM:-0700
TZOFFSETTO:-0600
TZNAME:America/Denver MDT
END:DAYLIGHT
BEGIN:DAYLIGHT
DTSTART:20300310T030000
RDATE:20301103T010000
TZOFFSETFROM:-0700
TZOFFSETTO:-0600
TZNAME:America/Denver MDT
END:DAYLIGHT
BEGIN:DAYLIGHT
DTSTART:20310309T030000
RDATE:20311102T010000
TZOFFSETFROM:-0700
TZOFFSETTO:-0600
TZNAME:America/Denver MDT
END:DAYLIGHT
END:VTIMEZONE
BEGIN:VEVENT
UID:41e1bdd12aa82882180872ac929b3da9
CATEGORIES:Kids & Family
CREATED:20150830T144404
SUMMARY:Fall Wildflowers Hike
LOCATION:South Valley Park  90 South Valley Road  Littleton, CO 80127
DESCRIPTION;ENCODING=QUOTED-PRINTABLE:Sunday, September 20, 2015 from 9:30 AM to 11:30 AM (MDT)\n \nSouth Valley 
 Park \n 90 South Valley Road \n Littleton, CO 80127\n \nStroll with a Nativ
 e Plant Master along easy trails identifying and naming local plants. Parti
 cipants will be able to put a name with the plant and discover interesting 
 uses of each plant by wildlife and documented historical uses by humans.\n 
 \nNative Plant Masters are certified experts in Colorado's native flora. Th
 ey have a passion for plants and like to share that knowledge with others. 
 Join us for a walk through the wealth of native wildflowers, grasses, trees
 , and shrubs that Jefferson County has to offer.\n \nProgram Details\n Ages
  10 years to adults.\n\n The content of this program is geared more towards
  adults but kids aged 10 years and older are welcome. \n \nYou will meet th
 e naturalist in the main parking lot of South Valley Park.\n \nThe hike wil
 l take place on Coyote Song trail (~1 mile). This will be an easy hike with
  frequent stops to see what is in bloom!\n \nWear sturdy hiking shoes, dres
 s for the weather, and bring water, snacks, sunscreen, etc. as needed. \n \
 nLet's play and learn outside! Our programs go rain, snow, or shine! So, dr
 ess accordingly. We will cancel the program if the weather is hazardous or 
 unsafe. If a program is canceled we will send an e-mail and/or call each re
 gistered participant. You can also check the event listing. We usually make
  the call to cancel within 24 hours of the program\n \nAdditional Informati
 on\n http://bit.ly/FallWildflowersHike\n \nRegistration for this program is
  available one month before the date of the program.  If you are registerin
 g during this time, but space is no longer available, please call Lookout M
 ountain Nature Center at 720-497-7600 to be placed on a waiting list.\n \nA
 lready registered and need to cancel? Have questions about the program? Ple
 ase give us a call at 720-497-7600 or e-mail This email address is being pr
 otected from spambots. You need JavaScript enabled to view it.
				document
 .getElementById('cloak139097ce1efdb2d2aa07ae27ced8a4b7').innerHTML = '';
		
 		var prefix = '&#109;a' + 'i&#108;' + '&#116;o';
				var path = 'hr' + 'ef
 ' + '=';
				var addy139097ce1efdb2d2aa07ae27ced8a4b7 = 'lmnc' + '&#64;';
	
 			addy139097ce1efdb2d2aa07ae27ced8a4b7 = addy139097ce1efdb2d2aa07ae27ced8a
 4b7 + 'j&#101;ffc&#111;' + '&#46;' + '&#117;s';
				var addy_text139097ce1e
 fdb2d2aa07ae27ced8a4b7 = 'lmnc' + '&#64;' + 'j&#101;ffc&#111;' + '&#46;' + 
 '&#117;s';document.getElementById('cloak139097ce1efdb2d2aa07ae27ced8a4b7').
 innerHTML += ''+addy_text139097ce1efdb2d2aa07ae27ced8a4b7+'';
		 to let us 
 know! Please include the program title.\n \n\n\n \nOffice hours are 9:00 am
  to 4:00 pm Tuesday-Sunday, inquiries made after 4 pm may not be answered u
 ntil the following day. LMNC is closed on Mondays.\n
CONTACT:This email address is being protected from spambots. You need JavaScript enabled to view it.
				document.getElementById('cloak9512fc43162f198ee7d18f24906f0765').innerHTML = '';
				var prefix = '&#109;a' + 'i&#108;' + '&#116;o';
				var path = 'hr' + 'ef' + '=';
				var addy9512fc43162f198ee7d18f24906f0765 = 'lmnc' + '&#64;';
				addy9512fc43162f198ee7d18f24906f0765 = addy9512fc43162f198ee7d18f24906f0765 + 'j&#101;ffc&#111;' + '&#46;' + '&#117;s';
				var addy_text9512fc43162f198ee7d18f24906f0765 = 'lmnc' + '&#64;' + 'j&#101;ffc&#111;' + '&#46;' + '&#117;s';document.getElementById('cloak9512fc43162f198ee7d18f24906f0765').innerHTML += ''+addy_text9512fc43162f198ee7d18f24906f0765+'';
		
DTSTAMP:20260419T090221Z
DTSTART;TZID=America/Denver:20150920T093000
DTEND;TZID=America/Denver:20150920T113000
SEQUENCE:0
TRANSP:OPAQUE
END:VEVENT
END:VCALENDAR