BEGIN:VCALENDAR
VERSION:2.0
PRODID:-//jEvents 2.0 for Joomla//EN
CALSCALE:GREGORIAN
METHOD:PUBLISH
BEGIN:VTIMEZONE
TZID:America/Denver
BEGIN:STANDARD
DTSTART:20141102T010000
RDATE:20150308T030000
TZOFFSETFROM:-0600
TZOFFSETTO:-0700
TZNAME:America/Denver MST
END:STANDARD
BEGIN:STANDARD
DTSTART:20151101T010000
RDATE:20160313T030000
TZOFFSETFROM:-0600
TZOFFSETTO:-0700
TZNAME:America/Denver MST
END:STANDARD
BEGIN:STANDARD
DTSTART:20161106T010000
RDATE:20170312T030000
TZOFFSETFROM:-0600
TZOFFSETTO:-0700
TZNAME:America/Denver MST
END:STANDARD
BEGIN:STANDARD
DTSTART:20171105T010000
RDATE:20180311T030000
TZOFFSETFROM:-0600
TZOFFSETTO:-0700
TZNAME:America/Denver MST
END:STANDARD
BEGIN:STANDARD
DTSTART:20181104T010000
RDATE:20190310T030000
TZOFFSETFROM:-0600
TZOFFSETTO:-0700
TZNAME:America/Denver MST
END:STANDARD
BEGIN:STANDARD
DTSTART:20191103T010000
RDATE:20200308T030000
TZOFFSETFROM:-0600
TZOFFSETTO:-0700
TZNAME:America/Denver MST
END:STANDARD
BEGIN:STANDARD
DTSTART:20201101T010000
RDATE:20210314T030000
TZOFFSETFROM:-0600
TZOFFSETTO:-0700
TZNAME:America/Denver MST
END:STANDARD
BEGIN:STANDARD
DTSTART:20211107T010000
RDATE:20220313T030000
TZOFFSETFROM:-0600
TZOFFSETTO:-0700
TZNAME:America/Denver MST
END:STANDARD
BEGIN:STANDARD
DTSTART:20221106T010000
RDATE:20230312T030000
TZOFFSETFROM:-0600
TZOFFSETTO:-0700
TZNAME:America/Denver MST
END:STANDARD
BEGIN:STANDARD
DTSTART:20231105T010000
RDATE:20240310T030000
TZOFFSETFROM:-0600
TZOFFSETTO:-0700
TZNAME:America/Denver MST
END:STANDARD
BEGIN:STANDARD
DTSTART:20241103T010000
RDATE:20250309T030000
TZOFFSETFROM:-0600
TZOFFSETTO:-0700
TZNAME:America/Denver MST
END:STANDARD
BEGIN:STANDARD
DTSTART:20251102T010000
RDATE:20260308T030000
TZOFFSETFROM:-0600
TZOFFSETTO:-0700
TZNAME:America/Denver MST
END:STANDARD
BEGIN:STANDARD
DTSTART:20261101T010000
RDATE:20270314T030000
TZOFFSETFROM:-0600
TZOFFSETTO:-0700
TZNAME:America/Denver MST
END:STANDARD
BEGIN:STANDARD
DTSTART:20271107T010000
RDATE:20280312T030000
TZOFFSETFROM:-0600
TZOFFSETTO:-0700
TZNAME:America/Denver MST
END:STANDARD
BEGIN:STANDARD
DTSTART:20281105T010000
RDATE:20290311T030000
TZOFFSETFROM:-0600
TZOFFSETTO:-0700
TZNAME:America/Denver MST
END:STANDARD
BEGIN:STANDARD
DTSTART:20291104T010000
RDATE:20300310T030000
TZOFFSETFROM:-0600
TZOFFSETTO:-0700
TZNAME:America/Denver MST
END:STANDARD
BEGIN:STANDARD
DTSTART:20301103T010000
RDATE:20310309T030000
TZOFFSETFROM:-0600
TZOFFSETTO:-0700
TZNAME:America/Denver MST
END:STANDARD
BEGIN:STANDARD
DTSTART:20311102T010000
RDATE:20320314T030000
TZOFFSETFROM:-0600
TZOFFSETTO:-0700
TZNAME:America/Denver MST
END:STANDARD
BEGIN:DAYLIGHT
DTSTART:20140919T130000
RDATE:20141102T010000
TZOFFSETFROM:-0700
TZOFFSETTO:-0600
TZNAME:America/Denver MDT
END:DAYLIGHT
BEGIN:DAYLIGHT
DTSTART:20150308T030000
RDATE:20151101T010000
TZOFFSETFROM:-0700
TZOFFSETTO:-0600
TZNAME:America/Denver MDT
END:DAYLIGHT
BEGIN:DAYLIGHT
DTSTART:20160313T030000
RDATE:20161106T010000
TZOFFSETFROM:-0700
TZOFFSETTO:-0600
TZNAME:America/Denver MDT
END:DAYLIGHT
BEGIN:DAYLIGHT
DTSTART:20170312T030000
RDATE:20171105T010000
TZOFFSETFROM:-0700
TZOFFSETTO:-0600
TZNAME:America/Denver MDT
END:DAYLIGHT
BEGIN:DAYLIGHT
DTSTART:20180311T030000
RDATE:20181104T010000
TZOFFSETFROM:-0700
TZOFFSETTO:-0600
TZNAME:America/Denver MDT
END:DAYLIGHT
BEGIN:DAYLIGHT
DTSTART:20190310T030000
RDATE:20191103T010000
TZOFFSETFROM:-0700
TZOFFSETTO:-0600
TZNAME:America/Denver MDT
END:DAYLIGHT
BEGIN:DAYLIGHT
DTSTART:20200308T030000
RDATE:20201101T010000
TZOFFSETFROM:-0700
TZOFFSETTO:-0600
TZNAME:America/Denver MDT
END:DAYLIGHT
BEGIN:DAYLIGHT
DTSTART:20210314T030000
RDATE:20211107T010000
TZOFFSETFROM:-0700
TZOFFSETTO:-0600
TZNAME:America/Denver MDT
END:DAYLIGHT
BEGIN:DAYLIGHT
DTSTART:20220313T030000
RDATE:20221106T010000
TZOFFSETFROM:-0700
TZOFFSETTO:-0600
TZNAME:America/Denver MDT
END:DAYLIGHT
BEGIN:DAYLIGHT
DTSTART:20230312T030000
RDATE:20231105T010000
TZOFFSETFROM:-0700
TZOFFSETTO:-0600
TZNAME:America/Denver MDT
END:DAYLIGHT
BEGIN:DAYLIGHT
DTSTART:20240310T030000
RDATE:20241103T010000
TZOFFSETFROM:-0700
TZOFFSETTO:-0600
TZNAME:America/Denver MDT
END:DAYLIGHT
BEGIN:DAYLIGHT
DTSTART:20250309T030000
RDATE:20251102T010000
TZOFFSETFROM:-0700
TZOFFSETTO:-0600
TZNAME:America/Denver MDT
END:DAYLIGHT
BEGIN:DAYLIGHT
DTSTART:20260308T030000
RDATE:20261101T010000
TZOFFSETFROM:-0700
TZOFFSETTO:-0600
TZNAME:America/Denver MDT
END:DAYLIGHT
BEGIN:DAYLIGHT
DTSTART:20270314T030000
RDATE:20271107T010000
TZOFFSETFROM:-0700
TZOFFSETTO:-0600
TZNAME:America/Denver MDT
END:DAYLIGHT
BEGIN:DAYLIGHT
DTSTART:20280312T030000
RDATE:20281105T010000
TZOFFSETFROM:-0700
TZOFFSETTO:-0600
TZNAME:America/Denver MDT
END:DAYLIGHT
BEGIN:DAYLIGHT
DTSTART:20290311T030000
RDATE:20291104T010000
TZOFFSETFROM:-0700
TZOFFSETTO:-0600
TZNAME:America/Denver MDT
END:DAYLIGHT
BEGIN:DAYLIGHT
DTSTART:20300310T030000
RDATE:20301103T010000
TZOFFSETFROM:-0700
TZOFFSETTO:-0600
TZNAME:America/Denver MDT
END:DAYLIGHT
BEGIN:DAYLIGHT
DTSTART:20310309T030000
RDATE:20311102T010000
TZOFFSETFROM:-0700
TZOFFSETTO:-0600
TZNAME:America/Denver MDT
END:DAYLIGHT
END:VTIMEZONE
BEGIN:VEVENT
UID:12870ff91c6e1fdf0aa1a7580fad6766
CATEGORIES:Kids & Family
CREATED:20150830T144443
SUMMARY:Junior Naturalists: Home Sweet Home
LOCATION:Crown Hill Park  Garland Street and West 26th Avenue  Lakewood, CO 80215
DESCRIPTION;ENCODING=QUOTED-PRINTABLE:<p class="MsoNoSpacing">Sunday, September 20, 2015 from 1:00 PM to 2:30 PM 
 (MDT)</p><p class="MsoNoSpacing"> </p><p class="MsoNoSpacing">Crown Hill Pa
 rk <br /> Garland Street and West 26th Avenue <br /> Lakewood, CO 80215</p>
 <p class="MsoNoSpacing"> </p><p class="MsoNoSpacing">Investigate what anima
 ls need in their habitats to survive and thrive.</p><p class="MsoNoSpacing"
 ><em><span style="font-family: 'Calibri','sans-serif'; mso-ascii-theme-font
 : minor-latin; mso-hansi-theme-font: minor-latin; mso-bidi-font-family: 'Ti
 mes New Roman'; mso-bidi-theme-font: minor-bidi; font-style: normal;"> </sp
 an></em></p><p class="MsoNoSpacing"><em><strong><span style="font-family: '
 Calibri','sans-serif'; mso-ascii-theme-font: minor-latin; mso-hansi-theme-f
 ont: minor-latin; mso-bidi-font-family: 'Times New Roman'; mso-bidi-theme-f
 ont: minor-bidi;">Program Details</span></strong></em><br /> Ages 6 - 10 ye
 ars with an adult.</p><p class="MsoNoSpacing"> </p><p class="MsoNoSpacing">
 You will meet the naturalist in the main parking lot of<span class="apple-c
 onverted-space"> </span><a href="http://jeffco.us/open-space/parks/crown-hi
 ll-park/" target="_blank"><span style="color: windowtext; text-decoration: 
 none; text-underline: none;">Crown Hill Park</span></a>. (near the bathroom
 s)</p><p class="MsoNoSpacing"> </p><p class="MsoNoSpacing">There will be an
  easy hike along mostly paved trails, with frequent stops for activities.</
 p><p class="MsoNoSpacing"> </p><p class="MsoNoSpacing">Wear comfortable wal
 king shoes, bring water as needed. Dress for the weather, hats/sunscreen is
  recommended. </p><p class="MsoNoSpacing"> </p><p class="MsoNoSpacing">Plea
 se leave pets at home.</p><p class="MsoNoSpacing"> </p><p class="MsoNoSpaci
 ng"><strong><span style="mso-bidi-font-size: 7.0pt; font-family: 'Calibri',
 'sans-serif'; mso-ascii-theme-font: minor-latin; mso-hansi-theme-font: mino
 r-latin; mso-bidi-font-family: 'Times New Roman'; mso-bidi-theme-font: mino
 r-bidi;">Let's play and learn outside!</span></strong> Our programs go rain
 , snow, or shine! So, dress accordingly. We will cancel the program if the 
 weather is hazardous or unsafe. If a program is canceled we will send an e-
 mail and/or call each registered participant. You can also check the event 
 listing. We usually make the call to cancel within 24 hours of the program<
 /p><p class="MsoNormal" style="margin-bottom: .0001pt; line-height: normal;
 "><strong><span style="font-family: 'Calibri','sans-serif'; mso-ascii-theme
 -font: minor-latin; mso-hansi-theme-font: minor-latin; mso-bidi-font-family
 : 'Times New Roman'; mso-bidi-theme-font: minor-bidi; mso-bidi-font-weight:
  normal;"> </span></strong></p><p class="MsoNormal" style="margin-bottom: .
 0001pt; line-height: normal;"><strong><span style="font-family: 'Calibri','
 sans-serif'; mso-ascii-theme-font: minor-latin; mso-hansi-theme-font: minor
 -latin; mso-bidi-font-family: 'Times New Roman'; mso-bidi-theme-font: minor
 -bidi;">Additional Information</span></strong><br /> <span style="mso-ascii
 -font-family: Calibri; mso-fareast-font-family: 'Times New Roman'; mso-hans
 i-font-family: Calibri; mso-bidi-font-family: 'Times New Roman'; color: bla
 ck;">http://bit.ly/JrNaturalistsHomeSweetHome</span></p><p class="MsoNoSpac
 ing"><strong><span style="mso-bidi-font-size: 8.5pt; font-family: 'Calibri'
 ,'sans-serif'; mso-ascii-theme-font: minor-latin; mso-hansi-theme-font: min
 or-latin; mso-bidi-font-family: 'Times New Roman'; mso-bidi-theme-font: min
 or-bidi; font-weight: normal;"> </span></strong></p><p class="MsoNoSpacing"
 ><strong><span style="mso-bidi-font-size: 8.5pt; font-family: 'Calibri','sa
 ns-serif'; mso-ascii-theme-font: minor-latin; mso-hansi-theme-font: minor-l
 atin; mso-bidi-font-family: 'Times New Roman'; mso-bidi-theme-font: minor-b
 idi;">Registration for this program is available one month before the date 
 of the program.  If you are registering during this time, but space is no l
 onger available, please call Lookout Mountain Nature Center at 720-497-7600
  to be placed on a waiting list.</span></strong></p><p class="MsoNoSpacing"
 > </p><p class="MsoNoSpacing"><strong><span style="font-family: 'Calibri','
 sans-serif'; mso-ascii-theme-font: minor-latin; mso-hansi-theme-font: minor
 -latin; mso-bidi-font-family: 'Times New Roman'; mso-bidi-theme-font: minor
 -bidi;">Already registered and need to cancel? Have questions about the pro
 gram? Please give us a call at 720-497-7600 or e-mail <span id="cloak3278b6
 e3f8d3d4bad5ec9f687515a74b">This email address is being protected from spam
 bots. You need JavaScript enabled to view it.</span><script type='text/java
 script'>
				document.getElementById('cloak3278b6e3f8d3d4bad5ec9f687515a74b
 ').innerHTML = '';
				var prefix = '&#109;a' + 'i&#108;' + '&#116;o';
				
 var path = 'hr' + 'ef' + '=';
				var addy3278b6e3f8d3d4bad5ec9f687515a74b 
 = 'lmnc' + '&#64;';
				addy3278b6e3f8d3d4bad5ec9f687515a74b = addy3278b6e3
 f8d3d4bad5ec9f687515a74b + 'j&#101;ffc&#111;' + '&#46;' + '&#117;s';
				va
 r addy_text3278b6e3f8d3d4bad5ec9f687515a74b = 'lmnc' + '&#64;' + 'j&#101;ff
 c&#111;' + '&#46;' + '&#117;s';document.getElementById('cloak3278b6e3f8d3d4
 bad5ec9f687515a74b').innerHTML += '<a ' + path + '\'' + prefix + ':' + addy
 3278b6e3f8d3d4bad5ec9f687515a74b + '\'>'+addy_text3278b6e3f8d3d4bad5ec9f687
 515a74b+'<\/a>';
		</script> to let us know! Please include the program tit
 le.</span></strong></p><p class="MsoNoSpacing"> </p><p> </p><p class="MsoNo
 Spacing"><strong><span style="font-family: 'Calibri','sans-serif'; mso-asci
 i-theme-font: minor-latin; mso-hansi-theme-font: minor-latin; mso-bidi-font
 -family: 'Times New Roman'; mso-bidi-theme-font: minor-bidi;">Office hours 
 are 9:00 am to 4:00 pm Tuesday-Sunday, inquiries made after 4 pm may not be
  answered until the following day. LMNC is closed on Mondays.</span></stron
 g></p>
CONTACT:This email address is being protected from spambots. You need JavaScript enabled to view it.
				document.getElementById('cloak6ddcd39dd3dcd95272a68ef8d559ce34').innerHTML = '';
				var prefix = '&#109;a' + 'i&#108;' + '&#116;o';
				var path = 'hr' + 'ef' + '=';
				var addy6ddcd39dd3dcd95272a68ef8d559ce34 = 'lmnc' + '&#64;';
				addy6ddcd39dd3dcd95272a68ef8d559ce34 = addy6ddcd39dd3dcd95272a68ef8d559ce34 + 'j&#101;ffc&#111;' + '&#46;' + '&#117;s';
				var addy_text6ddcd39dd3dcd95272a68ef8d559ce34 = 'lmnc' + '&#64;' + 'j&#101;ffc&#111;' + '&#46;' + '&#117;s';document.getElementById('cloak6ddcd39dd3dcd95272a68ef8d559ce34').innerHTML += ''+addy_text6ddcd39dd3dcd95272a68ef8d559ce34+'';
		
DTSTAMP:20260419T090554Z
DTSTART;TZID=America/Denver:20150920T130000
DTEND;TZID=America/Denver:20150920T143000
SEQUENCE:0
TRANSP:OPAQUE
END:VEVENT
END:VCALENDAR