BEGIN:VCALENDAR
VERSION:2.0
PRODID:-//jEvents 2.0 for Joomla//EN
CALSCALE:GREGORIAN
METHOD:PUBLISH
BEGIN:VTIMEZONE
TZID:America/Denver
BEGIN:STANDARD
DTSTART:20141102T010000
RDATE:20150308T030000
TZOFFSETFROM:-0600
TZOFFSETTO:-0700
TZNAME:America/Denver MST
END:STANDARD
BEGIN:STANDARD
DTSTART:20151101T010000
RDATE:20160313T030000
TZOFFSETFROM:-0600
TZOFFSETTO:-0700
TZNAME:America/Denver MST
END:STANDARD
BEGIN:STANDARD
DTSTART:20161106T010000
RDATE:20170312T030000
TZOFFSETFROM:-0600
TZOFFSETTO:-0700
TZNAME:America/Denver MST
END:STANDARD
BEGIN:STANDARD
DTSTART:20171105T010000
RDATE:20180311T030000
TZOFFSETFROM:-0600
TZOFFSETTO:-0700
TZNAME:America/Denver MST
END:STANDARD
BEGIN:STANDARD
DTSTART:20181104T010000
RDATE:20190310T030000
TZOFFSETFROM:-0600
TZOFFSETTO:-0700
TZNAME:America/Denver MST
END:STANDARD
BEGIN:STANDARD
DTSTART:20191103T010000
RDATE:20200308T030000
TZOFFSETFROM:-0600
TZOFFSETTO:-0700
TZNAME:America/Denver MST
END:STANDARD
BEGIN:STANDARD
DTSTART:20201101T010000
RDATE:20210314T030000
TZOFFSETFROM:-0600
TZOFFSETTO:-0700
TZNAME:America/Denver MST
END:STANDARD
BEGIN:STANDARD
DTSTART:20211107T010000
RDATE:20220313T030000
TZOFFSETFROM:-0600
TZOFFSETTO:-0700
TZNAME:America/Denver MST
END:STANDARD
BEGIN:STANDARD
DTSTART:20221106T010000
RDATE:20230312T030000
TZOFFSETFROM:-0600
TZOFFSETTO:-0700
TZNAME:America/Denver MST
END:STANDARD
BEGIN:STANDARD
DTSTART:20231105T010000
RDATE:20240310T030000
TZOFFSETFROM:-0600
TZOFFSETTO:-0700
TZNAME:America/Denver MST
END:STANDARD
BEGIN:STANDARD
DTSTART:20241103T010000
RDATE:20250309T030000
TZOFFSETFROM:-0600
TZOFFSETTO:-0700
TZNAME:America/Denver MST
END:STANDARD
BEGIN:STANDARD
DTSTART:20251102T010000
RDATE:20260308T030000
TZOFFSETFROM:-0600
TZOFFSETTO:-0700
TZNAME:America/Denver MST
END:STANDARD
BEGIN:STANDARD
DTSTART:20261101T010000
RDATE:20270314T030000
TZOFFSETFROM:-0600
TZOFFSETTO:-0700
TZNAME:America/Denver MST
END:STANDARD
BEGIN:STANDARD
DTSTART:20271107T010000
RDATE:20280312T030000
TZOFFSETFROM:-0600
TZOFFSETTO:-0700
TZNAME:America/Denver MST
END:STANDARD
BEGIN:STANDARD
DTSTART:20281105T010000
RDATE:20290311T030000
TZOFFSETFROM:-0600
TZOFFSETTO:-0700
TZNAME:America/Denver MST
END:STANDARD
BEGIN:STANDARD
DTSTART:20291104T010000
RDATE:20300310T030000
TZOFFSETFROM:-0600
TZOFFSETTO:-0700
TZNAME:America/Denver MST
END:STANDARD
BEGIN:STANDARD
DTSTART:20301103T010000
RDATE:20310309T030000
TZOFFSETFROM:-0600
TZOFFSETTO:-0700
TZNAME:America/Denver MST
END:STANDARD
BEGIN:STANDARD
DTSTART:20311102T010000
RDATE:20320314T030000
TZOFFSETFROM:-0600
TZOFFSETTO:-0700
TZNAME:America/Denver MST
END:STANDARD
BEGIN:DAYLIGHT
DTSTART:20141003T110000
RDATE:20141102T010000
TZOFFSETFROM:-0700
TZOFFSETTO:-0600
TZNAME:America/Denver MDT
END:DAYLIGHT
BEGIN:DAYLIGHT
DTSTART:20150308T030000
RDATE:20151101T010000
TZOFFSETFROM:-0700
TZOFFSETTO:-0600
TZNAME:America/Denver MDT
END:DAYLIGHT
BEGIN:DAYLIGHT
DTSTART:20160313T030000
RDATE:20161106T010000
TZOFFSETFROM:-0700
TZOFFSETTO:-0600
TZNAME:America/Denver MDT
END:DAYLIGHT
BEGIN:DAYLIGHT
DTSTART:20170312T030000
RDATE:20171105T010000
TZOFFSETFROM:-0700
TZOFFSETTO:-0600
TZNAME:America/Denver MDT
END:DAYLIGHT
BEGIN:DAYLIGHT
DTSTART:20180311T030000
RDATE:20181104T010000
TZOFFSETFROM:-0700
TZOFFSETTO:-0600
TZNAME:America/Denver MDT
END:DAYLIGHT
BEGIN:DAYLIGHT
DTSTART:20190310T030000
RDATE:20191103T010000
TZOFFSETFROM:-0700
TZOFFSETTO:-0600
TZNAME:America/Denver MDT
END:DAYLIGHT
BEGIN:DAYLIGHT
DTSTART:20200308T030000
RDATE:20201101T010000
TZOFFSETFROM:-0700
TZOFFSETTO:-0600
TZNAME:America/Denver MDT
END:DAYLIGHT
BEGIN:DAYLIGHT
DTSTART:20210314T030000
RDATE:20211107T010000
TZOFFSETFROM:-0700
TZOFFSETTO:-0600
TZNAME:America/Denver MDT
END:DAYLIGHT
BEGIN:DAYLIGHT
DTSTART:20220313T030000
RDATE:20221106T010000
TZOFFSETFROM:-0700
TZOFFSETTO:-0600
TZNAME:America/Denver MDT
END:DAYLIGHT
BEGIN:DAYLIGHT
DTSTART:20230312T030000
RDATE:20231105T010000
TZOFFSETFROM:-0700
TZOFFSETTO:-0600
TZNAME:America/Denver MDT
END:DAYLIGHT
BEGIN:DAYLIGHT
DTSTART:20240310T030000
RDATE:20241103T010000
TZOFFSETFROM:-0700
TZOFFSETTO:-0600
TZNAME:America/Denver MDT
END:DAYLIGHT
BEGIN:DAYLIGHT
DTSTART:20250309T030000
RDATE:20251102T010000
TZOFFSETFROM:-0700
TZOFFSETTO:-0600
TZNAME:America/Denver MDT
END:DAYLIGHT
BEGIN:DAYLIGHT
DTSTART:20260308T030000
RDATE:20261101T010000
TZOFFSETFROM:-0700
TZOFFSETTO:-0600
TZNAME:America/Denver MDT
END:DAYLIGHT
BEGIN:DAYLIGHT
DTSTART:20270314T030000
RDATE:20271107T010000
TZOFFSETFROM:-0700
TZOFFSETTO:-0600
TZNAME:America/Denver MDT
END:DAYLIGHT
BEGIN:DAYLIGHT
DTSTART:20280312T030000
RDATE:20281105T010000
TZOFFSETFROM:-0700
TZOFFSETTO:-0600
TZNAME:America/Denver MDT
END:DAYLIGHT
BEGIN:DAYLIGHT
DTSTART:20290311T030000
RDATE:20291104T010000
TZOFFSETFROM:-0700
TZOFFSETTO:-0600
TZNAME:America/Denver MDT
END:DAYLIGHT
BEGIN:DAYLIGHT
DTSTART:20300310T030000
RDATE:20301103T010000
TZOFFSETFROM:-0700
TZOFFSETTO:-0600
TZNAME:America/Denver MDT
END:DAYLIGHT
BEGIN:DAYLIGHT
DTSTART:20310309T030000
RDATE:20311102T010000
TZOFFSETFROM:-0700
TZOFFSETTO:-0600
TZNAME:America/Denver MDT
END:DAYLIGHT
END:VTIMEZONE
BEGIN:VEVENT
UID:7ea7e902e9e2f279bd882c6c1bf9f928
CATEGORIES:Community Events, Kids & Family
CREATED:20150914T113438
SUMMARY:Evergreen Wedding & Event Showcase
LOCATION:Evergreen Lake House, 29612 Upper Bear Creek Road, Evergreen, CO 80439
DESCRIPTION;ENCODING=QUOTED-PRINTABLE:<p>Free event features vendors, complimentary vendor services Couples, busi
 nesses, organizations and non-profits are invited to attend the 2015 Evergr
 een Wedding & Event Showcase, being held at Evergreen Lake House on <strong
 >Sunday, October 4, 2015,</strong> from <strong>11:00 AM - 2:00 PM</strong>
 .<br /> <br /> Overlooking scenic Evergreen Lake and ringed by ponderosa pi
 ne forest and the elk-dotted Evergreen Golf Course, Evergreen Lake House pr
 ovides an idyllic mountain setting for weddings, parties, special events an
 d meetings. Located just half an hour from Denver, the Lake House hosts eve
 nts year round, combining the elegance of vaulted ceilings and dazzling vie
 ws from every window with the rustic log cabin charm of a mountain getaway.
  The free Wedding & Event Showcase offers participants the opportunity to s
 ample food and alcoholic beverages while experiencing the ambiance of Everg
 reen Lake House and gathering information about special event vendors and s
 ervice providers.<br /> <br /> A large variety of vendors will be on hand t
 o highlight their products and services, including: <br />    •   Bakers <b
 r />    •   Caterers <br />    •   Photography <br />    •   Accommodations
 <br />    •   Bartenders <br />    •   Liquor<br />    •   Rentals<br />   
  •   Planners and more.<br /> <br /> Evergreen Lake House is an LGBTQ-frien
 dly venue operated by Evergreen Park & Recreation District (EPRD). It is lo
 cated at 29612 Upper Bear Creek Rd., Evergreen, CO 80439. (<a title="Evergr
 een Lake House Map" href="https://www.google.com/maps/place/29612+Upper+Bea
 r+Creek+Rd,+Evergreen,+CO+80439/@39.632729,-105.332708,14z/data=%214m2%213m
 1%211s0x876b9e14ad69ab7f:0xdb7fd0b9f51167b2?hl=en" target="_blank"><strong>
 <em>MAP</em></strong></a>)<br /> <br /> Learn more about Evergreen Lake Hou
 se <a title="Weddings - Rentals - Events" href="http://www.evergreenrecreat
 ion.com/Facilities/Evergreen_Lake_House/Weddings_-_Rentals_-_Events.htm"><s
 trong><em>here</em></strong></a>. The wedding brochure is also available <a
  title="Evergreen Lake House Wedding Brochure" href="http://pubs.hawthornpu
 blications.com/evergreenlakehouse/" target="_blank"><strong><em>online</em>
 </strong></a>.<br /> <br /> For more information about the Wedding & Event 
 Showcase, please email Christine Dove at <a title="Christine Dove" href="ma
 ilto:cdove@eprd.co" target="_blank"><strong><em><span id="cloak17496c29ab23
 0bae8de9c6b8031b1713">This email address is being protected from spambots. 
 You need JavaScript enabled to view it.</span><script type='text/javascript
 '>
				document.getElementById('cloak17496c29ab230bae8de9c6b8031b1713').inn
 erHTML = '';
				var prefix = '&#109;a' + 'i&#108;' + '&#116;o';
				var pa
 th = 'hr' + 'ef' + '=';
				var addy17496c29ab230bae8de9c6b8031b1713 = 'cd&
 #111;v&#101;' + '&#64;';
				addy17496c29ab230bae8de9c6b8031b1713 = addy174
 96c29ab230bae8de9c6b8031b1713 + '&#101;prd' + '&#46;' + 'c&#111;';
				var 
 addy_text17496c29ab230bae8de9c6b8031b1713 = 'cd&#111;v&#101;' + '&#64;' + '
 &#101;prd' + '&#46;' + 'c&#111;';document.getElementById('cloak17496c29ab23
 0bae8de9c6b8031b1713').innerHTML += '<a ' + path + '\'' + prefix + ':' + ad
 dy17496c29ab230bae8de9c6b8031b1713 + '\'>'+addy_text17496c29ab230bae8de9c6b
 8031b1713+'<\/a>';
		</script></em></strong></a>, or call 720-880-1381.</p>
DTSTAMP:20260419T112239Z
DTSTART;TZID=America/Denver:20151004T110000
DTEND;TZID=America/Denver:20151004T140000
SEQUENCE:0
TRANSP:OPAQUE
END:VEVENT
END:VCALENDAR