BEGIN:VCALENDAR
VERSION:2.0
PRODID:-//jEvents 2.0 for Joomla//EN
CALSCALE:GREGORIAN
METHOD:PUBLISH
BEGIN:VTIMEZONE
TZID:America/Denver
BEGIN:STANDARD
DTSTART:20161106T010000
RDATE:20170312T030000
TZOFFSETFROM:-0600
TZOFFSETTO:-0700
TZNAME:America/Denver MST
END:STANDARD
BEGIN:STANDARD
DTSTART:20171105T010000
RDATE:20180311T030000
TZOFFSETFROM:-0600
TZOFFSETTO:-0700
TZNAME:America/Denver MST
END:STANDARD
BEGIN:STANDARD
DTSTART:20181104T010000
RDATE:20190310T030000
TZOFFSETFROM:-0600
TZOFFSETTO:-0700
TZNAME:America/Denver MST
END:STANDARD
BEGIN:STANDARD
DTSTART:20191103T010000
RDATE:20200308T030000
TZOFFSETFROM:-0600
TZOFFSETTO:-0700
TZNAME:America/Denver MST
END:STANDARD
BEGIN:STANDARD
DTSTART:20201101T010000
RDATE:20210314T030000
TZOFFSETFROM:-0600
TZOFFSETTO:-0700
TZNAME:America/Denver MST
END:STANDARD
BEGIN:STANDARD
DTSTART:20211107T010000
RDATE:20220313T030000
TZOFFSETFROM:-0600
TZOFFSETTO:-0700
TZNAME:America/Denver MST
END:STANDARD
BEGIN:STANDARD
DTSTART:20221106T010000
RDATE:20230312T030000
TZOFFSETFROM:-0600
TZOFFSETTO:-0700
TZNAME:America/Denver MST
END:STANDARD
BEGIN:STANDARD
DTSTART:20231105T010000
RDATE:20240310T030000
TZOFFSETFROM:-0600
TZOFFSETTO:-0700
TZNAME:America/Denver MST
END:STANDARD
BEGIN:STANDARD
DTSTART:20241103T010000
RDATE:20250309T030000
TZOFFSETFROM:-0600
TZOFFSETTO:-0700
TZNAME:America/Denver MST
END:STANDARD
BEGIN:STANDARD
DTSTART:20251102T010000
RDATE:20260308T030000
TZOFFSETFROM:-0600
TZOFFSETTO:-0700
TZNAME:America/Denver MST
END:STANDARD
BEGIN:STANDARD
DTSTART:20261101T010000
RDATE:20270314T030000
TZOFFSETFROM:-0600
TZOFFSETTO:-0700
TZNAME:America/Denver MST
END:STANDARD
BEGIN:STANDARD
DTSTART:20271107T010000
RDATE:20280312T030000
TZOFFSETFROM:-0600
TZOFFSETTO:-0700
TZNAME:America/Denver MST
END:STANDARD
BEGIN:STANDARD
DTSTART:20281105T010000
RDATE:20290311T030000
TZOFFSETFROM:-0600
TZOFFSETTO:-0700
TZNAME:America/Denver MST
END:STANDARD
BEGIN:STANDARD
DTSTART:20291104T010000
RDATE:20300310T030000
TZOFFSETFROM:-0600
TZOFFSETTO:-0700
TZNAME:America/Denver MST
END:STANDARD
BEGIN:STANDARD
DTSTART:20301103T010000
RDATE:20310309T030000
TZOFFSETFROM:-0600
TZOFFSETTO:-0700
TZNAME:America/Denver MST
END:STANDARD
BEGIN:STANDARD
DTSTART:20311102T010000
RDATE:20320314T030000
TZOFFSETFROM:-0600
TZOFFSETTO:-0700
TZNAME:America/Denver MST
END:STANDARD
BEGIN:DAYLIGHT
DTSTART:20160623T140000
RDATE:20161106T010000
TZOFFSETFROM:-0700
TZOFFSETTO:-0600
TZNAME:America/Denver MDT
END:DAYLIGHT
BEGIN:DAYLIGHT
DTSTART:20170312T030000
RDATE:20171105T010000
TZOFFSETFROM:-0700
TZOFFSETTO:-0600
TZNAME:America/Denver MDT
END:DAYLIGHT
BEGIN:DAYLIGHT
DTSTART:20180311T030000
RDATE:20181104T010000
TZOFFSETFROM:-0700
TZOFFSETTO:-0600
TZNAME:America/Denver MDT
END:DAYLIGHT
BEGIN:DAYLIGHT
DTSTART:20190310T030000
RDATE:20191103T010000
TZOFFSETFROM:-0700
TZOFFSETTO:-0600
TZNAME:America/Denver MDT
END:DAYLIGHT
BEGIN:DAYLIGHT
DTSTART:20200308T030000
RDATE:20201101T010000
TZOFFSETFROM:-0700
TZOFFSETTO:-0600
TZNAME:America/Denver MDT
END:DAYLIGHT
BEGIN:DAYLIGHT
DTSTART:20210314T030000
RDATE:20211107T010000
TZOFFSETFROM:-0700
TZOFFSETTO:-0600
TZNAME:America/Denver MDT
END:DAYLIGHT
BEGIN:DAYLIGHT
DTSTART:20220313T030000
RDATE:20221106T010000
TZOFFSETFROM:-0700
TZOFFSETTO:-0600
TZNAME:America/Denver MDT
END:DAYLIGHT
BEGIN:DAYLIGHT
DTSTART:20230312T030000
RDATE:20231105T010000
TZOFFSETFROM:-0700
TZOFFSETTO:-0600
TZNAME:America/Denver MDT
END:DAYLIGHT
BEGIN:DAYLIGHT
DTSTART:20240310T030000
RDATE:20241103T010000
TZOFFSETFROM:-0700
TZOFFSETTO:-0600
TZNAME:America/Denver MDT
END:DAYLIGHT
BEGIN:DAYLIGHT
DTSTART:20250309T030000
RDATE:20251102T010000
TZOFFSETFROM:-0700
TZOFFSETTO:-0600
TZNAME:America/Denver MDT
END:DAYLIGHT
BEGIN:DAYLIGHT
DTSTART:20260308T030000
RDATE:20261101T010000
TZOFFSETFROM:-0700
TZOFFSETTO:-0600
TZNAME:America/Denver MDT
END:DAYLIGHT
BEGIN:DAYLIGHT
DTSTART:20270314T030000
RDATE:20271107T010000
TZOFFSETFROM:-0700
TZOFFSETTO:-0600
TZNAME:America/Denver MDT
END:DAYLIGHT
BEGIN:DAYLIGHT
DTSTART:20280312T030000
RDATE:20281105T010000
TZOFFSETFROM:-0700
TZOFFSETTO:-0600
TZNAME:America/Denver MDT
END:DAYLIGHT
BEGIN:DAYLIGHT
DTSTART:20290311T030000
RDATE:20291104T010000
TZOFFSETFROM:-0700
TZOFFSETTO:-0600
TZNAME:America/Denver MDT
END:DAYLIGHT
BEGIN:DAYLIGHT
DTSTART:20300310T030000
RDATE:20301103T010000
TZOFFSETFROM:-0700
TZOFFSETTO:-0600
TZNAME:America/Denver MDT
END:DAYLIGHT
BEGIN:DAYLIGHT
DTSTART:20310309T030000
RDATE:20311102T010000
TZOFFSETFROM:-0700
TZOFFSETTO:-0600
TZNAME:America/Denver MDT
END:DAYLIGHT
END:VTIMEZONE
BEGIN:VEVENT
UID:9bd269f59116d10c4f748994367c4d9f
CATEGORIES:Community Events
CREATED:20170617T125519
SUMMARY:Learning to use Ancestry, the library edition
LOCATION:LOCATION: Evergreen Library
DESCRIPTION;ENCODING=QUOTED-PRINTABLE:<p>&nbsp;</p><p><span style="text-align: left; color: #000000; text-transfo
 rm: none; text-indent: 0px; letter-spacing: normal; font-family: myriad-pro
 , Helvetica, Arial, sans-serif; font-size: 14px; font-style: normal; font-w
 eight: normal; word-spacing: 0px; float: none; display: inline !important; 
 white-space: normal; orphans: 2; widows: 2; background-color: #ffffff; font
 -variant-ligatures: normal; font-variant-caps: normal; -webkit-text-stroke-
 width: 0px; text-decoration-style: initial; text-decoration-color: initial;
 ">Ready to explore your family tree? Watch your family tree grow as you sta
 rt or continue your family history research using the tools available on<sp
 an class="Apple-converted-space"></span></span><a href="https://jeffcolibra
 ry.org/research/genealogy" style="margin: 0px; padding: 0px; outline: 0px; 
 border: 0px currentColor; text-align: left; color: #0062a0; text-transform:
  none; line-height: inherit; text-indent: 0px; letter-spacing: normal; font
 -family: myriad-pro, Helvetica, Arial, sans-serif; font-size: 14px; font-st
 yle: normal; font-weight: normal; text-decoration: underline; word-spacing:
  0px; vertical-align: baseline; white-space: normal; orphans: 2; widows: 2;
  font-stretch: inherit; background-color: #ffffff; font-variant-ligatures: 
 normal; font-variant-caps: normal; font-variant-numeric: inherit; -webkit-t
 ext-stroke-width: 0px;">Ancestry.com</a><span style="text-align: left; colo
 r: #000000; text-transform: none; text-indent: 0px; letter-spacing: normal;
  font-family: myriad-pro, Helvetica, Arial, sans-serif; font-size: 14px; fo
 nt-style: normal; font-weight: normal; word-spacing: 0px; float: none; disp
 lay: inline !important; white-space: normal; orphans: 2; widows: 2; backgro
 und-color: #ffffff; font-variant-ligatures: normal; font-variant-caps: norm
 al; -webkit-text-stroke-width: 0px; text-decoration-style: initial; text-de
 coration-color: initial;">. Discover the best practices in genealogy resear
 ch while avoiding common pitfalls.&nbsp; The Mountain Genealogists Society 
 helps you navigate the Library version of Ancestry.com, which is free to us
 e with your library card.&nbsp;Please bring a laptop if you have one.</span
 ><br style="text-align: left; color: #000000; text-transform: none; text-in
 dent: 0px; letter-spacing: normal; font-family: myriad-pro, Helvetica, Aria
 l, sans-serif; font-size: 14px; font-style: normal; font-weight: normal; wo
 rd-spacing: 0px; white-space: normal; orphans: 2; widows: 2; background-col
 or: #ffffff; font-variant-ligatures: normal; font-variant-caps: normal; -we
 bkit-text-stroke-width: 0px; text-decoration-style: initial; text-decoratio
 n-color: initial;" /><br style="text-align: left; color: #000000; text-tran
 sform: none; text-indent: 0px; letter-spacing: normal; font-family: myriad-
 pro, Helvetica, Arial, sans-serif; font-size: 14px; font-style: normal; fon
 t-weight: normal; word-spacing: 0px; white-space: normal; orphans: 2; widow
 s: 2; background-color: #ffffff; font-variant-ligatures: normal; font-varia
 nt-caps: normal; -webkit-text-stroke-width: 0px; text-decoration-style: ini
 tial; text-decoration-color: initial;" /><span style="text-align: left; col
 or: #000000; text-transform: none; text-indent: 0px; letter-spacing: normal
 ; font-family: myriad-pro, Helvetica, Arial, sans-serif; font-size: 14px; f
 ont-style: normal; font-weight: normal; word-spacing: 0px; float: none; dis
 play: inline !important; white-space: normal; orphans: 2; widows: 2; backgr
 ound-color: #ffffff; font-variant-ligatures: normal; font-variant-caps: nor
 mal; -webkit-text-stroke-width: 0px; text-decoration-style: initial; text-d
 ecoration-color: initial;">Suitable for: Adults</span></p>
DTSTAMP:20260424T031252Z
DTSTART;TZID=America/Denver:20170624T140000
DTEND;TZID=America/Denver:20170624T160000
SEQUENCE:0
TRANSP:OPAQUE
END:VEVENT
END:VCALENDAR