BEGIN:VCALENDAR
VERSION:2.0
PRODID:-//jEvents 2.0 for Joomla//EN
CALSCALE:GREGORIAN
METHOD:PUBLISH
BEGIN:VTIMEZONE
TZID:America/Denver
BEGIN:STANDARD
DTSTART:20171105T010000
RDATE:20180311T030000
TZOFFSETFROM:-0600
TZOFFSETTO:-0700
TZNAME:America/Denver MST
END:STANDARD
BEGIN:STANDARD
DTSTART:20181104T010000
RDATE:20190310T030000
TZOFFSETFROM:-0600
TZOFFSETTO:-0700
TZNAME:America/Denver MST
END:STANDARD
BEGIN:STANDARD
DTSTART:20191103T010000
RDATE:20200308T030000
TZOFFSETFROM:-0600
TZOFFSETTO:-0700
TZNAME:America/Denver MST
END:STANDARD
BEGIN:STANDARD
DTSTART:20201101T010000
RDATE:20210314T030000
TZOFFSETFROM:-0600
TZOFFSETTO:-0700
TZNAME:America/Denver MST
END:STANDARD
BEGIN:STANDARD
DTSTART:20211107T010000
RDATE:20220313T030000
TZOFFSETFROM:-0600
TZOFFSETTO:-0700
TZNAME:America/Denver MST
END:STANDARD
BEGIN:STANDARD
DTSTART:20221106T010000
RDATE:20230312T030000
TZOFFSETFROM:-0600
TZOFFSETTO:-0700
TZNAME:America/Denver MST
END:STANDARD
BEGIN:STANDARD
DTSTART:20231105T010000
RDATE:20240310T030000
TZOFFSETFROM:-0600
TZOFFSETTO:-0700
TZNAME:America/Denver MST
END:STANDARD
BEGIN:STANDARD
DTSTART:20241103T010000
RDATE:20250309T030000
TZOFFSETFROM:-0600
TZOFFSETTO:-0700
TZNAME:America/Denver MST
END:STANDARD
BEGIN:STANDARD
DTSTART:20251102T010000
RDATE:20260308T030000
TZOFFSETFROM:-0600
TZOFFSETTO:-0700
TZNAME:America/Denver MST
END:STANDARD
BEGIN:STANDARD
DTSTART:20261101T010000
RDATE:20270314T030000
TZOFFSETFROM:-0600
TZOFFSETTO:-0700
TZNAME:America/Denver MST
END:STANDARD
BEGIN:STANDARD
DTSTART:20271107T010000
RDATE:20280312T030000
TZOFFSETFROM:-0600
TZOFFSETTO:-0700
TZNAME:America/Denver MST
END:STANDARD
BEGIN:STANDARD
DTSTART:20281105T010000
RDATE:20290311T030000
TZOFFSETFROM:-0600
TZOFFSETTO:-0700
TZNAME:America/Denver MST
END:STANDARD
BEGIN:STANDARD
DTSTART:20291104T010000
RDATE:20300310T030000
TZOFFSETFROM:-0600
TZOFFSETTO:-0700
TZNAME:America/Denver MST
END:STANDARD
BEGIN:STANDARD
DTSTART:20301103T010000
RDATE:20310309T030000
TZOFFSETFROM:-0600
TZOFFSETTO:-0700
TZNAME:America/Denver MST
END:STANDARD
BEGIN:STANDARD
DTSTART:20311102T010000
RDATE:20320314T030000
TZOFFSETFROM:-0600
TZOFFSETTO:-0700
TZNAME:America/Denver MST
END:STANDARD
BEGIN:DAYLIGHT
DTSTART:20170719T000000
RDATE:20171105T010000
TZOFFSETFROM:-0700
TZOFFSETTO:-0600
TZNAME:America/Denver MDT
END:DAYLIGHT
BEGIN:DAYLIGHT
DTSTART:20180311T030000
RDATE:20181104T010000
TZOFFSETFROM:-0700
TZOFFSETTO:-0600
TZNAME:America/Denver MDT
END:DAYLIGHT
BEGIN:DAYLIGHT
DTSTART:20190310T030000
RDATE:20191103T010000
TZOFFSETFROM:-0700
TZOFFSETTO:-0600
TZNAME:America/Denver MDT
END:DAYLIGHT
BEGIN:DAYLIGHT
DTSTART:20200308T030000
RDATE:20201101T010000
TZOFFSETFROM:-0700
TZOFFSETTO:-0600
TZNAME:America/Denver MDT
END:DAYLIGHT
BEGIN:DAYLIGHT
DTSTART:20210314T030000
RDATE:20211107T010000
TZOFFSETFROM:-0700
TZOFFSETTO:-0600
TZNAME:America/Denver MDT
END:DAYLIGHT
BEGIN:DAYLIGHT
DTSTART:20220313T030000
RDATE:20221106T010000
TZOFFSETFROM:-0700
TZOFFSETTO:-0600
TZNAME:America/Denver MDT
END:DAYLIGHT
BEGIN:DAYLIGHT
DTSTART:20230312T030000
RDATE:20231105T010000
TZOFFSETFROM:-0700
TZOFFSETTO:-0600
TZNAME:America/Denver MDT
END:DAYLIGHT
BEGIN:DAYLIGHT
DTSTART:20240310T030000
RDATE:20241103T010000
TZOFFSETFROM:-0700
TZOFFSETTO:-0600
TZNAME:America/Denver MDT
END:DAYLIGHT
BEGIN:DAYLIGHT
DTSTART:20250309T030000
RDATE:20251102T010000
TZOFFSETFROM:-0700
TZOFFSETTO:-0600
TZNAME:America/Denver MDT
END:DAYLIGHT
BEGIN:DAYLIGHT
DTSTART:20260308T030000
RDATE:20261101T010000
TZOFFSETFROM:-0700
TZOFFSETTO:-0600
TZNAME:America/Denver MDT
END:DAYLIGHT
BEGIN:DAYLIGHT
DTSTART:20270314T030000
RDATE:20271107T010000
TZOFFSETFROM:-0700
TZOFFSETTO:-0600
TZNAME:America/Denver MDT
END:DAYLIGHT
BEGIN:DAYLIGHT
DTSTART:20280312T030000
RDATE:20281105T010000
TZOFFSETFROM:-0700
TZOFFSETTO:-0600
TZNAME:America/Denver MDT
END:DAYLIGHT
BEGIN:DAYLIGHT
DTSTART:20290311T030000
RDATE:20291104T010000
TZOFFSETFROM:-0700
TZOFFSETTO:-0600
TZNAME:America/Denver MDT
END:DAYLIGHT
BEGIN:DAYLIGHT
DTSTART:20300310T030000
RDATE:20301103T010000
TZOFFSETFROM:-0700
TZOFFSETTO:-0600
TZNAME:America/Denver MDT
END:DAYLIGHT
BEGIN:DAYLIGHT
DTSTART:20310309T030000
RDATE:20311102T010000
TZOFFSETFROM:-0700
TZOFFSETTO:-0600
TZNAME:America/Denver MDT
END:DAYLIGHT
END:VTIMEZONE
BEGIN:VEVENT
UID:b788096d2029267405d0644c7524031e
CATEGORIES:Community Events, Kids & Family, Arts, Dining, & Entertainment
CREATED:20171017T170805
SUMMARY:21st Annual Alma Festival in the Clouds
LOCATION:Alma, CO
DESCRIPTION;ENCODING=QUOTED-PRINTABLE:\n\n2018 is the 21st year. The Festival in the Clouds is the largest and mo
 st popular event sponsored by the Alma Foundation. The free outdoor art and
  music festival includes about 25 bands and 40 regional artists annually. I
 n addition to fabulous art and music, the event features delicious food, ch
 ildren’s activities, a beer garden, dancing and more.\n \n\n\nThe festival,
  originally intended to provide a venue for local musicians and artists to 
 gain exposure has proven to be the biggest Alma Foundation fundraiser. More
  than $22,000 was raised in 2017 for area community projects.\n \n Festival
  in the Clouds Band Schedule on audiomountain.com\n Sound and light provide
 d by Colorado Central Sound Company.\n \n For more information call the Alm
 a Town Hall at (719) 836-2712. \n \n SPECIAL THANKS to Ellwood "Chip" Barre
 tt and his great stage crew for organizing all the music!\n\n\nVolunteer Fi
 refighters Pancake Breakfast\n 8am to 10am July 22, 2018\n Alma Fire Statio
 n (SE corner of Main &amp; Buckskin)\n Presented by NWFPD\n \n For Public R
 elations/Media information/questions contact Nancy:  This email address is 
 being protected from spambots. You need JavaScript enabled to view it.
				
 document.getElementById('cloak414be37c81b9272d8dc6e5ab99489c7e').innerHTML 
 = '';
				var prefix = '&#109;a' + 'i&#108;' + '&#116;o';
				var path = 'h
 r' + 'ef' + '=';
				var addy414be37c81b9272d8dc6e5ab99489c7e = 'nc&#111;m&
 #101;r' + '&#64;';
				addy414be37c81b9272d8dc6e5ab99489c7e = addy414be37c8
 1b9272d8dc6e5ab99489c7e + 't&#111;wn&#111;f&#97;lm&#97;' + '&#46;' + 'c&#11
 1;m';
				var addy_text414be37c81b9272d8dc6e5ab99489c7e = 'nc&#111;m&#101;r
 ' + '&#64;' + 't&#111;wn&#111;f&#97;lm&#97;' + '&#46;' + 'c&#111;m';documen
 t.getElementById('cloak414be37c81b9272d8dc6e5ab99489c7e').innerHTML += ''+a
 ddy_text414be37c81b9272d8dc6e5ab99489c7e+'';
		\n \n Vendor Application 201
 8\n NEW ADDRESS: Mail vendor applications to:\nSheral Ransom\n3800 Pike Rd 
 Apt 4-201\nLongmont, CO 80503\nFor vendor questions contact Sheral 720-204-
 6640 or  This email address is being protected from spambots. You need Java
 Script enabled to view it.
				document.getElementById('cloakd638eee675fb11
 546cb38711e3d09574').innerHTML = '';
				var prefix = '&#109;a' + 'i&#108;'
  + '&#116;o';
				var path = 'hr' + 'ef' + '=';
				var addyd638eee675fb115
 46cb38711e3d09574 = 'sh&#101;r&#97;l56' + '&#64;';
				addyd638eee675fb1154
 6cb38711e3d09574 = addyd638eee675fb11546cb38711e3d09574 + 'msn' + '&#46;' +
  'c&#111;m';
				var addy_textd638eee675fb11546cb38711e3d09574 = 'sh&#101;r
 &#97;l56' + '&#64;' + 'msn' + '&#46;' + 'c&#111;m';document.getElementById(
 'cloakd638eee675fb11546cb38711e3d09574').innerHTML += ''+addy_textd638eee67
 5fb11546cb38711e3d09574+'';
		\n \n \nVolunteer Coordinators Alma Foundatio
 n Booth - Julie: 719-836-0519 This email address is being protected from sp
 ambots. You need JavaScript enabled to view it.
				document.getElementById
 ('cloakd9195ba4a6e0ad9426af0542c94707be').innerHTML = '';
				var prefix = 
 '&#109;a' + 'i&#108;' + '&#116;o';
				var path = 'hr' + 'ef' + '=';
				va
 r addyd9195ba4a6e0ad9426af0542c94707be = 's&#117;g&#97;rw&#97;t&#101;r1' + 
 '&#64;';
				addyd9195ba4a6e0ad9426af0542c94707be = addyd9195ba4a6e0ad9426a
 f0542c94707be + 'gm&#97;&#105;l' + '&#46;' + 'c&#111;m?s&#117;bj&#101;ct=F&
 #101;st&#105;v&#97;l F&#111;&#117;nd&#97;t&#105;&#111;n B&#111;&#111;th v&#
 111;l&#117;nt&#101;&#101;r';
				var addy_textd9195ba4a6e0ad9426af0542c9470
 7be = 's&#117;g&#97;rw&#97;t&#101;r1' + '&#64;' + 'gm&#97;&#105;l' + '&#46;
 ' + 'c&#111;m';document.getElementById('cloakd9195ba4a6e0ad9426af0542c94707
 be').innerHTML += ''+addy_textd9195ba4a6e0ad9426af0542c94707be+'';
		\nVolu
 nteers needed for the Alma Foundation booth for the weekend. The booth sell
 s t-shirts(and hoodies, etc), raffle tickets, and the beer tickets. Looking
  for volunteer help starting Saturday at 11am. They are two hour shifts Sat
 urday and Sunday until 5pm. If you are only able to do a shorter shift, we 
 are flexible. Sunday starts at 9am. As a volunteer, you will receive a fest
 ival t-shirt if you volunteer for at least 4 hours.\n \n Volunteer Coordina
 tor Camping - Bonnie: This email address is being protected from spambots. 
 You need JavaScript enabled to view it.
				document.getElementById('cloakf
 72e33fdd72f15c5a2f652ee824bd675').innerHTML = '';
				var prefix = '&#109;a
 ' + 'i&#108;' + '&#116;o';
				var path = 'hr' + 'ef' + '=';
				var addyf7
 2e33fdd72f15c5a2f652ee824bd675 = 'b&#111;nn&#105;&#101;p&#97;ff&#101;nr&#11
 1;th' + '&#64;';
				addyf72e33fdd72f15c5a2f652ee824bd675 = addyf72e33fdd72
 f15c5a2f652ee824bd675 + 'h&#117;gh&#101;s' + '&#46;' + 'n&#101;t';
				var 
 addy_textf72e33fdd72f15c5a2f652ee824bd675 = 'b&#111;nn&#105;&#101;p&#97;ff&
 #101;nr&#111;th' + '&#64;' + 'h&#117;gh&#101;s' + '&#46;' + 'n&#101;t';docu
 ment.getElementById('cloakf72e33fdd72f15c5a2f652ee824bd675').innerHTML += '
 '+addy_textf72e33fdd72f15c5a2f652ee824bd675+'';
		\n Camping information/qu
 estions: This email address is being protected from spambots. You need Java
 Script enabled to view it.
				document.getElementById('cloake4e4a32c983e9e
 f4f56c8f994b8f027b').innerHTML = '';
				var prefix = '&#109;a' + 'i&#108;'
  + '&#116;o';
				var path = 'hr' + 'ef' + '=';
				var addye4e4a32c983e9ef
 4f56c8f994b8f027b = 'b&#111;nn&#105;&#101;p&#97;ff&#101;nr&#111;th' + '&#64
 ;';
				addye4e4a32c983e9ef4f56c8f994b8f027b = addye4e4a32c983e9ef4f56c8f99
 4b8f027b + 'h&#117;gh&#101;s' + '&#46;' + 'n&#101;t?s&#117;bj&#101;ct=F&#10
 1;st&#105;v&#97;l &#105;n th&#101; Cl&#111;&#117;ds-C&#97;mp&#105;ng';
				
 var addy_texte4e4a32c983e9ef4f56c8f994b8f027b = 'b&#111;nn&#105;&#101;p&#97
 ;ff&#101;nr&#111;th' + '&#64;' + 'h&#117;gh&#101;s' + '&#46;' + 'n&#101;t';
 document.getElementById('cloake4e4a32c983e9ef4f56c8f994b8f027b').innerHTML 
 += ''+addy_texte4e4a32c983e9ef4f56c8f994b8f027b+'';
		\n Happy Camper Rules
  - please read!\n\n Volunteer Coordinator Beer Booth - Mark: This email add
 ress is being protected from spambots. You need JavaScript enabled to view 
 it.
				document.getElementById('cloakae5eac19d8aa871d5b552d473b59e9f6').in
 nerHTML = '';
				var prefix = '&#109;a' + 'i&#108;' + '&#116;o';
				var p
 ath = 'hr' + 'ef' + '=';
				var addyae5eac19d8aa871d5b552d473b59e9f6 = 'm&
 #97;rkdb&#111;nd' + '&#64;';
				addyae5eac19d8aa871d5b552d473b59e9f6 = add
 yae5eac19d8aa871d5b552d473b59e9f6 + 'gm&#97;&#105;l' + '&#46;' + 'c&#111;m?
 s&#117;bj&#101;ct=F&#101;st&#105;v&#97;l &#105;n th&#101; Cl&#111;&#117;ds-
 B&#101;&#101;r B&#111;&#111;th';
				var addy_textae5eac19d8aa871d5b552d473
 b59e9f6 = 'm&#97;rkdb&#111;nd' + '&#64;' + 'gm&#97;&#105;l' + '&#46;' + 'c&
 #111;m';document.getElementById('cloakae5eac19d8aa871d5b552d473b59e9f6').in
 nerHTML += ''+addy_textae5eac19d8aa871d5b552d473b59e9f6+'';
		 or 678-521-2
 393\n \nVolunteer Coordinator Trash - Jara:  This email address is being pr
 otected from spambots. You need JavaScript enabled to view it.
				document
 .getElementById('cloakb2e2b5cf4843303a65d00b472e10ee0b').innerHTML = '';
		
 		var prefix = '&#109;a' + 'i&#108;' + '&#116;o';
				var path = 'hr' + 'ef
 ' + '=';
				var addyb2e2b5cf4843303a65d00b472e10ee0b = 'j&#97;r&#97;&#97;j
 &#111;hns&#111;n' + '&#64;';
				addyb2e2b5cf4843303a65d00b472e10ee0b = add
 yb2e2b5cf4843303a65d00b472e10ee0b + 'gm&#97;&#105;l' + '&#46;' + 'c&#111;m'
 ;
				var addy_textb2e2b5cf4843303a65d00b472e10ee0b = 'j&#97;r&#97;&#97;j&#
 111;hns&#111;n' + '&#64;' + 'gm&#97;&#105;l' + '&#46;' + 'c&#111;m';documen
 t.getElementById('cloakb2e2b5cf4843303a65d00b472e10ee0b').innerHTML += ''+a
 ddy_textb2e2b5cf4843303a65d00b472e10ee0b+'';
		\n\n\nVolunteer Coordinator 
 Security - Mark: This email address is being protected from spambots. You n
 eed JavaScript enabled to view it.
				document.getElementById('cloak6b5cfc
 699d143db0d6e6e50ec467c18c').innerHTML = '';
				var prefix = '&#109;a' + '
 i&#108;' + '&#116;o';
				var path = 'hr' + 'ef' + '=';
				var addy6b5cfc6
 99d143db0d6e6e50ec467c18c = 'm&#97;rkdb&#111;nd' + '&#64;';
				addy6b5cfc6
 99d143db0d6e6e50ec467c18c = addy6b5cfc699d143db0d6e6e50ec467c18c + 'gm&#97;
 &#105;l' + '&#46;' + 'c&#111;m?s&#117;bj&#101;ct=F&#101;st&#105;v&#97;l &#1
 05;n th&#101; Cl&#111;&#117;ds-S&#101;c&#117;r&#105;ty';
				var addy_text6
 b5cfc699d143db0d6e6e50ec467c18c = 'm&#97;rkdb&#111;nd' + '&#64;' + 'gm&#97;
 &#105;l' + '&#46;' + 'c&#111;m';document.getElementById('cloak6b5cfc699d143
 db0d6e6e50ec467c18c').innerHTML += ''+addy_text6b5cfc699d143db0d6e6e50ec467
 c18c+'';
		 or 678-521-2393\n
CONTACT:(719) 836-2712
X-EXTRAINFO:http://www.almafoundation.com/events/FestivalClouds.html
DTSTAMP:20260421T121918Z
DTSTART;TZID=America/Denver;VALUE=DATE:20180720
DTEND;TZID=America/Denver;VALUE=DATE:20180723
SEQUENCE:0
TRANSP:OPAQUE
END:VEVENT
END:VCALENDAR