BEGIN:VCALENDAR
VERSION:2.0
PRODID:-//jEvents 2.0 for Joomla//EN
CALSCALE:GREGORIAN
METHOD:PUBLISH
BEGIN:VTIMEZONE
TZID:America/Denver
BEGIN:STANDARD
DTSTART:20171105T010000
RDATE:20180311T030000
TZOFFSETFROM:-0600
TZOFFSETTO:-0700
TZNAME:America/Denver MST
END:STANDARD
BEGIN:STANDARD
DTSTART:20181104T010000
RDATE:20190310T030000
TZOFFSETFROM:-0600
TZOFFSETTO:-0700
TZNAME:America/Denver MST
END:STANDARD
BEGIN:STANDARD
DTSTART:20191103T010000
RDATE:20200308T030000
TZOFFSETFROM:-0600
TZOFFSETTO:-0700
TZNAME:America/Denver MST
END:STANDARD
BEGIN:STANDARD
DTSTART:20201101T010000
RDATE:20210314T030000
TZOFFSETFROM:-0600
TZOFFSETTO:-0700
TZNAME:America/Denver MST
END:STANDARD
BEGIN:STANDARD
DTSTART:20211107T010000
RDATE:20220313T030000
TZOFFSETFROM:-0600
TZOFFSETTO:-0700
TZNAME:America/Denver MST
END:STANDARD
BEGIN:STANDARD
DTSTART:20221106T010000
RDATE:20230312T030000
TZOFFSETFROM:-0600
TZOFFSETTO:-0700
TZNAME:America/Denver MST
END:STANDARD
BEGIN:STANDARD
DTSTART:20231105T010000
RDATE:20240310T030000
TZOFFSETFROM:-0600
TZOFFSETTO:-0700
TZNAME:America/Denver MST
END:STANDARD
BEGIN:STANDARD
DTSTART:20241103T010000
RDATE:20250309T030000
TZOFFSETFROM:-0600
TZOFFSETTO:-0700
TZNAME:America/Denver MST
END:STANDARD
BEGIN:STANDARD
DTSTART:20251102T010000
RDATE:20260308T030000
TZOFFSETFROM:-0600
TZOFFSETTO:-0700
TZNAME:America/Denver MST
END:STANDARD
BEGIN:STANDARD
DTSTART:20261101T010000
RDATE:20270314T030000
TZOFFSETFROM:-0600
TZOFFSETTO:-0700
TZNAME:America/Denver MST
END:STANDARD
BEGIN:STANDARD
DTSTART:20271107T010000
RDATE:20280312T030000
TZOFFSETFROM:-0600
TZOFFSETTO:-0700
TZNAME:America/Denver MST
END:STANDARD
BEGIN:STANDARD
DTSTART:20281105T010000
RDATE:20290311T030000
TZOFFSETFROM:-0600
TZOFFSETTO:-0700
TZNAME:America/Denver MST
END:STANDARD
BEGIN:STANDARD
DTSTART:20291104T010000
RDATE:20300310T030000
TZOFFSETFROM:-0600
TZOFFSETTO:-0700
TZNAME:America/Denver MST
END:STANDARD
BEGIN:STANDARD
DTSTART:20301103T010000
RDATE:20310309T030000
TZOFFSETFROM:-0600
TZOFFSETTO:-0700
TZNAME:America/Denver MST
END:STANDARD
BEGIN:STANDARD
DTSTART:20311102T010000
RDATE:20320314T030000
TZOFFSETFROM:-0600
TZOFFSETTO:-0700
TZNAME:America/Denver MST
END:STANDARD
BEGIN:DAYLIGHT
DTSTART:20170706T080000
RDATE:20171105T010000
TZOFFSETFROM:-0700
TZOFFSETTO:-0600
TZNAME:America/Denver MDT
END:DAYLIGHT
BEGIN:DAYLIGHT
DTSTART:20180311T030000
RDATE:20181104T010000
TZOFFSETFROM:-0700
TZOFFSETTO:-0600
TZNAME:America/Denver MDT
END:DAYLIGHT
BEGIN:DAYLIGHT
DTSTART:20190310T030000
RDATE:20191103T010000
TZOFFSETFROM:-0700
TZOFFSETTO:-0600
TZNAME:America/Denver MDT
END:DAYLIGHT
BEGIN:DAYLIGHT
DTSTART:20200308T030000
RDATE:20201101T010000
TZOFFSETFROM:-0700
TZOFFSETTO:-0600
TZNAME:America/Denver MDT
END:DAYLIGHT
BEGIN:DAYLIGHT
DTSTART:20210314T030000
RDATE:20211107T010000
TZOFFSETFROM:-0700
TZOFFSETTO:-0600
TZNAME:America/Denver MDT
END:DAYLIGHT
BEGIN:DAYLIGHT
DTSTART:20220313T030000
RDATE:20221106T010000
TZOFFSETFROM:-0700
TZOFFSETTO:-0600
TZNAME:America/Denver MDT
END:DAYLIGHT
BEGIN:DAYLIGHT
DTSTART:20230312T030000
RDATE:20231105T010000
TZOFFSETFROM:-0700
TZOFFSETTO:-0600
TZNAME:America/Denver MDT
END:DAYLIGHT
BEGIN:DAYLIGHT
DTSTART:20240310T030000
RDATE:20241103T010000
TZOFFSETFROM:-0700
TZOFFSETTO:-0600
TZNAME:America/Denver MDT
END:DAYLIGHT
BEGIN:DAYLIGHT
DTSTART:20250309T030000
RDATE:20251102T010000
TZOFFSETFROM:-0700
TZOFFSETTO:-0600
TZNAME:America/Denver MDT
END:DAYLIGHT
BEGIN:DAYLIGHT
DTSTART:20260308T030000
RDATE:20261101T010000
TZOFFSETFROM:-0700
TZOFFSETTO:-0600
TZNAME:America/Denver MDT
END:DAYLIGHT
BEGIN:DAYLIGHT
DTSTART:20270314T030000
RDATE:20271107T010000
TZOFFSETFROM:-0700
TZOFFSETTO:-0600
TZNAME:America/Denver MDT
END:DAYLIGHT
BEGIN:DAYLIGHT
DTSTART:20280312T030000
RDATE:20281105T010000
TZOFFSETFROM:-0700
TZOFFSETTO:-0600
TZNAME:America/Denver MDT
END:DAYLIGHT
BEGIN:DAYLIGHT
DTSTART:20290311T030000
RDATE:20291104T010000
TZOFFSETFROM:-0700
TZOFFSETTO:-0600
TZNAME:America/Denver MDT
END:DAYLIGHT
BEGIN:DAYLIGHT
DTSTART:20300310T030000
RDATE:20301103T010000
TZOFFSETFROM:-0700
TZOFFSETTO:-0600
TZNAME:America/Denver MDT
END:DAYLIGHT
BEGIN:DAYLIGHT
DTSTART:20310309T030000
RDATE:20311102T010000
TZOFFSETFROM:-0700
TZOFFSETTO:-0600
TZNAME:America/Denver MDT
END:DAYLIGHT
END:VTIMEZONE
BEGIN:VEVENT
UID:dd0b04fa1fb06bbe214aa33b6e145ab8
CATEGORIES:Community Events, Kids & Family, Sports, Animal Events, Nonprofit/Fundraiser
CREATED:20180215T115044
SUMMARY:Pleasant Park 4-H Annual Open Horse Show
LOCATION:12086 Old Ridge Rd. Conifer CO
DESCRIPTION;ENCODING=QUOTED-PRINTABLE:This is an open horse show, all riders ages 8 and up welcome to participate
 . &nbsp;Spectators are welcome, there is no charge to come watch this fun c
 ommunity event that helps support the local 4-H Club. &nbsp;&nbsp;The cost 
 to participate is listed below, all experience levels welcome.&nbsp; &nbsp;
  All contestants get show t-shirts while supplies last. &nbsp; Ribbons awar
 ded 1st - 6th place, door prizes and High Point and Reserve High Point Awar
 ds for English and Western awarded for each age group.&nbsp;\nRegistration:
  7:15 AM\n Show Starts: 8:00 AM\n \n Entry Fees:\n$7.00/class \n $40.00/all
  day \nClasses:\n·&nbsp;&nbsp;&nbsp;&nbsp;&nbsp;&nbsp;&nbsp;&nbsp; Showmans
 hip\n·&nbsp;&nbsp;&nbsp;&nbsp;&nbsp;&nbsp;&nbsp;&nbsp; English Equitation\n
 ·&nbsp;&nbsp;&nbsp;&nbsp;&nbsp;&nbsp;&nbsp;&nbsp; English Riding Control\n·
 &nbsp;&nbsp;&nbsp;&nbsp;&nbsp;&nbsp;&nbsp;&nbsp; Walk Trot\n·&nbsp;&nbsp;&n
 bsp;&nbsp;&nbsp;&nbsp;&nbsp;&nbsp; Western Horsemanship\n·&nbsp;&nbsp;&nbsp
 ;&nbsp;&nbsp;&nbsp;&nbsp;&nbsp; Western Riding Control\n·&nbsp;&nbsp;&nbsp;
 &nbsp;&nbsp;&nbsp;&nbsp;&nbsp; Trail\nThe show is located at McKeever Arena
  12086 Old Ridge Rd, Conifer, CO 80433. From Hwy 285 take Pleasant Park Roa
 d approximately&nbsp; 3 miles to Ridge Road, turn right on Ridge road and g
 o for about 2 miles.&nbsp; Watch for signs that say McKeever Arena &amp; 4-
 H Horse show.&nbsp;&nbsp; You will turn left on Old Ridge Road (a single la
 ne dirt road) you cannot see the arena until you drive down that road.\n\n\
 n\n&nbsp;\nWe are always looking for sponsors for the show, sponsors make t
 his show possible. &nbsp; Please emailThis email address is being protected
  from spambots. You need JavaScript enabled to view it.
				document.getEle
 mentById('cloak4d6a5ec0a5ba2ba3effbcde029a86af6').innerHTML = '';
				var p
 refix = 'ma' + 'il' + 'to';
				var path = 'hr' + 'ef' + '=';
				var addy4
 d6a5ec0a5ba2ba3effbcde029a86af6 = 'pp4h' + '@';
				addy4d6a5ec0a5ba2ba3eff
 bcde029a86af6 = addy4d6a5ec0a5ba2ba3effbcde029a86af6 + 'hotmail' + '.' + 'c
 om';
				var addy_text4d6a5ec0a5ba2ba3effbcde029a86af6 = 'pp4h' + '@' + 'ho
 tmail' + '.' + 'com';document.getElementById('cloak4d6a5ec0a5ba2ba3effbcde0
 29a86af6').innerHTML += ''+addy_text4d6a5ec0a5ba2ba3effbcde029a86af6+'';
		
 &nbsp;if you are interested in sponsoring the show.&nbsp;&nbsp;\n
CONTACT:This email address is being protected from spambots. You need JavaScript enabled to view it.
				document.getElementById('cloak5ce36cf50eb2f5f770f45be2664c0eef').innerHTML = '';
				var prefix = '&#109;a' + 'i&#108;' + '&#116;o';
				var path = 'hr' + 'ef' + '=';
				var addy5ce36cf50eb2f5f770f45be2664c0eef = 'pp4h' + '&#64;';
				addy5ce36cf50eb2f5f770f45be2664c0eef = addy5ce36cf50eb2f5f770f45be2664c0eef + 'h&#111;tm&#97;&#105;l' + '&#46;' + 'c&#111;m';
				var addy_text5ce36cf50eb2f5f770f45be2664c0eef = 'pp4h' + '&#64;' + 'h&#111;tm&#97;&#105;l' + '&#46;' + 'c&#111;m';document.getElementById('cloak5ce36cf50eb2f5f770f45be2664c0eef').innerHTML += ''+addy_text5ce36cf50eb2f5f770f45be2664c0eef+'';
		
DTSTAMP:20260421T092721Z
DTSTART;TZID=America/Denver:20180707T080000
SEQUENCE:0
TRANSP:OPAQUE
END:VEVENT
END:VCALENDAR