BEGIN:VCALENDAR
VERSION:2.0
PRODID:-//jEvents 2.0 for Joomla//EN
CALSCALE:GREGORIAN
METHOD:PUBLISH
BEGIN:VTIMEZONE
TZID:America/Denver
BEGIN:STANDARD
DTSTART:20171105T010000
RDATE:20180311T030000
TZOFFSETFROM:-0600
TZOFFSETTO:-0700
TZNAME:America/Denver MST
END:STANDARD
BEGIN:STANDARD
DTSTART:20181104T010000
RDATE:20190310T030000
TZOFFSETFROM:-0600
TZOFFSETTO:-0700
TZNAME:America/Denver MST
END:STANDARD
BEGIN:STANDARD
DTSTART:20191103T010000
RDATE:20200308T030000
TZOFFSETFROM:-0600
TZOFFSETTO:-0700
TZNAME:America/Denver MST
END:STANDARD
BEGIN:STANDARD
DTSTART:20201101T010000
RDATE:20210314T030000
TZOFFSETFROM:-0600
TZOFFSETTO:-0700
TZNAME:America/Denver MST
END:STANDARD
BEGIN:STANDARD
DTSTART:20211107T010000
RDATE:20220313T030000
TZOFFSETFROM:-0600
TZOFFSETTO:-0700
TZNAME:America/Denver MST
END:STANDARD
BEGIN:STANDARD
DTSTART:20221106T010000
RDATE:20230312T030000
TZOFFSETFROM:-0600
TZOFFSETTO:-0700
TZNAME:America/Denver MST
END:STANDARD
BEGIN:STANDARD
DTSTART:20231105T010000
RDATE:20240310T030000
TZOFFSETFROM:-0600
TZOFFSETTO:-0700
TZNAME:America/Denver MST
END:STANDARD
BEGIN:STANDARD
DTSTART:20241103T010000
RDATE:20250309T030000
TZOFFSETFROM:-0600
TZOFFSETTO:-0700
TZNAME:America/Denver MST
END:STANDARD
BEGIN:STANDARD
DTSTART:20251102T010000
RDATE:20260308T030000
TZOFFSETFROM:-0600
TZOFFSETTO:-0700
TZNAME:America/Denver MST
END:STANDARD
BEGIN:STANDARD
DTSTART:20261101T010000
RDATE:20270314T030000
TZOFFSETFROM:-0600
TZOFFSETTO:-0700
TZNAME:America/Denver MST
END:STANDARD
BEGIN:STANDARD
DTSTART:20271107T010000
RDATE:20280312T030000
TZOFFSETFROM:-0600
TZOFFSETTO:-0700
TZNAME:America/Denver MST
END:STANDARD
BEGIN:STANDARD
DTSTART:20281105T010000
RDATE:20290311T030000
TZOFFSETFROM:-0600
TZOFFSETTO:-0700
TZNAME:America/Denver MST
END:STANDARD
BEGIN:STANDARD
DTSTART:20291104T010000
RDATE:20300310T030000
TZOFFSETFROM:-0600
TZOFFSETTO:-0700
TZNAME:America/Denver MST
END:STANDARD
BEGIN:STANDARD
DTSTART:20301103T010000
RDATE:20310309T030000
TZOFFSETFROM:-0600
TZOFFSETTO:-0700
TZNAME:America/Denver MST
END:STANDARD
BEGIN:STANDARD
DTSTART:20311102T010000
RDATE:20320314T030000
TZOFFSETFROM:-0600
TZOFFSETTO:-0700
TZNAME:America/Denver MST
END:STANDARD
BEGIN:DAYLIGHT
DTSTART:20170720T090000
RDATE:20171105T010000
TZOFFSETFROM:-0700
TZOFFSETTO:-0600
TZNAME:America/Denver MDT
END:DAYLIGHT
BEGIN:DAYLIGHT
DTSTART:20180311T030000
RDATE:20181104T010000
TZOFFSETFROM:-0700
TZOFFSETTO:-0600
TZNAME:America/Denver MDT
END:DAYLIGHT
BEGIN:DAYLIGHT
DTSTART:20190310T030000
RDATE:20191103T010000
TZOFFSETFROM:-0700
TZOFFSETTO:-0600
TZNAME:America/Denver MDT
END:DAYLIGHT
BEGIN:DAYLIGHT
DTSTART:20200308T030000
RDATE:20201101T010000
TZOFFSETFROM:-0700
TZOFFSETTO:-0600
TZNAME:America/Denver MDT
END:DAYLIGHT
BEGIN:DAYLIGHT
DTSTART:20210314T030000
RDATE:20211107T010000
TZOFFSETFROM:-0700
TZOFFSETTO:-0600
TZNAME:America/Denver MDT
END:DAYLIGHT
BEGIN:DAYLIGHT
DTSTART:20220313T030000
RDATE:20221106T010000
TZOFFSETFROM:-0700
TZOFFSETTO:-0600
TZNAME:America/Denver MDT
END:DAYLIGHT
BEGIN:DAYLIGHT
DTSTART:20230312T030000
RDATE:20231105T010000
TZOFFSETFROM:-0700
TZOFFSETTO:-0600
TZNAME:America/Denver MDT
END:DAYLIGHT
BEGIN:DAYLIGHT
DTSTART:20240310T030000
RDATE:20241103T010000
TZOFFSETFROM:-0700
TZOFFSETTO:-0600
TZNAME:America/Denver MDT
END:DAYLIGHT
BEGIN:DAYLIGHT
DTSTART:20250309T030000
RDATE:20251102T010000
TZOFFSETFROM:-0700
TZOFFSETTO:-0600
TZNAME:America/Denver MDT
END:DAYLIGHT
BEGIN:DAYLIGHT
DTSTART:20260308T030000
RDATE:20261101T010000
TZOFFSETFROM:-0700
TZOFFSETTO:-0600
TZNAME:America/Denver MDT
END:DAYLIGHT
BEGIN:DAYLIGHT
DTSTART:20270314T030000
RDATE:20271107T010000
TZOFFSETFROM:-0700
TZOFFSETTO:-0600
TZNAME:America/Denver MDT
END:DAYLIGHT
BEGIN:DAYLIGHT
DTSTART:20280312T030000
RDATE:20281105T010000
TZOFFSETFROM:-0700
TZOFFSETTO:-0600
TZNAME:America/Denver MDT
END:DAYLIGHT
BEGIN:DAYLIGHT
DTSTART:20290311T030000
RDATE:20291104T010000
TZOFFSETFROM:-0700
TZOFFSETTO:-0600
TZNAME:America/Denver MDT
END:DAYLIGHT
BEGIN:DAYLIGHT
DTSTART:20300310T030000
RDATE:20301103T010000
TZOFFSETFROM:-0700
TZOFFSETTO:-0600
TZNAME:America/Denver MDT
END:DAYLIGHT
BEGIN:DAYLIGHT
DTSTART:20310309T030000
RDATE:20311102T010000
TZOFFSETFROM:-0700
TZOFFSETTO:-0600
TZNAME:America/Denver MDT
END:DAYLIGHT
END:VTIMEZONE
BEGIN:VEVENT
UID:f198d8e17ecc08dff570f9f368617595
CATEGORIES:Community Events, Leisure/Hobbies/Recreation, Kids & Family
CREATED:20180224T214031
SUMMARY:2018 Evergreen High Altitude Garden Tour
LOCATION:Evergreen Fire & Rescue Training Center, 1802 Bergen Parkway, Evergreen, CO
  80439
DESCRIPTION;ENCODING=QUOTED-PRINTABLE:Welcome!&nbsp;\nExplore 6&nbsp;featured gardens at the&nbsp;\nHigh Altitude
  Garden Tour\n\nJuly 21st, 2018\nPresented by the Evergreen Garden Club\nWe
  hope you enjoy the 2018 Garden Tour. Docents will be in all gardens to ans
 wer questions and guide you. Please enjoy the artists and their artwork&nbs
 p;at each of the gardens. &nbsp;Tour proceeds benefit the following 8 Everg
 reen Public Gardens maintained by our members:\n\n\n1 &amp; 2. Hiwan Homest
 ead Museum Victorian Garden and Herb Garden, 28473 Meadow Drive\n\n\n3. Eve
 rgreen Post Office, 3649 Evergreen Parkway\n\n\n4. Bergen Park Roundabout, 
 Hwy 65 and Bergen Parkway\n\n\n5. Fire Rescue and Training Center, 1802 Ber
 gen Parkway\n\n\n6. Metro Water District Office, 30920 Stagecoach Blvd.\n\n
 \n7. Metro Water District Treatment Plant, 4671 CO 73 (DAM Garden)\n\n\n8. 
 Evergreen Public Library, 5000 CO 73\n\n\nTickets may be purchased at the E
 vergreen Fire &amp; Rescue Training Center the day of the Tour. &nbsp;You m
 ay also purchase tickets via PayPal here for $20 plus a convenience fee of 
 .74 cents.\n\n - Bring your printed receipt to the tour's starting point -&
 nbsp;the Evergreen Fire &amp; Rescue Center &nbsp;\n\n&nbsp; &nbsp; &nbsp;&
 nbsp;anytime between 9:00 AM&nbsp;-&nbsp;1:00&nbsp;PM where you can pick up
  your Garden Tour ticket. &nbsp;\n\n - While you're there, you can enter ou
 r door prize drawing (Entry into drawing included with ticket purchase)&nbs
 p;and enjoy a cup of coffee.\n - Drive to the featured&nbsp;Gardens. &nbsp;
 Gardens open at&nbsp;10:00&nbsp;AM and close at 3:00&nbsp;PM.
CONTACT:Gloria Owens This email address is being protected from spambots. You need JavaScript enabled to view it.
				document.getElementById('cloakd534fe493174b84280e76d8e7114f87d').innerHTML = '';
				var prefix = '&#109;a' + 'i&#108;' + '&#116;o';
				var path = 'hr' + 'ef' + '=';
				var addyd534fe493174b84280e76d8e7114f87d = 'gl&#111;r&#105;&#97;&#111;w&#101;ns' + '&#64;';
				addyd534fe493174b84280e76d8e7114f87d = addyd534fe493174b84280e76d8e7114f87d + 'c&#101;nt&#117;ryl&#105;nk' + '&#46;' + 'n&#101;t';
				var addy_textd534fe493174b84280e76d8e7114f87d = 'gl&#111;r&#105;&#97;&#111;w&#101;ns' + '&#64;' + 'c&#101;nt&#117;ryl&#105;nk' + '&#46;' + 'n&#101;t';document.getElementById('cloakd534fe493174b84280e76d8e7114f87d').innerHTML += ''+addy_textd534fe493174b84280e76d8e7114f87d+'';
		
X-EXTRAINFO:http://www.evergreengardenclub.org/2018_Garden_Tour.php
DTSTAMP:20260421T091452Z
DTSTART;TZID=America/Denver:20180721T090000
DTEND;TZID=America/Denver:20180721T150000
SEQUENCE:0
TRANSP:OPAQUE
END:VEVENT
END:VCALENDAR