BEGIN:VCALENDAR
VERSION:2.0
PRODID:-//jEvents 2.0 for Joomla//EN
CALSCALE:GREGORIAN
METHOD:PUBLISH
BEGIN:VTIMEZONE
TZID:America/Denver
BEGIN:STANDARD
DTSTART:20171105T010000
RDATE:20180311T030000
TZOFFSETFROM:-0600
TZOFFSETTO:-0700
TZNAME:America/Denver MST
END:STANDARD
BEGIN:STANDARD
DTSTART:20181104T010000
RDATE:20190310T030000
TZOFFSETFROM:-0600
TZOFFSETTO:-0700
TZNAME:America/Denver MST
END:STANDARD
BEGIN:STANDARD
DTSTART:20191103T010000
RDATE:20200308T030000
TZOFFSETFROM:-0600
TZOFFSETTO:-0700
TZNAME:America/Denver MST
END:STANDARD
BEGIN:STANDARD
DTSTART:20201101T010000
RDATE:20210314T030000
TZOFFSETFROM:-0600
TZOFFSETTO:-0700
TZNAME:America/Denver MST
END:STANDARD
BEGIN:STANDARD
DTSTART:20211107T010000
RDATE:20220313T030000
TZOFFSETFROM:-0600
TZOFFSETTO:-0700
TZNAME:America/Denver MST
END:STANDARD
BEGIN:STANDARD
DTSTART:20221106T010000
RDATE:20230312T030000
TZOFFSETFROM:-0600
TZOFFSETTO:-0700
TZNAME:America/Denver MST
END:STANDARD
BEGIN:STANDARD
DTSTART:20231105T010000
RDATE:20240310T030000
TZOFFSETFROM:-0600
TZOFFSETTO:-0700
TZNAME:America/Denver MST
END:STANDARD
BEGIN:STANDARD
DTSTART:20241103T010000
RDATE:20250309T030000
TZOFFSETFROM:-0600
TZOFFSETTO:-0700
TZNAME:America/Denver MST
END:STANDARD
BEGIN:STANDARD
DTSTART:20251102T010000
RDATE:20260308T030000
TZOFFSETFROM:-0600
TZOFFSETTO:-0700
TZNAME:America/Denver MST
END:STANDARD
BEGIN:STANDARD
DTSTART:20261101T010000
RDATE:20270314T030000
TZOFFSETFROM:-0600
TZOFFSETTO:-0700
TZNAME:America/Denver MST
END:STANDARD
BEGIN:STANDARD
DTSTART:20271107T010000
RDATE:20280312T030000
TZOFFSETFROM:-0600
TZOFFSETTO:-0700
TZNAME:America/Denver MST
END:STANDARD
BEGIN:STANDARD
DTSTART:20281105T010000
RDATE:20290311T030000
TZOFFSETFROM:-0600
TZOFFSETTO:-0700
TZNAME:America/Denver MST
END:STANDARD
BEGIN:STANDARD
DTSTART:20291104T010000
RDATE:20300310T030000
TZOFFSETFROM:-0600
TZOFFSETTO:-0700
TZNAME:America/Denver MST
END:STANDARD
BEGIN:STANDARD
DTSTART:20301103T010000
RDATE:20310309T030000
TZOFFSETFROM:-0600
TZOFFSETTO:-0700
TZNAME:America/Denver MST
END:STANDARD
BEGIN:STANDARD
DTSTART:20311102T010000
RDATE:20320314T030000
TZOFFSETFROM:-0600
TZOFFSETTO:-0700
TZNAME:America/Denver MST
END:STANDARD
BEGIN:DAYLIGHT
DTSTART:20170703T100000
RDATE:20171105T010000
TZOFFSETFROM:-0700
TZOFFSETTO:-0600
TZNAME:America/Denver MDT
END:DAYLIGHT
BEGIN:DAYLIGHT
DTSTART:20180311T030000
RDATE:20181104T010000
TZOFFSETFROM:-0700
TZOFFSETTO:-0600
TZNAME:America/Denver MDT
END:DAYLIGHT
BEGIN:DAYLIGHT
DTSTART:20190310T030000
RDATE:20191103T010000
TZOFFSETFROM:-0700
TZOFFSETTO:-0600
TZNAME:America/Denver MDT
END:DAYLIGHT
BEGIN:DAYLIGHT
DTSTART:20200308T030000
RDATE:20201101T010000
TZOFFSETFROM:-0700
TZOFFSETTO:-0600
TZNAME:America/Denver MDT
END:DAYLIGHT
BEGIN:DAYLIGHT
DTSTART:20210314T030000
RDATE:20211107T010000
TZOFFSETFROM:-0700
TZOFFSETTO:-0600
TZNAME:America/Denver MDT
END:DAYLIGHT
BEGIN:DAYLIGHT
DTSTART:20220313T030000
RDATE:20221106T010000
TZOFFSETFROM:-0700
TZOFFSETTO:-0600
TZNAME:America/Denver MDT
END:DAYLIGHT
BEGIN:DAYLIGHT
DTSTART:20230312T030000
RDATE:20231105T010000
TZOFFSETFROM:-0700
TZOFFSETTO:-0600
TZNAME:America/Denver MDT
END:DAYLIGHT
BEGIN:DAYLIGHT
DTSTART:20240310T030000
RDATE:20241103T010000
TZOFFSETFROM:-0700
TZOFFSETTO:-0600
TZNAME:America/Denver MDT
END:DAYLIGHT
BEGIN:DAYLIGHT
DTSTART:20250309T030000
RDATE:20251102T010000
TZOFFSETFROM:-0700
TZOFFSETTO:-0600
TZNAME:America/Denver MDT
END:DAYLIGHT
BEGIN:DAYLIGHT
DTSTART:20260308T030000
RDATE:20261101T010000
TZOFFSETFROM:-0700
TZOFFSETTO:-0600
TZNAME:America/Denver MDT
END:DAYLIGHT
BEGIN:DAYLIGHT
DTSTART:20270314T030000
RDATE:20271107T010000
TZOFFSETFROM:-0700
TZOFFSETTO:-0600
TZNAME:America/Denver MDT
END:DAYLIGHT
BEGIN:DAYLIGHT
DTSTART:20280312T030000
RDATE:20281105T010000
TZOFFSETFROM:-0700
TZOFFSETTO:-0600
TZNAME:America/Denver MDT
END:DAYLIGHT
BEGIN:DAYLIGHT
DTSTART:20290311T030000
RDATE:20291104T010000
TZOFFSETFROM:-0700
TZOFFSETTO:-0600
TZNAME:America/Denver MDT
END:DAYLIGHT
BEGIN:DAYLIGHT
DTSTART:20300310T030000
RDATE:20301103T010000
TZOFFSETFROM:-0700
TZOFFSETTO:-0600
TZNAME:America/Denver MDT
END:DAYLIGHT
BEGIN:DAYLIGHT
DTSTART:20310309T030000
RDATE:20311102T010000
TZOFFSETFROM:-0700
TZOFFSETTO:-0600
TZNAME:America/Denver MDT
END:DAYLIGHT
END:VTIMEZONE
BEGIN:VEVENT
UID:818f17d50146a1c10eaa322aeab75ea9
CATEGORIES:Community Events, Arts, Dining, & Entertainment, Holiday, Nonprofit/Fundraiser
CREATED:20180224T222908
SUMMARY:2018 Evergreen Music Festival
LOCATION:Buchanan Rec Center, 32003 Ellingwood Trail, Evergreen CO 80439
DESCRIPTION;ENCODING=QUOTED-PRINTABLE:\n\n\n\n\nPrepare to enjoy many genres of music at the 2018 Evergreen Music
  Festival, featuring 14 performance groups including FACE Vocal Band and sw
 eaty soul band The Burroughs!&nbsp; In addition to the Independence Stage,&
 nbsp; the "Evergreen Scene" will feature some of Evergreen's most popular l
 ocal bands. Proceeds from the festival will benefit the Evergreen High Scho
 ol performing arts: theater, choral, and band/orchestra.&nbsp; Honoring mil
 itary personnel, the festival will include free children's activities, a Ci
 vil War cannon and a British car display!\n\n\nAdmission is $10 for adults,
  $5 for teens (13-18), and children 12 and under, active military and Veter
 ans are admitted for free.\n\n\n\n
CONTACT:Cheri Rubin This email address is being protected from spambots. You need JavaScript enabled to view it.
				document.getElementById('cloaka362cd1e28ad77d7e00ef9c3b027674c').innerHTML = '';
				var prefix = '&#109;a' + 'i&#108;' + '&#116;o';
				var path = 'hr' + 'ef' + '=';
				var addya362cd1e28ad77d7e00ef9c3b027674c = 'ch&#101;r&#105;' + '&#64;';
				addya362cd1e28ad77d7e00ef9c3b027674c = addya362cd1e28ad77d7e00ef9c3b027674c + '&#101;v&#101;rgr&#101;&#101;nm&#117;s&#105;cf&#101;st&#105;v&#97;l' + '&#46;' + '&#111;rg';
				var addy_texta362cd1e28ad77d7e00ef9c3b027674c = 'ch&#101;r&#105;' + '&#64;' + '&#101;v&#101;rgr&#101;&#101;nm&#117;s&#105;cf&#101;st&#105;v&#97;l' + '&#46;' + '&#111;rg';document.getElementById('cloaka362cd1e28ad77d7e00ef9c3b027674c').innerHTML += ''+addy_texta362cd1e28ad77d7e00ef9c3b027674c+'';
		 Kenny Fuller This email address is being protected from spambots. You need JavaScript enabled to view it.
				document.getElementById('cloake1929e66d0d40aa82b260c6ed6b6b689').innerHTML = '';
				var prefix = '&#109;a' + 'i&#108;' + '&#116;o';
				var path = 'hr' + 'ef' + '=';
				var addye1929e66d0d40aa82b260c6ed6b6b689 = 'k&#101;nny' + '&#64;';
				addye1929e66d0d40aa82b260c6ed6b6b689 = addye1929e66d0d40aa82b260c6ed6b6b689 + '&#101;v&#101;rgr&#101;&#101;nm&#117;s&#105;cf&#101;st&#105;v&#97;l' + '&#46;' + '&#111;rg';
				var addy_texte1929e66d0d40aa82b260c6ed6b6b689 = 'k&#101;nny' + '&#64;' + '&#101;v&#101;rgr&#101;&#101;nm&#117;s&#105;cf&#101;st&#105;v&#97;l' + '&#46;' + '&#111;rg';document.getElementById('cloake1929e66d0d40aa82b260c6ed6b6b689').innerHTML += ''+addy_texte1929e66d0d40aa82b260c6ed6b6b689+'';
		
X-EXTRAINFO:https://evergreenmusicfestival.org/
DTSTAMP:20260421T105034Z
DTSTART;TZID=America/Denver:20180704T100000
DTEND;TZID=America/Denver:20180704T193000
SEQUENCE:0
TRANSP:OPAQUE
END:VEVENT
END:VCALENDAR