BEGIN:VCALENDAR
VERSION:2.0
PRODID:-//jEvents 2.0 for Joomla//EN
CALSCALE:GREGORIAN
METHOD:PUBLISH
BEGIN:VTIMEZONE
TZID:America/Denver
BEGIN:STANDARD
DTSTART:20171105T010000
RDATE:20180311T030000
TZOFFSETFROM:-0600
TZOFFSETTO:-0700
TZNAME:America/Denver MST
END:STANDARD
BEGIN:STANDARD
DTSTART:20181104T010000
RDATE:20190310T030000
TZOFFSETFROM:-0600
TZOFFSETTO:-0700
TZNAME:America/Denver MST
END:STANDARD
BEGIN:STANDARD
DTSTART:20191103T010000
RDATE:20200308T030000
TZOFFSETFROM:-0600
TZOFFSETTO:-0700
TZNAME:America/Denver MST
END:STANDARD
BEGIN:STANDARD
DTSTART:20201101T010000
RDATE:20210314T030000
TZOFFSETFROM:-0600
TZOFFSETTO:-0700
TZNAME:America/Denver MST
END:STANDARD
BEGIN:STANDARD
DTSTART:20211107T010000
RDATE:20220313T030000
TZOFFSETFROM:-0600
TZOFFSETTO:-0700
TZNAME:America/Denver MST
END:STANDARD
BEGIN:STANDARD
DTSTART:20221106T010000
RDATE:20230312T030000
TZOFFSETFROM:-0600
TZOFFSETTO:-0700
TZNAME:America/Denver MST
END:STANDARD
BEGIN:STANDARD
DTSTART:20231105T010000
RDATE:20240310T030000
TZOFFSETFROM:-0600
TZOFFSETTO:-0700
TZNAME:America/Denver MST
END:STANDARD
BEGIN:STANDARD
DTSTART:20241103T010000
RDATE:20250309T030000
TZOFFSETFROM:-0600
TZOFFSETTO:-0700
TZNAME:America/Denver MST
END:STANDARD
BEGIN:STANDARD
DTSTART:20251102T010000
RDATE:20260308T030000
TZOFFSETFROM:-0600
TZOFFSETTO:-0700
TZNAME:America/Denver MST
END:STANDARD
BEGIN:STANDARD
DTSTART:20261101T010000
RDATE:20270314T030000
TZOFFSETFROM:-0600
TZOFFSETTO:-0700
TZNAME:America/Denver MST
END:STANDARD
BEGIN:STANDARD
DTSTART:20271107T010000
RDATE:20280312T030000
TZOFFSETFROM:-0600
TZOFFSETTO:-0700
TZNAME:America/Denver MST
END:STANDARD
BEGIN:STANDARD
DTSTART:20281105T010000
RDATE:20290311T030000
TZOFFSETFROM:-0600
TZOFFSETTO:-0700
TZNAME:America/Denver MST
END:STANDARD
BEGIN:STANDARD
DTSTART:20291104T010000
RDATE:20300310T030000
TZOFFSETFROM:-0600
TZOFFSETTO:-0700
TZNAME:America/Denver MST
END:STANDARD
BEGIN:STANDARD
DTSTART:20301103T010000
RDATE:20310309T030000
TZOFFSETFROM:-0600
TZOFFSETTO:-0700
TZNAME:America/Denver MST
END:STANDARD
BEGIN:STANDARD
DTSTART:20311102T010000
RDATE:20320314T030000
TZOFFSETFROM:-0600
TZOFFSETTO:-0700
TZNAME:America/Denver MST
END:STANDARD
BEGIN:DAYLIGHT
DTSTART:20170929T080000
RDATE:20171105T010000
TZOFFSETFROM:-0700
TZOFFSETTO:-0600
TZNAME:America/Denver MDT
END:DAYLIGHT
BEGIN:DAYLIGHT
DTSTART:20180311T030000
RDATE:20181104T010000
TZOFFSETFROM:-0700
TZOFFSETTO:-0600
TZNAME:America/Denver MDT
END:DAYLIGHT
BEGIN:DAYLIGHT
DTSTART:20190310T030000
RDATE:20191103T010000
TZOFFSETFROM:-0700
TZOFFSETTO:-0600
TZNAME:America/Denver MDT
END:DAYLIGHT
BEGIN:DAYLIGHT
DTSTART:20200308T030000
RDATE:20201101T010000
TZOFFSETFROM:-0700
TZOFFSETTO:-0600
TZNAME:America/Denver MDT
END:DAYLIGHT
BEGIN:DAYLIGHT
DTSTART:20210314T030000
RDATE:20211107T010000
TZOFFSETFROM:-0700
TZOFFSETTO:-0600
TZNAME:America/Denver MDT
END:DAYLIGHT
BEGIN:DAYLIGHT
DTSTART:20220313T030000
RDATE:20221106T010000
TZOFFSETFROM:-0700
TZOFFSETTO:-0600
TZNAME:America/Denver MDT
END:DAYLIGHT
BEGIN:DAYLIGHT
DTSTART:20230312T030000
RDATE:20231105T010000
TZOFFSETFROM:-0700
TZOFFSETTO:-0600
TZNAME:America/Denver MDT
END:DAYLIGHT
BEGIN:DAYLIGHT
DTSTART:20240310T030000
RDATE:20241103T010000
TZOFFSETFROM:-0700
TZOFFSETTO:-0600
TZNAME:America/Denver MDT
END:DAYLIGHT
BEGIN:DAYLIGHT
DTSTART:20250309T030000
RDATE:20251102T010000
TZOFFSETFROM:-0700
TZOFFSETTO:-0600
TZNAME:America/Denver MDT
END:DAYLIGHT
BEGIN:DAYLIGHT
DTSTART:20260308T030000
RDATE:20261101T010000
TZOFFSETFROM:-0700
TZOFFSETTO:-0600
TZNAME:America/Denver MDT
END:DAYLIGHT
BEGIN:DAYLIGHT
DTSTART:20270314T030000
RDATE:20271107T010000
TZOFFSETFROM:-0700
TZOFFSETTO:-0600
TZNAME:America/Denver MDT
END:DAYLIGHT
BEGIN:DAYLIGHT
DTSTART:20280312T030000
RDATE:20281105T010000
TZOFFSETFROM:-0700
TZOFFSETTO:-0600
TZNAME:America/Denver MDT
END:DAYLIGHT
BEGIN:DAYLIGHT
DTSTART:20290311T030000
RDATE:20291104T010000
TZOFFSETFROM:-0700
TZOFFSETTO:-0600
TZNAME:America/Denver MDT
END:DAYLIGHT
BEGIN:DAYLIGHT
DTSTART:20300310T030000
RDATE:20301103T010000
TZOFFSETFROM:-0700
TZOFFSETTO:-0600
TZNAME:America/Denver MDT
END:DAYLIGHT
BEGIN:DAYLIGHT
DTSTART:20310309T030000
RDATE:20311102T010000
TZOFFSETFROM:-0700
TZOFFSETTO:-0600
TZNAME:America/Denver MDT
END:DAYLIGHT
END:VTIMEZONE
BEGIN:VEVENT
UID:364f5e1ac53a63e27fc023dab7bd29fe
CATEGORIES:Community Events, Nonprofit/Fundraiser
CREATED:20180322T084552
SUMMARY:5th Annual MC-1 Honor Run
LOCATION:Columbine High School, 
DESCRIPTION;ENCODING=QUOTED-PRINTABLE:\n\n\n\n\nThe MC-1 Foundation with the Defenders LEMC will be hosting the&n
 bsp;5th Annual MC-1 Honor Run on Sunday September 30, 2018. &nbsp;Registrat
 ion will be at Columbine High School starting at 8:00 AM. &nbsp;More&nbsp;i
 nformation and updates&nbsp;on the Ride will be available in the future.&nb
 sp;\n&nbsp;\nThe MC-1 Foundation is also looking for sponsorship for 2018 a
 nd for the 5th Annual MC-1 Honor Run. If interested please contact us at Th
 is email address is being protected from spambots. You need JavaScript enab
 led to view it.
				document.getElementById('cloak6ed1f510092b36d09f0da2564
 d3769ed').innerHTML = '';
				var prefix = '&#109;a' + 'i&#108;' + '&#116;o
 ';
				var path = 'hr' + 'ef' + '=';
				var addy6ed1f510092b36d09f0da2564d
 3769ed = 'mc1f&#111;&#117;nd&#97;t&#105;&#111;nc&#111;l&#111;r&#97;d&#111;'
  + '&#64;';
				addy6ed1f510092b36d09f0da2564d3769ed = addy6ed1f510092b36d0
 9f0da2564d3769ed + 'gm&#97;&#105;l' + '&#46;' + 'c&#111;m';
				var addy_te
 xt6ed1f510092b36d09f0da2564d3769ed = 'mc1f&#111;&#117;nd&#97;t&#105;&#111;n
 c&#111;l&#111;r&#97;d&#111;' + '&#64;' + 'gm&#97;&#105;l' + '&#46;' + 'c&#1
 11;m';document.getElementById('cloak6ed1f510092b36d09f0da2564d3769ed').inne
 rHTML += ''+addy_text6ed1f510092b36d09f0da2564d3769ed+'';
		.\n\n\nThank yo
 u for your support\n\n\nAbout Us:\n\n\nThe MC1 Foundation started with a mo
 torcycle ride to honor the memory of Sergeant Dave Baldwin and to provide h
 is family with assistance. &nbsp;We continued that ride for a second year a
 nd plan to continue. Our mission is to provide financial support for public
  service employees, and their families, when that employee has been injured
  or killed in the line of duty.\n
CONTACT:This email address is being protected from spambots. You need JavaScript enabled to view it.
				document.getElementById('cloak7ebf73f109d139f2d8738db5c926a1b4').innerHTML = '';
				var prefix = '&#109;a' + 'i&#108;' + '&#116;o';
				var path = 'hr' + 'ef' + '=';
				var addy7ebf73f109d139f2d8738db5c926a1b4 = 'mc1f&#111;&#117;nd&#97;t&#105;&#111;nc&#111;l&#111;r&#97;d&#111;' + '&#64;';
				addy7ebf73f109d139f2d8738db5c926a1b4 = addy7ebf73f109d139f2d8738db5c926a1b4 + 'gm&#97;&#105;l' + '&#46;' + 'c&#111;m';
				var addy_text7ebf73f109d139f2d8738db5c926a1b4 = 'mc1f&#111;&#117;nd&#97;t&#105;&#111;nc&#111;l&#111;r&#97;d&#111;' + '&#64;' + 'gm&#97;&#105;l' + '&#46;' + 'c&#111;m';document.getElementById('cloak7ebf73f109d139f2d8738db5c926a1b4').innerHTML += ''+addy_text7ebf73f109d139f2d8738db5c926a1b4+'';
		
X-EXTRAINFO:http://www.mc1foundation.com/home.html
DTSTAMP:20260420T223623Z
DTSTART;TZID=America/Denver:20180930T080000
SEQUENCE:0
TRANSP:OPAQUE
END:VEVENT
END:VCALENDAR