BEGIN:VCALENDAR
VERSION:2.0
PRODID:-//jEvents 2.0 for Joomla//EN
CALSCALE:GREGORIAN
METHOD:PUBLISH
BEGIN:VTIMEZONE
TZID:America/Denver
BEGIN:STANDARD
DTSTART:20171105T010000
RDATE:20180311T030000
TZOFFSETFROM:-0600
TZOFFSETTO:-0700
TZNAME:America/Denver MST
END:STANDARD
BEGIN:STANDARD
DTSTART:20181104T010000
RDATE:20190310T030000
TZOFFSETFROM:-0600
TZOFFSETTO:-0700
TZNAME:America/Denver MST
END:STANDARD
BEGIN:STANDARD
DTSTART:20191103T010000
RDATE:20200308T030000
TZOFFSETFROM:-0600
TZOFFSETTO:-0700
TZNAME:America/Denver MST
END:STANDARD
BEGIN:STANDARD
DTSTART:20201101T010000
RDATE:20210314T030000
TZOFFSETFROM:-0600
TZOFFSETTO:-0700
TZNAME:America/Denver MST
END:STANDARD
BEGIN:STANDARD
DTSTART:20211107T010000
RDATE:20220313T030000
TZOFFSETFROM:-0600
TZOFFSETTO:-0700
TZNAME:America/Denver MST
END:STANDARD
BEGIN:STANDARD
DTSTART:20221106T010000
RDATE:20230312T030000
TZOFFSETFROM:-0600
TZOFFSETTO:-0700
TZNAME:America/Denver MST
END:STANDARD
BEGIN:STANDARD
DTSTART:20231105T010000
RDATE:20240310T030000
TZOFFSETFROM:-0600
TZOFFSETTO:-0700
TZNAME:America/Denver MST
END:STANDARD
BEGIN:STANDARD
DTSTART:20241103T010000
RDATE:20250309T030000
TZOFFSETFROM:-0600
TZOFFSETTO:-0700
TZNAME:America/Denver MST
END:STANDARD
BEGIN:STANDARD
DTSTART:20251102T010000
RDATE:20260308T030000
TZOFFSETFROM:-0600
TZOFFSETTO:-0700
TZNAME:America/Denver MST
END:STANDARD
BEGIN:STANDARD
DTSTART:20261101T010000
RDATE:20270314T030000
TZOFFSETFROM:-0600
TZOFFSETTO:-0700
TZNAME:America/Denver MST
END:STANDARD
BEGIN:STANDARD
DTSTART:20271107T010000
RDATE:20280312T030000
TZOFFSETFROM:-0600
TZOFFSETTO:-0700
TZNAME:America/Denver MST
END:STANDARD
BEGIN:STANDARD
DTSTART:20281105T010000
RDATE:20290311T030000
TZOFFSETFROM:-0600
TZOFFSETTO:-0700
TZNAME:America/Denver MST
END:STANDARD
BEGIN:STANDARD
DTSTART:20291104T010000
RDATE:20300310T030000
TZOFFSETFROM:-0600
TZOFFSETTO:-0700
TZNAME:America/Denver MST
END:STANDARD
BEGIN:STANDARD
DTSTART:20301103T010000
RDATE:20310309T030000
TZOFFSETFROM:-0600
TZOFFSETTO:-0700
TZNAME:America/Denver MST
END:STANDARD
BEGIN:STANDARD
DTSTART:20311102T010000
RDATE:20320314T030000
TZOFFSETFROM:-0600
TZOFFSETTO:-0700
TZNAME:America/Denver MST
END:STANDARD
BEGIN:DAYLIGHT
DTSTART:20170915T130000
RDATE:20171105T010000
TZOFFSETFROM:-0700
TZOFFSETTO:-0600
TZNAME:America/Denver MDT
END:DAYLIGHT
BEGIN:DAYLIGHT
DTSTART:20180311T030000
RDATE:20181104T010000
TZOFFSETFROM:-0700
TZOFFSETTO:-0600
TZNAME:America/Denver MDT
END:DAYLIGHT
BEGIN:DAYLIGHT
DTSTART:20190310T030000
RDATE:20191103T010000
TZOFFSETFROM:-0700
TZOFFSETTO:-0600
TZNAME:America/Denver MDT
END:DAYLIGHT
BEGIN:DAYLIGHT
DTSTART:20200308T030000
RDATE:20201101T010000
TZOFFSETFROM:-0700
TZOFFSETTO:-0600
TZNAME:America/Denver MDT
END:DAYLIGHT
BEGIN:DAYLIGHT
DTSTART:20210314T030000
RDATE:20211107T010000
TZOFFSETFROM:-0700
TZOFFSETTO:-0600
TZNAME:America/Denver MDT
END:DAYLIGHT
BEGIN:DAYLIGHT
DTSTART:20220313T030000
RDATE:20221106T010000
TZOFFSETFROM:-0700
TZOFFSETTO:-0600
TZNAME:America/Denver MDT
END:DAYLIGHT
BEGIN:DAYLIGHT
DTSTART:20230312T030000
RDATE:20231105T010000
TZOFFSETFROM:-0700
TZOFFSETTO:-0600
TZNAME:America/Denver MDT
END:DAYLIGHT
BEGIN:DAYLIGHT
DTSTART:20240310T030000
RDATE:20241103T010000
TZOFFSETFROM:-0700
TZOFFSETTO:-0600
TZNAME:America/Denver MDT
END:DAYLIGHT
BEGIN:DAYLIGHT
DTSTART:20250309T030000
RDATE:20251102T010000
TZOFFSETFROM:-0700
TZOFFSETTO:-0600
TZNAME:America/Denver MDT
END:DAYLIGHT
BEGIN:DAYLIGHT
DTSTART:20260308T030000
RDATE:20261101T010000
TZOFFSETFROM:-0700
TZOFFSETTO:-0600
TZNAME:America/Denver MDT
END:DAYLIGHT
BEGIN:DAYLIGHT
DTSTART:20270314T030000
RDATE:20271107T010000
TZOFFSETFROM:-0700
TZOFFSETTO:-0600
TZNAME:America/Denver MDT
END:DAYLIGHT
BEGIN:DAYLIGHT
DTSTART:20280312T030000
RDATE:20281105T010000
TZOFFSETFROM:-0700
TZOFFSETTO:-0600
TZNAME:America/Denver MDT
END:DAYLIGHT
BEGIN:DAYLIGHT
DTSTART:20290311T030000
RDATE:20291104T010000
TZOFFSETFROM:-0700
TZOFFSETTO:-0600
TZNAME:America/Denver MDT
END:DAYLIGHT
BEGIN:DAYLIGHT
DTSTART:20300310T030000
RDATE:20301103T010000
TZOFFSETFROM:-0700
TZOFFSETTO:-0600
TZNAME:America/Denver MDT
END:DAYLIGHT
BEGIN:DAYLIGHT
DTSTART:20310309T030000
RDATE:20311102T010000
TZOFFSETFROM:-0700
TZOFFSETTO:-0600
TZNAME:America/Denver MDT
END:DAYLIGHT
END:VTIMEZONE
BEGIN:VEVENT
UID:55118c802e3be309476154ce77930908
CATEGORIES:Community Events, Arts, Dining, & Entertainment
CREATED:20180322T135215
SUMMARY:2018 Evergreen Wedding & Event Showcase #2
LOCATION:Evergreen Lake House, 29612 Upper Bear Creek Road, Evergreen, Colorado
DESCRIPTION;ENCODING=QUOTED-PRINTABLE:Couples, businesses, organizations and non-profits are invited to attend th
 e 2018 Fall Evergreen Wedding &amp; Event Showcase, being held at Evergreen
  Lake House on Sunday, Sept. 16, 2018, from 1-4 pm.\n \n Overlooking scenic
  Evergreen Lake and ringed by ponderosa pine forest and the elk-dotted Ever
 green Golf Course, Evergreen Lake&nbsp;House provides an idyllic mountain s
 etting for weddings, parties, special events and meetings.\n \n Located jus
 t half an hour from Denver, the Lake House hosts events year-round, combini
 ng the elegance of vaulted ceilings and dazzling views from every window wi
 th the rustic log cabin charm of a mountain getaway.\n \n The Wedding &amp;
  Event Showcase offers participants the opportunity to sample food while ex
 periencing the ambience of Evergreen Lake House and gathering information a
 bout special event vendors and service providers. PREREGISTER at 720-880-13
 81 to be entered into the event raffle.\n \n Evergreen Lake House is an LGB
 TQ-friendly venue operated by Evergreen Park &amp; Recreation District (EPR
 D). It is located at 29612 Upper Bear Creek Rd., Evergreen, CO 80439.\n \n 
 Learn more about Evergreen Lake House at&nbsp;http://www.evergreenrecreatio
 n.com/Facilities/Evergreen_Lake_House/Weddings_-_Rentals_-_Events.htm.&nbsp
 ;\n \n For more information about the Evergreen Wedding &amp; Event Showcas
 e, please email Lorna Bleck at This email address is being protected from s
 pambots. You need JavaScript enabled to view it.
				document.getElementByI
 d('cloak743522416cb3304c77ddcba97ea212fe').innerHTML = '';
				var prefix =
  '&#109;a' + 'i&#108;' + '&#116;o';
				var path = 'hr' + 'ef' + '=';
				v
 ar addy743522416cb3304c77ddcba97ea212fe = 'lbl&#101;ck' + '&#64;';
				addy
 743522416cb3304c77ddcba97ea212fe = addy743522416cb3304c77ddcba97ea212fe + '
 &#101;prd' + '&#46;' + 'c&#111;';
				var addy_text743522416cb3304c77ddcba9
 7ea212fe = 'lbl&#101;ck' + '&#64;' + '&#101;prd' + '&#46;' + 'c&#111;';docu
 ment.getElementById('cloak743522416cb3304c77ddcba97ea212fe').innerHTML += '
 '+addy_text743522416cb3304c77ddcba97ea212fe+'';
		, or call 720-880-1310.
CONTACT:Lorna Bleck at This email address is being protected from spambots. You need JavaScript enabled to view it.
				document.getElementById('cloakd9c6c5b59221c56616c1f517506f0862').innerHTML = '';
				var prefix = '&#109;a' + 'i&#108;' + '&#116;o';
				var path = 'hr' + 'ef' + '=';
				var addyd9c6c5b59221c56616c1f517506f0862 = 'lbl&#101;ck' + '&#64;';
				addyd9c6c5b59221c56616c1f517506f0862 = addyd9c6c5b59221c56616c1f517506f0862 + '&#101;prd' + '&#46;' + 'c&#111;';
				var addy_textd9c6c5b59221c56616c1f517506f0862 = 'lbl&#101;ck' + '&#64;' + '&#101;prd' + '&#46;' + 'c&#111;';document.getElementById('cloakd9c6c5b59221c56616c1f517506f0862').innerHTML += ''+addy_textd9c6c5b59221c56616c1f517506f0862+'';
		, or call 720-880-1310
DTSTAMP:20260421T013930Z
DTSTART;TZID=America/Denver:20180916T130000
DTEND;TZID=America/Denver:20180916T160000
SEQUENCE:0
TRANSP:OPAQUE
END:VEVENT
END:VCALENDAR