BEGIN:VCALENDAR
VERSION:2.0
PRODID:-//jEvents 2.0 for Joomla//EN
CALSCALE:GREGORIAN
METHOD:PUBLISH
BEGIN:VTIMEZONE
TZID:America/Denver
BEGIN:STANDARD
DTSTART:20171105T010000
RDATE:20180311T030000
TZOFFSETFROM:-0600
TZOFFSETTO:-0700
TZNAME:America/Denver MST
END:STANDARD
BEGIN:STANDARD
DTSTART:20181104T010000
RDATE:20190310T030000
TZOFFSETFROM:-0600
TZOFFSETTO:-0700
TZNAME:America/Denver MST
END:STANDARD
BEGIN:STANDARD
DTSTART:20191103T010000
RDATE:20200308T030000
TZOFFSETFROM:-0600
TZOFFSETTO:-0700
TZNAME:America/Denver MST
END:STANDARD
BEGIN:STANDARD
DTSTART:20201101T010000
RDATE:20210314T030000
TZOFFSETFROM:-0600
TZOFFSETTO:-0700
TZNAME:America/Denver MST
END:STANDARD
BEGIN:STANDARD
DTSTART:20211107T010000
RDATE:20220313T030000
TZOFFSETFROM:-0600
TZOFFSETTO:-0700
TZNAME:America/Denver MST
END:STANDARD
BEGIN:STANDARD
DTSTART:20221106T010000
RDATE:20230312T030000
TZOFFSETFROM:-0600
TZOFFSETTO:-0700
TZNAME:America/Denver MST
END:STANDARD
BEGIN:STANDARD
DTSTART:20231105T010000
RDATE:20240310T030000
TZOFFSETFROM:-0600
TZOFFSETTO:-0700
TZNAME:America/Denver MST
END:STANDARD
BEGIN:STANDARD
DTSTART:20241103T010000
RDATE:20250309T030000
TZOFFSETFROM:-0600
TZOFFSETTO:-0700
TZNAME:America/Denver MST
END:STANDARD
BEGIN:STANDARD
DTSTART:20251102T010000
RDATE:20260308T030000
TZOFFSETFROM:-0600
TZOFFSETTO:-0700
TZNAME:America/Denver MST
END:STANDARD
BEGIN:STANDARD
DTSTART:20261101T010000
RDATE:20270314T030000
TZOFFSETFROM:-0600
TZOFFSETTO:-0700
TZNAME:America/Denver MST
END:STANDARD
BEGIN:STANDARD
DTSTART:20271107T010000
RDATE:20280312T030000
TZOFFSETFROM:-0600
TZOFFSETTO:-0700
TZNAME:America/Denver MST
END:STANDARD
BEGIN:STANDARD
DTSTART:20281105T010000
RDATE:20290311T030000
TZOFFSETFROM:-0600
TZOFFSETTO:-0700
TZNAME:America/Denver MST
END:STANDARD
BEGIN:STANDARD
DTSTART:20291104T010000
RDATE:20300310T030000
TZOFFSETFROM:-0600
TZOFFSETTO:-0700
TZNAME:America/Denver MST
END:STANDARD
BEGIN:STANDARD
DTSTART:20301103T010000
RDATE:20310309T030000
TZOFFSETFROM:-0600
TZOFFSETTO:-0700
TZNAME:America/Denver MST
END:STANDARD
BEGIN:STANDARD
DTSTART:20311102T010000
RDATE:20320314T030000
TZOFFSETFROM:-0600
TZOFFSETTO:-0700
TZNAME:America/Denver MST
END:STANDARD
BEGIN:DAYLIGHT
DTSTART:20170707T000000
RDATE:20171105T010000
TZOFFSETFROM:-0700
TZOFFSETTO:-0600
TZNAME:America/Denver MDT
END:DAYLIGHT
BEGIN:DAYLIGHT
DTSTART:20180311T030000
RDATE:20181104T010000
TZOFFSETFROM:-0700
TZOFFSETTO:-0600
TZNAME:America/Denver MDT
END:DAYLIGHT
BEGIN:DAYLIGHT
DTSTART:20190310T030000
RDATE:20191103T010000
TZOFFSETFROM:-0700
TZOFFSETTO:-0600
TZNAME:America/Denver MDT
END:DAYLIGHT
BEGIN:DAYLIGHT
DTSTART:20200308T030000
RDATE:20201101T010000
TZOFFSETFROM:-0700
TZOFFSETTO:-0600
TZNAME:America/Denver MDT
END:DAYLIGHT
BEGIN:DAYLIGHT
DTSTART:20210314T030000
RDATE:20211107T010000
TZOFFSETFROM:-0700
TZOFFSETTO:-0600
TZNAME:America/Denver MDT
END:DAYLIGHT
BEGIN:DAYLIGHT
DTSTART:20220313T030000
RDATE:20221106T010000
TZOFFSETFROM:-0700
TZOFFSETTO:-0600
TZNAME:America/Denver MDT
END:DAYLIGHT
BEGIN:DAYLIGHT
DTSTART:20230312T030000
RDATE:20231105T010000
TZOFFSETFROM:-0700
TZOFFSETTO:-0600
TZNAME:America/Denver MDT
END:DAYLIGHT
BEGIN:DAYLIGHT
DTSTART:20240310T030000
RDATE:20241103T010000
TZOFFSETFROM:-0700
TZOFFSETTO:-0600
TZNAME:America/Denver MDT
END:DAYLIGHT
BEGIN:DAYLIGHT
DTSTART:20250309T030000
RDATE:20251102T010000
TZOFFSETFROM:-0700
TZOFFSETTO:-0600
TZNAME:America/Denver MDT
END:DAYLIGHT
BEGIN:DAYLIGHT
DTSTART:20260308T030000
RDATE:20261101T010000
TZOFFSETFROM:-0700
TZOFFSETTO:-0600
TZNAME:America/Denver MDT
END:DAYLIGHT
BEGIN:DAYLIGHT
DTSTART:20270314T030000
RDATE:20271107T010000
TZOFFSETFROM:-0700
TZOFFSETTO:-0600
TZNAME:America/Denver MDT
END:DAYLIGHT
BEGIN:DAYLIGHT
DTSTART:20280312T030000
RDATE:20281105T010000
TZOFFSETFROM:-0700
TZOFFSETTO:-0600
TZNAME:America/Denver MDT
END:DAYLIGHT
BEGIN:DAYLIGHT
DTSTART:20290311T030000
RDATE:20291104T010000
TZOFFSETFROM:-0700
TZOFFSETTO:-0600
TZNAME:America/Denver MDT
END:DAYLIGHT
BEGIN:DAYLIGHT
DTSTART:20300310T030000
RDATE:20301103T010000
TZOFFSETFROM:-0700
TZOFFSETTO:-0600
TZNAME:America/Denver MDT
END:DAYLIGHT
BEGIN:DAYLIGHT
DTSTART:20310309T030000
RDATE:20311102T010000
TZOFFSETFROM:-0700
TZOFFSETTO:-0600
TZNAME:America/Denver MDT
END:DAYLIGHT
END:VTIMEZONE
BEGIN:VEVENT
UID:a09931a10a6122933c2acfdb4f4441c3
CATEGORIES:Sports
CREATED:20180329T220951
SUMMARY:Last Call 50 Miler
LOCATION:Cohen Park, Fairplay CO 80440
DESCRIPTION;ENCODING=QUOTED-PRINTABLE:“It’s The LAST CALL At Bill Buck’s Dance Hall!”\n\nDo you remember the last
  dance at Prom? Nervous looks around, everyone hoping to be picked to awkwa
 rdly dance to Time After Time or Stairway To Heaven. We choose you, you unc
 oordinated runner you. Come dance with us, we have the perfect partner for 
 you.\n\n\n16-hours after the 100-mile runners have started their Silverheel
 s adventure through these mountains, we’re making a Last Call for runners l
 ooking to take the last dance. Starting precisely at midnight, you’ll have 
 6 hours to navigate the course in the dark before the lights come on and yo
 u get to see who you’ve been dancing with all night. They’ll be as ugly as 
 you remember. Your partner’s name is #Adversity, and it’s not done dancing 
 yet. You’ll have ten more hours to get the deed done (16 hour cut-off math 
 majors!). Will you find a new partner to dance with and finish the challeng
 e, or get stuck dancing in the same suffer circle with #Adversity stepping 
 all over your toes?\nRACE OVERVIEW\n\nDate:&nbsp;July 8, 2018\n Distances:&
 nbsp;53 Miles\n Average Elevation: 10,730′\n Max Elevation: 12,070′\n Gain/
 Loss: +9,186’/-9,186′\n Start Time:&nbsp;12:00 AM\n Time Limit:&nbsp;16 Hou
 rs\n Location:&nbsp;Fairplay, CO\n CLICK HERE to see a detailed course prof
 ile.\n\n\n50-Miles Not Enough? \n Check out our 100-Mile Option! CLICK HERE
 \nREGISTER HEREENTRY FEES:December 1, 2017 – December 3, 2017: $80\n Decemb
 er 4, 2017 –&nbsp;March 31, 2018:&nbsp;$100\n April 1, 2018 – June 30, 2018
 :&nbsp;$115\n Race Day: $120 CASH ONLY&nbsp;(No Shirts, &amp; Awards by lim
 ited availability only)\n\n\nHPRS Members Enjoy a minimum of 10% Off Regist
 ration Fees!\nREGISTER HERE\n\nThose registering after Monday, June 25, 201
 8&nbsp;will not receive a race shirt, and awards only as available (limited
 )\n Online Registration closes June 30, 2018 at 11:59pm\n\n\nCourse:&nbsp;T
 he course starts and finishes at Cohen Park located in Fairplay, CO. Runner
 s will negotiate Dirt and Gravel Roads, Single track trail, and remote trai
 ls of the Pike National Forest/South Park Ranger District. Runners will neg
 otiate these trails and roads at elevations between 9,000 and 12,500′. The 
 course shares the same course as the Silverheels 100-mile Endurance Run, wh
 ich takes place at the same time as this run. There are a few variations wh
 ich allow for the 50-mile distance.Note: This race provides a unique opport
 unity for runners in this 50-mile run to share the same final 37 miles as t
 he Silverheels 100. If you’re someone who doesn’t particularly care about y
 our finishing time, you could sign up for this race and get a finishers tim
 e, shirt and award all the while pacing a friend to the finish of the 100. 
 You’ll just need to time it right…. good luck! Aid Stations:&nbsp;Runners w
 ill access 6 aid locations with a total of 9 stops. Each aid station will b
 e fully stocked with water, electrolyte drink, and assorted “Ultra” snacks.
 \n\n\nhttp://humanpotentialrunning.com/last-call-50/\n\n\n&nbsp;\n
DTSTAMP:20260421T105034Z
DTSTART;TZID=America/Denver:20180708T000000
DTEND;TZID=America/Denver:20180708T160000
SEQUENCE:0
TRANSP:OPAQUE
END:VEVENT
END:VCALENDAR