BEGIN:VCALENDAR
VERSION:2.0
PRODID:-//jEvents 2.0 for Joomla//EN
CALSCALE:GREGORIAN
METHOD:PUBLISH
BEGIN:VTIMEZONE
TZID:America/Denver
BEGIN:STANDARD
DTSTART:20171105T010000
RDATE:20180311T030000
TZOFFSETFROM:-0600
TZOFFSETTO:-0700
TZNAME:America/Denver MST
END:STANDARD
BEGIN:STANDARD
DTSTART:20181104T010000
RDATE:20190310T030000
TZOFFSETFROM:-0600
TZOFFSETTO:-0700
TZNAME:America/Denver MST
END:STANDARD
BEGIN:STANDARD
DTSTART:20191103T010000
RDATE:20200308T030000
TZOFFSETFROM:-0600
TZOFFSETTO:-0700
TZNAME:America/Denver MST
END:STANDARD
BEGIN:STANDARD
DTSTART:20201101T010000
RDATE:20210314T030000
TZOFFSETFROM:-0600
TZOFFSETTO:-0700
TZNAME:America/Denver MST
END:STANDARD
BEGIN:STANDARD
DTSTART:20211107T010000
RDATE:20220313T030000
TZOFFSETFROM:-0600
TZOFFSETTO:-0700
TZNAME:America/Denver MST
END:STANDARD
BEGIN:STANDARD
DTSTART:20221106T010000
RDATE:20230312T030000
TZOFFSETFROM:-0600
TZOFFSETTO:-0700
TZNAME:America/Denver MST
END:STANDARD
BEGIN:STANDARD
DTSTART:20231105T010000
RDATE:20240310T030000
TZOFFSETFROM:-0600
TZOFFSETTO:-0700
TZNAME:America/Denver MST
END:STANDARD
BEGIN:STANDARD
DTSTART:20241103T010000
RDATE:20250309T030000
TZOFFSETFROM:-0600
TZOFFSETTO:-0700
TZNAME:America/Denver MST
END:STANDARD
BEGIN:STANDARD
DTSTART:20251102T010000
RDATE:20260308T030000
TZOFFSETFROM:-0600
TZOFFSETTO:-0700
TZNAME:America/Denver MST
END:STANDARD
BEGIN:STANDARD
DTSTART:20261101T010000
RDATE:20270314T030000
TZOFFSETFROM:-0600
TZOFFSETTO:-0700
TZNAME:America/Denver MST
END:STANDARD
BEGIN:STANDARD
DTSTART:20271107T010000
RDATE:20280312T030000
TZOFFSETFROM:-0600
TZOFFSETTO:-0700
TZNAME:America/Denver MST
END:STANDARD
BEGIN:STANDARD
DTSTART:20281105T010000
RDATE:20290311T030000
TZOFFSETFROM:-0600
TZOFFSETTO:-0700
TZNAME:America/Denver MST
END:STANDARD
BEGIN:STANDARD
DTSTART:20291104T010000
RDATE:20300310T030000
TZOFFSETFROM:-0600
TZOFFSETTO:-0700
TZNAME:America/Denver MST
END:STANDARD
BEGIN:STANDARD
DTSTART:20301103T010000
RDATE:20310309T030000
TZOFFSETFROM:-0600
TZOFFSETTO:-0700
TZNAME:America/Denver MST
END:STANDARD
BEGIN:STANDARD
DTSTART:20311102T010000
RDATE:20320314T030000
TZOFFSETFROM:-0600
TZOFFSETTO:-0700
TZNAME:America/Denver MST
END:STANDARD
BEGIN:DAYLIGHT
DTSTART:20170803T060000
RDATE:20171105T010000
TZOFFSETFROM:-0700
TZOFFSETTO:-0600
TZNAME:America/Denver MDT
END:DAYLIGHT
BEGIN:DAYLIGHT
DTSTART:20180311T030000
RDATE:20181104T010000
TZOFFSETFROM:-0700
TZOFFSETTO:-0600
TZNAME:America/Denver MDT
END:DAYLIGHT
BEGIN:DAYLIGHT
DTSTART:20190310T030000
RDATE:20191103T010000
TZOFFSETFROM:-0700
TZOFFSETTO:-0600
TZNAME:America/Denver MDT
END:DAYLIGHT
BEGIN:DAYLIGHT
DTSTART:20200308T030000
RDATE:20201101T010000
TZOFFSETFROM:-0700
TZOFFSETTO:-0600
TZNAME:America/Denver MDT
END:DAYLIGHT
BEGIN:DAYLIGHT
DTSTART:20210314T030000
RDATE:20211107T010000
TZOFFSETFROM:-0700
TZOFFSETTO:-0600
TZNAME:America/Denver MDT
END:DAYLIGHT
BEGIN:DAYLIGHT
DTSTART:20220313T030000
RDATE:20221106T010000
TZOFFSETFROM:-0700
TZOFFSETTO:-0600
TZNAME:America/Denver MDT
END:DAYLIGHT
BEGIN:DAYLIGHT
DTSTART:20230312T030000
RDATE:20231105T010000
TZOFFSETFROM:-0700
TZOFFSETTO:-0600
TZNAME:America/Denver MDT
END:DAYLIGHT
BEGIN:DAYLIGHT
DTSTART:20240310T030000
RDATE:20241103T010000
TZOFFSETFROM:-0700
TZOFFSETTO:-0600
TZNAME:America/Denver MDT
END:DAYLIGHT
BEGIN:DAYLIGHT
DTSTART:20250309T030000
RDATE:20251102T010000
TZOFFSETFROM:-0700
TZOFFSETTO:-0600
TZNAME:America/Denver MDT
END:DAYLIGHT
BEGIN:DAYLIGHT
DTSTART:20260308T030000
RDATE:20261101T010000
TZOFFSETFROM:-0700
TZOFFSETTO:-0600
TZNAME:America/Denver MDT
END:DAYLIGHT
BEGIN:DAYLIGHT
DTSTART:20270314T030000
RDATE:20271107T010000
TZOFFSETFROM:-0700
TZOFFSETTO:-0600
TZNAME:America/Denver MDT
END:DAYLIGHT
BEGIN:DAYLIGHT
DTSTART:20280312T030000
RDATE:20281105T010000
TZOFFSETFROM:-0700
TZOFFSETTO:-0600
TZNAME:America/Denver MDT
END:DAYLIGHT
BEGIN:DAYLIGHT
DTSTART:20290311T030000
RDATE:20291104T010000
TZOFFSETFROM:-0700
TZOFFSETTO:-0600
TZNAME:America/Denver MDT
END:DAYLIGHT
BEGIN:DAYLIGHT
DTSTART:20300310T030000
RDATE:20301103T010000
TZOFFSETFROM:-0700
TZOFFSETTO:-0600
TZNAME:America/Denver MDT
END:DAYLIGHT
BEGIN:DAYLIGHT
DTSTART:20310309T030000
RDATE:20311102T010000
TZOFFSETFROM:-0700
TZOFFSETTO:-0600
TZNAME:America/Denver MDT
END:DAYLIGHT
END:VTIMEZONE
BEGIN:VEVENT
UID:99b3d9339f87fce62ea8a755aa9adce8
CATEGORIES:Sports
CREATED:20180329T222450
SUMMARY:Sheep Mountain 50 Endurance Race
LOCATION:Fairplay Town Hall
DESCRIPTION;ENCODING=QUOTED-PRINTABLE:“To Overcome The Mountain We Must Overcome Ourselves”\n\nMake no mistake, t
 he elevation profile for The Sheep Mountain 50 mile and 50k are docile look
 ing. However, the average elevation of over 10,500’ and copious amounts of 
 aggressive terrain, will see you waddle away from this race in shock. Come 
 ready my friends, this mountain throws everything it has at runners, challe
 nging you from start to finish. We run amongst these “beautifully difficult
 ” mountains and hills lining the western slope of the South Park Valley. Th
 is is the race where you carry #Adversity on your back, if you can handle t
 he burden, you can win the day! Runners looking for a wilderness experience
 , stunning views, opportunities for technical terrain mixed with remote for
 est service roads… will fall in love with this course. (It’s more of a love
 -hate relationship, really).The third series of races we host in Fairplay, 
 The Sheep Mountain 50 mile and 50k promise to provide runners with an unfor
 gettable experience that celebrates the history, and rough and tumble natur
 e of this mountain region. \nNEW IN 2018! We’ve added a 50k option to this 
 weekend of high mountain running. Join us for a challenging 50k in the thin
  mountain air of Fairplay. Run 32.25 miles of some of the more challenging 
 miles of the 50 mile course.\nBE ADVISED: This race has been described as “
 Beautifully Difficult.” While the course meanders through some amazing coun
 try with stunning views of the Mosquito Range and surrounding 14er peaks, i
 t is tough. The course features&nbsp;a terrain type for every runner, and a
  fair amount of what some would consider “unrunable stretches.” The average
  elevation for the course (10,662′) is bested only&nbsp;by the San Juan Sol
 stice 50 in Lake City. Some of the aid stations are in remote locations tha
 t are&nbsp;difficult for even our volunteers to get to. While many runners 
 have joined us for their first 50-mile here (and succeeded), it is only&nbs
 p;recommended for the truly stubborn and determined. Middle-of-the-pack typ
 ically finishes between 13 and 15 hours. You have been advised, save the wh
 ining.\nRACE OVERVIEW\n\n4th Annual\n Date:&nbsp;August 4, 2018\n  Distance
 : 51 Miles | 50k\n  Elevation Gain/Loss:&nbsp;9,600’/9,700’ | 6,200’/6,200′
 \n  Average Elevation:&nbsp;10,700′ | 10,500′\n  Start Time:&nbsp;6:00 AM (
 Both Races)\n  Time Limit:&nbsp;16 Hours (Both Races)\n  Location:&nbsp;Fai
 rplay, CO\n CLICK HERE for a detailed course profile.\nREGISTER HEREENTRY F
 EES:\n\n50 Mile Ultramarathon\n December 1, 2017 – December 3, 2017:&nbsp;$
 80\n  December 4, 2017 – April 30, 2018:&nbsp;$100\n  May 1, 2018 – July 31
 ,&nbsp;2018:&nbsp;$115\n  Race Day: $120 CASH ONLY&nbsp; (No Shirts, &amp; 
 Awards by limited availability only)\n\n\n50k Ultramarathon\n December 1, 2
 017 – December 3, 2017:&nbsp;$70\n  December 4, 2017 – April 30, 2018:&nbsp
 ;$90\n  May 1, 2018 – July 31,&nbsp;2018:&nbsp;$100\n  Race Day: $100 CASH 
 ONLY&nbsp;(No Shirts, &amp; Awards by limited availability only)\n\n\nHPRS 
 Members Enjoy a minimum of 10% Off Registration Fees!\n\n\nThose registerin
 g after Monday, July 23, 2018&nbsp;will not receive a race shirt, and award
 s only as available (limited)\n Online Registration closes July 31, 2018 at
  11:59pm\n\n\nCOURSE:&nbsp;The course starts and finishes at the Park Count
 y Fairgrounds&nbsp;in Fairplay, CO. The course takes runners southeast of F
 airplay on a combination of forest service roads and singletrack trails. Th
 e course is a lollipop loop where the first and last 18 miles of the course
  are shared. The remaining 33 miles is comprised of one major loop over and
  around Sheep Mountain, Sheep Ridge and Round Hill. The western edge of the
  loop comes very close to the Buffalo Peaks Wilderness Area, offering runne
 rs some of the most isolated Ultrarunning in our state.\n\n\n50k Runners wi
 ll turn left at their first trip to Brown’s Pass and follow the remainder o
 f the 50 milers course from their second time to Brown’s Pass. The 50k cour
 se shares the same 18 miles to and from town with the remaining 13 miles be
 ing exclusively on Sheep Mountain.\n\n\nPost-Race Celebration:&nbsp;There w
 ill be a post race gathering at the Town of Fairplay Beach.&nbsp;We’ll welc
 ome all of our runners to the finish line with food and drink.\n\n\nhttp://
 humanpotentialrunning.com/sheep-mountain-50/\n\n\n&nbsp;\n\n\n&nbsp;\n
DTSTAMP:20260421T072312Z
DTSTART;TZID=America/Denver:20180804T060000
DTEND;TZID=America/Denver:20180804T220000
SEQUENCE:0
TRANSP:OPAQUE
END:VEVENT
END:VCALENDAR