BEGIN:VCALENDAR
VERSION:2.0
PRODID:-//jEvents 2.0 for Joomla//EN
CALSCALE:GREGORIAN
METHOD:PUBLISH
BEGIN:VTIMEZONE
TZID:America/Denver
BEGIN:STANDARD
DTSTART:20171105T010000
RDATE:20180311T030000
TZOFFSETFROM:-0600
TZOFFSETTO:-0700
TZNAME:America/Denver MST
END:STANDARD
BEGIN:STANDARD
DTSTART:20181104T010000
RDATE:20190310T030000
TZOFFSETFROM:-0600
TZOFFSETTO:-0700
TZNAME:America/Denver MST
END:STANDARD
BEGIN:STANDARD
DTSTART:20191103T010000
RDATE:20200308T030000
TZOFFSETFROM:-0600
TZOFFSETTO:-0700
TZNAME:America/Denver MST
END:STANDARD
BEGIN:STANDARD
DTSTART:20201101T010000
RDATE:20210314T030000
TZOFFSETFROM:-0600
TZOFFSETTO:-0700
TZNAME:America/Denver MST
END:STANDARD
BEGIN:STANDARD
DTSTART:20211107T010000
RDATE:20220313T030000
TZOFFSETFROM:-0600
TZOFFSETTO:-0700
TZNAME:America/Denver MST
END:STANDARD
BEGIN:STANDARD
DTSTART:20221106T010000
RDATE:20230312T030000
TZOFFSETFROM:-0600
TZOFFSETTO:-0700
TZNAME:America/Denver MST
END:STANDARD
BEGIN:STANDARD
DTSTART:20231105T010000
RDATE:20240310T030000
TZOFFSETFROM:-0600
TZOFFSETTO:-0700
TZNAME:America/Denver MST
END:STANDARD
BEGIN:STANDARD
DTSTART:20241103T010000
RDATE:20250309T030000
TZOFFSETFROM:-0600
TZOFFSETTO:-0700
TZNAME:America/Denver MST
END:STANDARD
BEGIN:STANDARD
DTSTART:20251102T010000
RDATE:20260308T030000
TZOFFSETFROM:-0600
TZOFFSETTO:-0700
TZNAME:America/Denver MST
END:STANDARD
BEGIN:STANDARD
DTSTART:20261101T010000
RDATE:20270314T030000
TZOFFSETFROM:-0600
TZOFFSETTO:-0700
TZNAME:America/Denver MST
END:STANDARD
BEGIN:STANDARD
DTSTART:20271107T010000
RDATE:20280312T030000
TZOFFSETFROM:-0600
TZOFFSETTO:-0700
TZNAME:America/Denver MST
END:STANDARD
BEGIN:STANDARD
DTSTART:20281105T010000
RDATE:20290311T030000
TZOFFSETFROM:-0600
TZOFFSETTO:-0700
TZNAME:America/Denver MST
END:STANDARD
BEGIN:STANDARD
DTSTART:20291104T010000
RDATE:20300310T030000
TZOFFSETFROM:-0600
TZOFFSETTO:-0700
TZNAME:America/Denver MST
END:STANDARD
BEGIN:STANDARD
DTSTART:20301103T010000
RDATE:20310309T030000
TZOFFSETFROM:-0600
TZOFFSETTO:-0700
TZNAME:America/Denver MST
END:STANDARD
BEGIN:STANDARD
DTSTART:20311102T010000
RDATE:20320314T030000
TZOFFSETFROM:-0600
TZOFFSETTO:-0700
TZNAME:America/Denver MST
END:STANDARD
BEGIN:DAYLIGHT
DTSTART:20170804T080000
RDATE:20171105T010000
TZOFFSETFROM:-0700
TZOFFSETTO:-0600
TZNAME:America/Denver MDT
END:DAYLIGHT
BEGIN:DAYLIGHT
DTSTART:20180311T030000
RDATE:20181104T010000
TZOFFSETFROM:-0700
TZOFFSETTO:-0600
TZNAME:America/Denver MDT
END:DAYLIGHT
BEGIN:DAYLIGHT
DTSTART:20190310T030000
RDATE:20191103T010000
TZOFFSETFROM:-0700
TZOFFSETTO:-0600
TZNAME:America/Denver MDT
END:DAYLIGHT
BEGIN:DAYLIGHT
DTSTART:20200308T030000
RDATE:20201101T010000
TZOFFSETFROM:-0700
TZOFFSETTO:-0600
TZNAME:America/Denver MDT
END:DAYLIGHT
BEGIN:DAYLIGHT
DTSTART:20210314T030000
RDATE:20211107T010000
TZOFFSETFROM:-0700
TZOFFSETTO:-0600
TZNAME:America/Denver MDT
END:DAYLIGHT
BEGIN:DAYLIGHT
DTSTART:20220313T030000
RDATE:20221106T010000
TZOFFSETFROM:-0700
TZOFFSETTO:-0600
TZNAME:America/Denver MDT
END:DAYLIGHT
BEGIN:DAYLIGHT
DTSTART:20230312T030000
RDATE:20231105T010000
TZOFFSETFROM:-0700
TZOFFSETTO:-0600
TZNAME:America/Denver MDT
END:DAYLIGHT
BEGIN:DAYLIGHT
DTSTART:20240310T030000
RDATE:20241103T010000
TZOFFSETFROM:-0700
TZOFFSETTO:-0600
TZNAME:America/Denver MDT
END:DAYLIGHT
BEGIN:DAYLIGHT
DTSTART:20250309T030000
RDATE:20251102T010000
TZOFFSETFROM:-0700
TZOFFSETTO:-0600
TZNAME:America/Denver MDT
END:DAYLIGHT
BEGIN:DAYLIGHT
DTSTART:20260308T030000
RDATE:20261101T010000
TZOFFSETFROM:-0700
TZOFFSETTO:-0600
TZNAME:America/Denver MDT
END:DAYLIGHT
BEGIN:DAYLIGHT
DTSTART:20270314T030000
RDATE:20271107T010000
TZOFFSETFROM:-0700
TZOFFSETTO:-0600
TZNAME:America/Denver MDT
END:DAYLIGHT
BEGIN:DAYLIGHT
DTSTART:20280312T030000
RDATE:20281105T010000
TZOFFSETFROM:-0700
TZOFFSETTO:-0600
TZNAME:America/Denver MDT
END:DAYLIGHT
BEGIN:DAYLIGHT
DTSTART:20290311T030000
RDATE:20291104T010000
TZOFFSETFROM:-0700
TZOFFSETTO:-0600
TZNAME:America/Denver MDT
END:DAYLIGHT
BEGIN:DAYLIGHT
DTSTART:20300310T030000
RDATE:20301103T010000
TZOFFSETFROM:-0700
TZOFFSETTO:-0600
TZNAME:America/Denver MDT
END:DAYLIGHT
BEGIN:DAYLIGHT
DTSTART:20310309T030000
RDATE:20311102T010000
TZOFFSETFROM:-0700
TZOFFSETTO:-0600
TZNAME:America/Denver MDT
END:DAYLIGHT
END:VTIMEZONE
BEGIN:VEVENT
UID:ba903bf02cbb90c107ed34662cac5b92
CATEGORIES:Community Events
CREATED:20180329T225857
SUMMARY:2018 HPRS Trail Work in Fairplay Day 4
LOCATION:Fairplay, Colorado
DESCRIPTION;ENCODING=QUOTED-PRINTABLE:\n\n\n\n\nHPRS Trail Work in Fairplay, CO\n Background: The Human Potential
  Running Series (HPRS) owned and operated by Human Potential LLC, has offic
 ially adopted 11 miles of trail. We have done this to continue on our missi
 on of not only building a better ultra community for our runners, but to im
 prove the relationships between ultra running and the land managers we work
  with.\n \n In cooperation with the United States Forest Service – Pike Nat
 ional Forest South Park Ranger District; we have adopted 11 miles of trail 
 in the South Park Valley. The 11 miles we’ve adopted is made up of 4 differ
 ent segments of trail. Three of those segments are routes we use for our Si
 lverheels 100-Mile Endurance Run held annually in August. The fourth segmen
 t is part of the Sheep Mountain 50-Mile Endurance Run held annually in July
 .\n \n WHY: (Besides it being the right thing to do) Many races have starte
 d to require their participants complete at least 8-hours of volunteer trai
 l work prior to running in their event. The Human Potential Running Series 
 requires 8-hours of volunteer trail work for those to be able to participat
 e in the Silverheels 100-Mile Endurance Run (Though, runners can opt out of
  this requirement by submitting a $150 donation to the South Park Schools F
 oundation).\n \n Due to the growing number of races requiring volunteer tra
 il work, as well as our own requirements, HPRS is also proud to adopt these
  trails to better serve the Colorado ultrarunning community in fulfilling t
 hese requirements. Every year, HPRS will be releasing a trail work schedule
  to allow folks to plan which workdays they’d like to attend between the mo
 nths of June and October.\n \n Trail maintenance is hard physical labor. Vo
 lunteers will be hiking with five to seven pound tools in hand.\n \n\n\nREQ
 UIREMENTS:\n Be in good physical condition\n Be able to use a variety of to
 ols, including shovels, picks and rakes\n Volunteers under 16 must be accom
 panied by a parent or guardian\n Be prepared for numerous and changing envi
 ronmental conditions\n \n WHAT TO BRING &amp; WEAR:\n Closed-toe, sturdy sh
 oes are required. No open-toed shoes or sandals of any kind will be allowed
 .\n Work gloves\n Plenty of water (2 quarts minimum)\n Raingear\n Sunscreen
  and insect repellent\n Toilet paper (recommended)\n A day pack\n \n Your v
 olunteering also qualifies you for HPRS Volunteer Credits, which you can "c
 ash in" for comp and discounted race entries. Trailwork hours are worth dou
 ble-points. To learn more about our volunteer opporunities and how to "cash
  in" your points, visit our website HERE.\n\n\nSign up: https://www.eventbr
 ite.com/e/2018-hprs-trail-work-day-4-tickets-41633847960?aff=efbeventtix\n\
 n\nhttps://www.facebook.com/events/1643528212352866/\n
DTSTAMP:20260421T043927Z
DTSTART;TZID=America/Denver:20180805T080000
DTEND;TZID=America/Denver:20180805T190000
SEQUENCE:0
TRANSP:OPAQUE
END:VEVENT
END:VCALENDAR