BEGIN:VCALENDAR
VERSION:2.0
PRODID:-//jEvents 2.0 for Joomla//EN
CALSCALE:GREGORIAN
METHOD:PUBLISH
BEGIN:VTIMEZONE
TZID:America/Denver
BEGIN:STANDARD
DTSTART:20171105T010000
RDATE:20180311T030000
TZOFFSETFROM:-0600
TZOFFSETTO:-0700
TZNAME:America/Denver MST
END:STANDARD
BEGIN:STANDARD
DTSTART:20181104T010000
RDATE:20190310T030000
TZOFFSETFROM:-0600
TZOFFSETTO:-0700
TZNAME:America/Denver MST
END:STANDARD
BEGIN:STANDARD
DTSTART:20191103T010000
RDATE:20200308T030000
TZOFFSETFROM:-0600
TZOFFSETTO:-0700
TZNAME:America/Denver MST
END:STANDARD
BEGIN:STANDARD
DTSTART:20201101T010000
RDATE:20210314T030000
TZOFFSETFROM:-0600
TZOFFSETTO:-0700
TZNAME:America/Denver MST
END:STANDARD
BEGIN:STANDARD
DTSTART:20211107T010000
RDATE:20220313T030000
TZOFFSETFROM:-0600
TZOFFSETTO:-0700
TZNAME:America/Denver MST
END:STANDARD
BEGIN:STANDARD
DTSTART:20221106T010000
RDATE:20230312T030000
TZOFFSETFROM:-0600
TZOFFSETTO:-0700
TZNAME:America/Denver MST
END:STANDARD
BEGIN:STANDARD
DTSTART:20231105T010000
RDATE:20240310T030000
TZOFFSETFROM:-0600
TZOFFSETTO:-0700
TZNAME:America/Denver MST
END:STANDARD
BEGIN:STANDARD
DTSTART:20241103T010000
RDATE:20250309T030000
TZOFFSETFROM:-0600
TZOFFSETTO:-0700
TZNAME:America/Denver MST
END:STANDARD
BEGIN:STANDARD
DTSTART:20251102T010000
RDATE:20260308T030000
TZOFFSETFROM:-0600
TZOFFSETTO:-0700
TZNAME:America/Denver MST
END:STANDARD
BEGIN:STANDARD
DTSTART:20261101T010000
RDATE:20270314T030000
TZOFFSETFROM:-0600
TZOFFSETTO:-0700
TZNAME:America/Denver MST
END:STANDARD
BEGIN:STANDARD
DTSTART:20271107T010000
RDATE:20280312T030000
TZOFFSETFROM:-0600
TZOFFSETTO:-0700
TZNAME:America/Denver MST
END:STANDARD
BEGIN:STANDARD
DTSTART:20281105T010000
RDATE:20290311T030000
TZOFFSETFROM:-0600
TZOFFSETTO:-0700
TZNAME:America/Denver MST
END:STANDARD
BEGIN:STANDARD
DTSTART:20291104T010000
RDATE:20300310T030000
TZOFFSETFROM:-0600
TZOFFSETTO:-0700
TZNAME:America/Denver MST
END:STANDARD
BEGIN:STANDARD
DTSTART:20301103T010000
RDATE:20310309T030000
TZOFFSETFROM:-0600
TZOFFSETTO:-0700
TZNAME:America/Denver MST
END:STANDARD
BEGIN:STANDARD
DTSTART:20311102T010000
RDATE:20320314T030000
TZOFFSETFROM:-0600
TZOFFSETTO:-0700
TZNAME:America/Denver MST
END:STANDARD
BEGIN:DAYLIGHT
DTSTART:20170913T113000
RDATE:20171105T010000
TZOFFSETFROM:-0700
TZOFFSETTO:-0600
TZNAME:America/Denver MDT
END:DAYLIGHT
BEGIN:DAYLIGHT
DTSTART:20180311T030000
RDATE:20181104T010000
TZOFFSETFROM:-0700
TZOFFSETTO:-0600
TZNAME:America/Denver MDT
END:DAYLIGHT
BEGIN:DAYLIGHT
DTSTART:20190310T030000
RDATE:20191103T010000
TZOFFSETFROM:-0700
TZOFFSETTO:-0600
TZNAME:America/Denver MDT
END:DAYLIGHT
BEGIN:DAYLIGHT
DTSTART:20200308T030000
RDATE:20201101T010000
TZOFFSETFROM:-0700
TZOFFSETTO:-0600
TZNAME:America/Denver MDT
END:DAYLIGHT
BEGIN:DAYLIGHT
DTSTART:20210314T030000
RDATE:20211107T010000
TZOFFSETFROM:-0700
TZOFFSETTO:-0600
TZNAME:America/Denver MDT
END:DAYLIGHT
BEGIN:DAYLIGHT
DTSTART:20220313T030000
RDATE:20221106T010000
TZOFFSETFROM:-0700
TZOFFSETTO:-0600
TZNAME:America/Denver MDT
END:DAYLIGHT
BEGIN:DAYLIGHT
DTSTART:20230312T030000
RDATE:20231105T010000
TZOFFSETFROM:-0700
TZOFFSETTO:-0600
TZNAME:America/Denver MDT
END:DAYLIGHT
BEGIN:DAYLIGHT
DTSTART:20240310T030000
RDATE:20241103T010000
TZOFFSETFROM:-0700
TZOFFSETTO:-0600
TZNAME:America/Denver MDT
END:DAYLIGHT
BEGIN:DAYLIGHT
DTSTART:20250309T030000
RDATE:20251102T010000
TZOFFSETFROM:-0700
TZOFFSETTO:-0600
TZNAME:America/Denver MDT
END:DAYLIGHT
BEGIN:DAYLIGHT
DTSTART:20260308T030000
RDATE:20261101T010000
TZOFFSETFROM:-0700
TZOFFSETTO:-0600
TZNAME:America/Denver MDT
END:DAYLIGHT
BEGIN:DAYLIGHT
DTSTART:20270314T030000
RDATE:20271107T010000
TZOFFSETFROM:-0700
TZOFFSETTO:-0600
TZNAME:America/Denver MDT
END:DAYLIGHT
BEGIN:DAYLIGHT
DTSTART:20280312T030000
RDATE:20281105T010000
TZOFFSETFROM:-0700
TZOFFSETTO:-0600
TZNAME:America/Denver MDT
END:DAYLIGHT
BEGIN:DAYLIGHT
DTSTART:20290311T030000
RDATE:20291104T010000
TZOFFSETFROM:-0700
TZOFFSETTO:-0600
TZNAME:America/Denver MDT
END:DAYLIGHT
BEGIN:DAYLIGHT
DTSTART:20300310T030000
RDATE:20301103T010000
TZOFFSETFROM:-0700
TZOFFSETTO:-0600
TZNAME:America/Denver MDT
END:DAYLIGHT
BEGIN:DAYLIGHT
DTSTART:20310309T030000
RDATE:20311102T010000
TZOFFSETFROM:-0700
TZOFFSETTO:-0600
TZNAME:America/Denver MDT
END:DAYLIGHT
END:VTIMEZONE
BEGIN:VEVENT
UID:1de3ee4e401efa6d92fd75ab92b93d7c
CATEGORIES:Chamber of Commerce/Business Meetings, Arts, Dining, & Entertainment, Nonprofit/Fundraiser
CREATED:20180404T113219
SUMMARY:Annual Mountain Area Women in Business Luncheon
LOCATION:Mountain Vernon Canyon Club, 24933 Club House Circle Golden, CO 80401
DESCRIPTION;ENCODING=QUOTED-PRINTABLE:Mountain Area Business Women are invited to attend this event focusing on e
 mpowerment, networking, and resource building.&nbsp;_______________________
 _____\n&nbsp;Enjoy an elegant meal, network with other career focused women
  and hear from an inspiring speaker on creating a vision of leadership in y
 our business. Executive business coach and experienced speaker, Kari Grange
 r, CEO of The Granger Network, will present on what it takes to be a transf
 ormative leader who produces unprecedented results in your business and for
  your community. New this year we will have our first annual Mountain Area 
 Women in Business Hall of Fame nominations and inductions. Creating and cel
 ebrating success will be our goal of the afternoon. \nThank you to Title Sp
 onsor Lutheran Medical Center/SCL Health.\nhttps://www.evergreenchamber.org
 /women-in-business-luncheon/\nOur Featured&nbsp;Speaker: Kari Granger\nThe 
 Granger Network\n"An executive leadership coach, leadership development edu
 cator, and organizational alignment consultant. As a combat veteran herself
 , Ms. Granger has worked in close coordination with numerous branches of th
 e U.S. armed forces and governmental agencies to achieve breakthrough missi
 on performance, from leading logistical operations for hurricane evacuation
  missions and strategic planning initiatives for Defense Base Realignment a
 nd Closure (BRAC) activities, to solving airlift logistical challenges and 
 leading U.S. troops under enemy fire during combat duty in Iraq.\n&nbsp;\nI
 n addition to her military work, Ms. Granger currently serves clients world
 wide in a variety of industry to include healthcare, government and higher 
 education. Most recently, Ms. Granger has developed a special interest and 
 capacity for creating cultural alignment and human integration post-mergers
  and acquisitions. Her unique approach can transform fear, resentment, dist
 rust and disjointedness into an aligned culture with trust, collaboration, 
 accountability and personal ownership.\nKari studied at the Bonch-Bruevich 
 Saint-Petersburg State University of Telecommunications, St Petersburg, Rus
 sia, is a Distinguished Graduate of the U.S. Air Force Academy with a B.S. 
 in Behavioral Sciences, holds an M.A. in Education Leadership from the Univ
 ersity of New Mexico, and is an ICF Professional Certified Coach."\n“I work
  with leaders who want to powerfully leverage the platform they have create
 d in their life to make a bold impact in the world. My clients are people w
 ho are authentically driven towards their own evolution in service of makin
 g great things happen in their lifetime.” – Kari Granger\nOpen to the Publi
 c.\nEvent Sells Out, Get Your Tickets Now\n&nbsp;Click Here To Register!
CONTACT:303-674-3412
DTSTAMP:20260421T014109Z
DTSTART;TZID=America/Denver:20180914T113000
DTEND;TZID=America/Denver:20180914T133000
SEQUENCE:0
TRANSP:OPAQUE
END:VEVENT
END:VCALENDAR