BEGIN:VCALENDAR
VERSION:2.0
PRODID:-//jEvents 2.0 for Joomla//EN
CALSCALE:GREGORIAN
METHOD:PUBLISH
BEGIN:VTIMEZONE
TZID:America/Denver
BEGIN:STANDARD
DTSTART:20211107T010000
RDATE:20220313T030000
TZOFFSETFROM:-0600
TZOFFSETTO:-0700
TZNAME:America/Denver MST
END:STANDARD
BEGIN:STANDARD
DTSTART:20221106T010000
RDATE:20230312T030000
TZOFFSETFROM:-0600
TZOFFSETTO:-0700
TZNAME:America/Denver MST
END:STANDARD
BEGIN:STANDARD
DTSTART:20231105T010000
RDATE:20240310T030000
TZOFFSETFROM:-0600
TZOFFSETTO:-0700
TZNAME:America/Denver MST
END:STANDARD
BEGIN:STANDARD
DTSTART:20241103T010000
RDATE:20250309T030000
TZOFFSETFROM:-0600
TZOFFSETTO:-0700
TZNAME:America/Denver MST
END:STANDARD
BEGIN:STANDARD
DTSTART:20251102T010000
RDATE:20260308T030000
TZOFFSETFROM:-0600
TZOFFSETTO:-0700
TZNAME:America/Denver MST
END:STANDARD
BEGIN:STANDARD
DTSTART:20261101T010000
RDATE:20270314T030000
TZOFFSETFROM:-0600
TZOFFSETTO:-0700
TZNAME:America/Denver MST
END:STANDARD
BEGIN:STANDARD
DTSTART:20271107T010000
RDATE:20280312T030000
TZOFFSETFROM:-0600
TZOFFSETTO:-0700
TZNAME:America/Denver MST
END:STANDARD
BEGIN:STANDARD
DTSTART:20281105T010000
RDATE:20290311T030000
TZOFFSETFROM:-0600
TZOFFSETTO:-0700
TZNAME:America/Denver MST
END:STANDARD
BEGIN:STANDARD
DTSTART:20291104T010000
RDATE:20300310T030000
TZOFFSETFROM:-0600
TZOFFSETTO:-0700
TZNAME:America/Denver MST
END:STANDARD
BEGIN:STANDARD
DTSTART:20301103T010000
RDATE:20310309T030000
TZOFFSETFROM:-0600
TZOFFSETTO:-0700
TZNAME:America/Denver MST
END:STANDARD
BEGIN:STANDARD
DTSTART:20311102T010000
RDATE:20320314T030000
TZOFFSETFROM:-0600
TZOFFSETTO:-0700
TZNAME:America/Denver MST
END:STANDARD
BEGIN:DAYLIGHT
DTSTART:20210601T090000
RDATE:20211107T010000
TZOFFSETFROM:-0700
TZOFFSETTO:-0600
TZNAME:America/Denver MDT
END:DAYLIGHT
BEGIN:DAYLIGHT
DTSTART:20220313T030000
RDATE:20221106T010000
TZOFFSETFROM:-0700
TZOFFSETTO:-0600
TZNAME:America/Denver MDT
END:DAYLIGHT
BEGIN:DAYLIGHT
DTSTART:20230312T030000
RDATE:20231105T010000
TZOFFSETFROM:-0700
TZOFFSETTO:-0600
TZNAME:America/Denver MDT
END:DAYLIGHT
BEGIN:DAYLIGHT
DTSTART:20240310T030000
RDATE:20241103T010000
TZOFFSETFROM:-0700
TZOFFSETTO:-0600
TZNAME:America/Denver MDT
END:DAYLIGHT
BEGIN:DAYLIGHT
DTSTART:20250309T030000
RDATE:20251102T010000
TZOFFSETFROM:-0700
TZOFFSETTO:-0600
TZNAME:America/Denver MDT
END:DAYLIGHT
BEGIN:DAYLIGHT
DTSTART:20260308T030000
RDATE:20261101T010000
TZOFFSETFROM:-0700
TZOFFSETTO:-0600
TZNAME:America/Denver MDT
END:DAYLIGHT
BEGIN:DAYLIGHT
DTSTART:20270314T030000
RDATE:20271107T010000
TZOFFSETFROM:-0700
TZOFFSETTO:-0600
TZNAME:America/Denver MDT
END:DAYLIGHT
BEGIN:DAYLIGHT
DTSTART:20280312T030000
RDATE:20281105T010000
TZOFFSETFROM:-0700
TZOFFSETTO:-0600
TZNAME:America/Denver MDT
END:DAYLIGHT
BEGIN:DAYLIGHT
DTSTART:20290311T030000
RDATE:20291104T010000
TZOFFSETFROM:-0700
TZOFFSETTO:-0600
TZNAME:America/Denver MDT
END:DAYLIGHT
BEGIN:DAYLIGHT
DTSTART:20300310T030000
RDATE:20301103T010000
TZOFFSETFROM:-0700
TZOFFSETTO:-0600
TZNAME:America/Denver MDT
END:DAYLIGHT
BEGIN:DAYLIGHT
DTSTART:20310309T030000
RDATE:20311102T010000
TZOFFSETFROM:-0700
TZOFFSETTO:-0600
TZNAME:America/Denver MDT
END:DAYLIGHT
END:VTIMEZONE
BEGIN:VEVENT
UID:c74b4b824428e6e803406ef585c0ead1
CATEGORIES:Community Events
CREATED:19691231T170000
SUMMARY:Jeffco Slash Collection at Beaver Ranch
LOCATION:Beaver Ranch, 11369 South Foxton Rd, Conifer CO 80433
DESCRIPTION;ENCODING=QUOTED-PRINTABLE:2022 SLASH Updates\n\nJefferson County is excited to announce that the numb
 er of SLASH collection days will be doubled in 2022 compared to previous ye
 ars. SLASH collections will now be open Thursday through Sunday at most loc
 ations. In addition, Jeffco is excited to partner with Jefferson Conservati
 on District to operate slash collections and work together to mitigate the 
 risk of wildfire in our community. \nFees for Slash Drop-off\n\nAny size tr
 uck or trailer is welcome at Jefferson County Slash Collection sites. Dump 
 fees are based on six cubic yards (162 cubic feet) of material: six yards i
 s one load. The cost to drop off a single load is $20. Credit cards only. T
 his is equivalent to:\n\n - Truck bed full to truck cab height\n - Trailer 
 up to eight feet long by five feet wide by four feet high\n - Loads outside
  these parameters will be charged accordingly\n\nLearn more about updates t
 o SLASH in 2022 (PDF)\nSLASH Collection CalendarThu Jun. 2 - Sun Jun. 5Slas
 h Collection at Beaver Ranch ParkThu Jun. 9 - Sun Jun. 12Slash Collection a
 t Beaver Ranch ParkThu Jun. 16 - Sun Jun. 19Slash Collection at Beaver Ranc
 h ParkThu Jun. 23 - Sun Jun. 26Slash Collection at Beaver Ranch ParkFri Jul
 . 1 - Sun Jul. 3Slash Collection at Shaffer's Crossing Aggregate Pile SiteF
 ri Jul. 8 - Sun Jul. 10Slash Collection at Shaffer's Crossing Aggregate Pil
 e SiteFri Jul. 15 - Sun Jul. 17Slash Collection at Shaffer's Crossing Aggre
 gate Pile SiteFri Jul. 22 - Sun Jul. 24Slash Collection at Shaffer's Crossi
 ng Aggregate Pile SiteThu Jul. 28 - Sun Jul. 31Slash Collection at Settlers
  Drive PropertyThu Aug. 4 - Sun Aug. 7Slash Collection at Settlers Drive Pr
 opertyThu Aug. 11 - Sun Aug. 14Slash Collection at Settlers Drive PropertyT
 hu Aug. 18 - Sun Aug. 21Slash Collection at Marshdale PropertyAugust 25, 20
 22, 9:00 AM - August 28, 2022, 4:00 PMSlash Collection at Marshdale Propert
 y September 1, 2022, 9:00 AM - September 4, 2022, 4:00 PMSlash Collection a
 t Marshdale Property September 8, 2022, 9:00 AM - September 11, 2022, 4:00 
 PMSlash Collection at Tin Cup Ridge Park (Rooney Rd) September 15, 2022, 9:
 00 AM - September 18, 2022, 4:00 PMSlash Collection at Tin Cup Ridge Park (
 Rooney Rd) September 22, 2022, 9:00 AM - September 25, 2022, 4:00 PMSlash C
 ollection at Tin Cup Ridge Park (Rooney Rd) September 29, 2022, 9:00 AM - O
 ctober 2, 2022, 4:00 PMSlash Collection at Tin Cup Ridge Park (Rooney Rd) S
 eptember 29, 2022, 9:00 AM - October 2, 2022, 4:00 PMSlash Collection at Ti
 n Cup Ridge Park (Rooney Rd) October 6, 2022, 9:00 AM - October 9, 2022, 4:
 00 PMSlash Collection at Foothills Fire Dept, Rainbow Hills October 13, 202
 2, 9:00 AM - October 16, 2022, 4:00 PMSlash Collection at Blue Mountain Ope
 n Space October 20, 2022, 9:00 AM - October 23, 2022, 4:00 PMSlash Collecti
 on at Blue Mountain Open Space October 27, 2022, 9:00 AM - October 30, 2022
 , 4:00 PMSlash Collection at Blue Mountain Open Space November 3, 2022, 9:0
 0 AM - November 6, 2022, 4:00 PMSlash Collection at Blue Mountain Open Spac
 e   https://www.jeffco.us/slash  
DTSTAMP:20260424T083109Z
DTSTART;TZID=America/Denver:20220602T090000
DTEND;TZID=America/Denver:20220602T160000
SEQUENCE:0
RRULE:FREQ=WEEKLY;UNTIL=20220627T000000Z;INTERVAL=1;BYDAY=SU,TH,FR,SA
TRANSP:OPAQUE
END:VEVENT
END:VCALENDAR