BEGIN:VCALENDAR
VERSION:2.0
PRODID:-//jEvents 2.0 for Joomla//EN
CALSCALE:GREGORIAN
METHOD:PUBLISH
BEGIN:VTIMEZONE
TZID:America/Denver
BEGIN:STANDARD
DTSTART:20230124T180000
RDATE:20230312T030000
TZOFFSETFROM:-0600
TZOFFSETTO:-0700
TZNAME:America/Denver MST
END:STANDARD
BEGIN:STANDARD
DTSTART:20231105T010000
RDATE:20240310T030000
TZOFFSETFROM:-0600
TZOFFSETTO:-0700
TZNAME:America/Denver MST
END:STANDARD
BEGIN:STANDARD
DTSTART:20241103T010000
RDATE:20250309T030000
TZOFFSETFROM:-0600
TZOFFSETTO:-0700
TZNAME:America/Denver MST
END:STANDARD
BEGIN:STANDARD
DTSTART:20251102T010000
RDATE:20260308T030000
TZOFFSETFROM:-0600
TZOFFSETTO:-0700
TZNAME:America/Denver MST
END:STANDARD
BEGIN:STANDARD
DTSTART:20261101T010000
RDATE:20270314T030000
TZOFFSETFROM:-0600
TZOFFSETTO:-0700
TZNAME:America/Denver MST
END:STANDARD
BEGIN:STANDARD
DTSTART:20271107T010000
RDATE:20280312T030000
TZOFFSETFROM:-0600
TZOFFSETTO:-0700
TZNAME:America/Denver MST
END:STANDARD
BEGIN:STANDARD
DTSTART:20281105T010000
RDATE:20290311T030000
TZOFFSETFROM:-0600
TZOFFSETTO:-0700
TZNAME:America/Denver MST
END:STANDARD
BEGIN:STANDARD
DTSTART:20291104T010000
RDATE:20300310T030000
TZOFFSETFROM:-0600
TZOFFSETTO:-0700
TZNAME:America/Denver MST
END:STANDARD
BEGIN:STANDARD
DTSTART:20301103T010000
RDATE:20310309T030000
TZOFFSETFROM:-0600
TZOFFSETTO:-0700
TZNAME:America/Denver MST
END:STANDARD
BEGIN:STANDARD
DTSTART:20311102T010000
RDATE:20320314T030000
TZOFFSETFROM:-0600
TZOFFSETTO:-0700
TZNAME:America/Denver MST
END:STANDARD
BEGIN:DAYLIGHT
DTSTART:20230312T030000
RDATE:20231105T010000
TZOFFSETFROM:-0700
TZOFFSETTO:-0600
TZNAME:America/Denver MDT
END:DAYLIGHT
BEGIN:DAYLIGHT
DTSTART:20240310T030000
RDATE:20241103T010000
TZOFFSETFROM:-0700
TZOFFSETTO:-0600
TZNAME:America/Denver MDT
END:DAYLIGHT
BEGIN:DAYLIGHT
DTSTART:20250309T030000
RDATE:20251102T010000
TZOFFSETFROM:-0700
TZOFFSETTO:-0600
TZNAME:America/Denver MDT
END:DAYLIGHT
BEGIN:DAYLIGHT
DTSTART:20260308T030000
RDATE:20261101T010000
TZOFFSETFROM:-0700
TZOFFSETTO:-0600
TZNAME:America/Denver MDT
END:DAYLIGHT
BEGIN:DAYLIGHT
DTSTART:20270314T030000
RDATE:20271107T010000
TZOFFSETFROM:-0700
TZOFFSETTO:-0600
TZNAME:America/Denver MDT
END:DAYLIGHT
BEGIN:DAYLIGHT
DTSTART:20280312T030000
RDATE:20281105T010000
TZOFFSETFROM:-0700
TZOFFSETTO:-0600
TZNAME:America/Denver MDT
END:DAYLIGHT
BEGIN:DAYLIGHT
DTSTART:20290311T030000
RDATE:20291104T010000
TZOFFSETFROM:-0700
TZOFFSETTO:-0600
TZNAME:America/Denver MDT
END:DAYLIGHT
BEGIN:DAYLIGHT
DTSTART:20300310T030000
RDATE:20301103T010000
TZOFFSETFROM:-0700
TZOFFSETTO:-0600
TZNAME:America/Denver MDT
END:DAYLIGHT
BEGIN:DAYLIGHT
DTSTART:20310309T030000
RDATE:20311102T010000
TZOFFSETFROM:-0700
TZOFFSETTO:-0600
TZNAME:America/Denver MDT
END:DAYLIGHT
END:VTIMEZONE
BEGIN:VEVENT
UID:4aa951c5a1930aff013c5068798ae86b
CATEGORIES:Politics
CREATED:19691231T170000
SUMMARY:Elk Creek Fire Protection District Board of Directors Meetings
LOCATION:Elk Creek Fire Station 1, 11993 Blackfoot Rd, Conifer, CO 80433
DESCRIPTION;ENCODING=QUOTED-PRINTABLE:Board Meetings\nThe regular Board of Directors meetings will be held on the
  4th Thursdays of the month (except for the November and December meetings 
 which will be held on the 3rd Thursdays due to the holidays). The Pension B
 oard of Trustees meetings will be held on the 4th Thursdays of January, Apr
 il, July, and October just prior to the regular Board of Directors meetings
 . Meetings are scheduled to begin at 1800 hours or 6:00 p.m.\nThe meetings 
 are held in person at Elk Creek Station 1, 11993 Blackfoot Rd. Conifer, CO 
 80433 or may be attended virtually via Zoom.\n\n\nBoard Agenda and Past Mee
 ting Minutes posted at https://elkcreekfpd.colorado.gov/transparency/meetin
 g-minutes-and-agendas\nRules of Procedure Note for Monthly Board of Directo
 rs meetings: for Citizen Comment, it will be limited to 3 minutes per perso
 n at the beginning and during Citizen Issues portion of the Agenda. There w
 ill be a sign-up sheet available at the beginning of the meeting to let the
  Board know you wish to provide comment.\nPublic Comment Period\nJoin Zoom 
 Meeting(opens in new window)\nMeeting ID: 813 3590 3811\nPasscode: 001062\n
 \n
CONTACT:Barbara Stockton: bstockton@elkcreekfire.org
DTSTAMP:20260422T135225Z
DTSTART;TZID=America/Denver:20240125T180000
SEQUENCE:0
RRULE:FREQ=MONTHLY;COUNT=999;INTERVAL=1;BYDAY=+4TH
TRANSP:OPAQUE
END:VEVENT
BEGIN:VEVENT
UID:4aa951c5a1930aff013c5068798ae86b
CATEGORIES:Politics
CREATED:20240111T000547
SUMMARY:Elk Creek Fire Protection District Board of Directors Meetings
LOCATION:Elk Creek Fire Station 1, 11993 Blackfoot Rd, Conifer, CO 80433
DESCRIPTION;ENCODING=QUOTED-PRINTABLE:Board Meetings\nThe regular Board of Directors meetings will be held on the
  4th Thursdays of the month (except for the November and December meetings 
 which will be held on the 3rd Thursdays due to the holidays). The Pension B
 oard of Trustees meetings will be held on the 4th Thursdays of January, Apr
 il, July, and October just prior to the regular Board of Directors meetings
 . Meetings are scheduled to begin at 1800 hours or 6:00 p.m.\nThe meetings 
 are held in person at Elk Creek Station 1, 11993 Blackfoot Rd. Conifer, CO 
 80433 or may be attended virtually via Zoom.\n\n\nBoard Agenda and Past Mee
 ting Minutes posted at https://elkcreekfpd.colorado.gov/transparency/meetin
 g-minutes-and-agendas\nRules of Procedure Note for Monthly Board of Directo
 rs meetings: for Citizen Comment, it will be limited to 3 minutes per perso
 n at the beginning and during Citizen Issues portion of the Agenda. There w
 ill be a sign-up sheet available at the beginning of the meeting to let the
  Board know you wish to provide comment.\nPublic Comment Period\nJoin Zoom 
 Meeting(opens in new window)\nMeeting ID: 813 3590 3811\nPasscode: 001062\n
 \n
CONTACT:Barbara Stockton: This email address is being protected from spambots. You need JavaScript enabled to view it.
				document.getElementById('cloak7db5b3f2a67097063ad6da6bc45635a5').innerHTML = '';
				var prefix = '&#109;a' + 'i&#108;' + '&#116;o';
				var path = 'hr' + 'ef' + '=';
				var addy7db5b3f2a67097063ad6da6bc45635a5 = 'bst&#111;ckt&#111;n' + '&#64;';
				addy7db5b3f2a67097063ad6da6bc45635a5 = addy7db5b3f2a67097063ad6da6bc45635a5 + '&#101;lkcr&#101;&#101;kf&#105;r&#101;' + '&#46;' + '&#111;rg';
				var addy_text7db5b3f2a67097063ad6da6bc45635a5 = 'bst&#111;ckt&#111;n' + '&#64;' + '&#101;lkcr&#101;&#101;kf&#105;r&#101;' + '&#46;' + '&#111;rg';document.getElementById('cloak7db5b3f2a67097063ad6da6bc45635a5').innerHTML += ''+addy_text7db5b3f2a67097063ad6da6bc45635a5+'';
		

DTSTAMP:20260422T135225Z
DTSTART;TZID=America/Denver:20261119T180000
DTEND;TZID=America/Denver:20261119T235959
RECURRENCE-ID;TZID=America/Denver:20261126T180000
SEQUENCE:0
TRANSP:OPAQUE
END:VEVENT
BEGIN:VEVENT
UID:4aa951c5a1930aff013c5068798ae86b
CATEGORIES:Politics
CREATED:20240111T000547
SUMMARY:Elk Creek Fire Protection District Board of Directors Meetings
LOCATION:Elk Creek Fire Station 1, 11993 Blackfoot Rd, Conifer, CO 80433
DESCRIPTION;ENCODING=QUOTED-PRINTABLE:Board Meetings\nBeginning in January of 2024, the regular Board of Director
 s meetings will now be held on the 4th Thursdays of the month (except for t
 he November and December meetings which will be held on the 3rd Thursdays d
 ue to the holidays) while the Pension Board of Trustees meetings will conti
 nue to be held on the 2nd Thursdays of January, April, July, and October. A
 ll meetings are scheduled to begin at 1800 hours or 6:00 p.m.\nThe Board of
  Directors meetings are held in person at Elk Creek Station 1, 11993 Blackf
 oot Rd. Conifer, CO 80433 or may be attended virtually via Zoom. The Pensio
 n Board of Trustees January meeting will be held virtually only.\nBoard Mee
 ting Minutes\nMeeting minutes will be posted following their approval by th
 e Board of Directors at the month following each meeting.\nBoard Meeting Ag
 enda\nPension Board of Trustees meeting: Thursday, January 11, 2024 @ 1800 
 hours (6:00 p.m.)\nNext Board of Directors meeting: Thursday January 25, 20
 24 @ 1800 hours (6:00 p.m.)\nRules of Procedure Note for Monthly Board of D
 irectors meetings: for Citizen Comment, it will be limited to 3 minutes per
  person at the beginning and during Citizen Issues portion of the Agenda. T
 here will be a sign-up sheet available at the beginning of the meeting to l
 et the Board know you wish to provide comment.\nPublic Comment Period\nJoin
  Zoom Meeting(opens in new window)\nMeeting ID: 813 3590 3811\nPasscode: 00
 1062\n\n
CONTACT:Barbara Stockton: This email address is being protected from spambots. You need JavaScript enabled to view it.
				document.getElementById('cloak21c9b6de33f9402c36fb6417d98fb571').innerHTML = '';
				var prefix = '&#109;a' + 'i&#108;' + '&#116;o';
				var path = 'hr' + 'ef' + '=';
				var addy21c9b6de33f9402c36fb6417d98fb571 = 'bst&#111;ckt&#111;n' + '&#64;';
				addy21c9b6de33f9402c36fb6417d98fb571 = addy21c9b6de33f9402c36fb6417d98fb571 + '&#101;lkcr&#101;&#101;kf&#105;r&#101;' + '&#46;' + '&#111;rg';
				var addy_text21c9b6de33f9402c36fb6417d98fb571 = 'bst&#111;ckt&#111;n' + '&#64;' + '&#101;lkcr&#101;&#101;kf&#105;r&#101;' + '&#46;' + '&#111;rg';document.getElementById('cloak21c9b6de33f9402c36fb6417d98fb571').innerHTML += ''+addy_text21c9b6de33f9402c36fb6417d98fb571+'';
		

DTSTAMP:20260422T135225Z
DTSTART;TZID=America/Denver:20241219T180000
DTEND;TZID=America/Denver:20241219T235959
RECURRENCE-ID;TZID=America/Denver:20241226T180000
SEQUENCE:0
TRANSP:OPAQUE
END:VEVENT
BEGIN:VEVENT
UID:4aa951c5a1930aff013c5068798ae86b
CATEGORIES:Politics
CREATED:20240111T000547
SUMMARY:Elk Creek Fire Protection District Board of Directors Meetings
LOCATION:Elk Creek Fire Station 1, 11993 Blackfoot Rd, Conifer, CO 80433
DESCRIPTION;ENCODING=QUOTED-PRINTABLE:Board Meetings\nBeginning in January of 2024, the regular Board of Director
 s meetings will now be held on the 4th Thursdays of the month (except for t
 he November and December meetings which will be held on the 3rd Thursdays d
 ue to the holidays) while the Pension Board of Trustees meetings will conti
 nue to be held on the 2nd Thursdays of January, April, July, and October. A
 ll meetings are scheduled to begin at 1800 hours or 6:00 p.m.\nThe Board of
  Directors meetings are held in person at Elk Creek Station 1, 11993 Blackf
 oot Rd. Conifer, CO 80433 or may be attended virtually via Zoom. The Pensio
 n Board of Trustees January meeting will be held virtually only.\nBoard Mee
 ting Minutes\nMeeting minutes will be posted following their approval by th
 e Board of Directors at the month following each meeting.\nBoard Meeting Ag
 enda\nPension Board of Trustees meeting: Thursday, January 11, 2024 @ 1800 
 hours (6:00 p.m.)\nNext Board of Directors meeting: Thursday January 25, 20
 24 @ 1800 hours (6:00 p.m.)\nRules of Procedure Note for Monthly Board of D
 irectors meetings: for Citizen Comment, it will be limited to 3 minutes per
  person at the beginning and during Citizen Issues portion of the Agenda. T
 here will be a sign-up sheet available at the beginning of the meeting to l
 et the Board know you wish to provide comment.\nPublic Comment Period\nJoin
  Zoom Meeting(opens in new window)\nMeeting ID: 813 3590 3811\nPasscode: 00
 1062\n\n
CONTACT:Barbara Stockton: This email address is being protected from spambots. You need JavaScript enabled to view it.
				document.getElementById('cloakf9a0e76dd351f5a3158733cc3bfcf0cd').innerHTML = '';
				var prefix = '&#109;a' + 'i&#108;' + '&#116;o';
				var path = 'hr' + 'ef' + '=';
				var addyf9a0e76dd351f5a3158733cc3bfcf0cd = 'bst&#111;ckt&#111;n' + '&#64;';
				addyf9a0e76dd351f5a3158733cc3bfcf0cd = addyf9a0e76dd351f5a3158733cc3bfcf0cd + '&#101;lkcr&#101;&#101;kf&#105;r&#101;' + '&#46;' + '&#111;rg';
				var addy_textf9a0e76dd351f5a3158733cc3bfcf0cd = 'bst&#111;ckt&#111;n' + '&#64;' + '&#101;lkcr&#101;&#101;kf&#105;r&#101;' + '&#46;' + '&#111;rg';document.getElementById('cloakf9a0e76dd351f5a3158733cc3bfcf0cd').innerHTML += ''+addy_textf9a0e76dd351f5a3158733cc3bfcf0cd+'';
		

DTSTAMP:20260422T135225Z
DTSTART;TZID=America/Denver:20241121T180000
DTEND;TZID=America/Denver:20241121T235959
RECURRENCE-ID;TZID=America/Denver:20241128T180000
SEQUENCE:0
TRANSP:OPAQUE
END:VEVENT
BEGIN:VEVENT
UID:4aa951c5a1930aff013c5068798ae86b
CATEGORIES:Politics
CREATED:20240111T000547
SUMMARY:Elk Creek Fire Protection District Board of Directors Meetings
LOCATION:Elk Creek Fire Station 1, 11993 Blackfoot Rd, Conifer, CO 80433
DESCRIPTION;ENCODING=QUOTED-PRINTABLE:July meeting rescheduled to July 31 due to lack of quorum for July 25 date.
 \nBoard Meetings\nBeginning in January of 2024, the regular Board of Direct
 ors meetings will now be held on the 4th Thursdays of the month (except for
  the November and December meetings which will be held on the 3rd Thursdays
  due to the holidays) while the Pension Board of Trustees meetings will con
 tinue to be held on the 2nd Thursdays of January, April, July, and October.
  All meetings are scheduled to begin at 1800 hours or 6:00 p.m.\nThe Board 
 of Directors meetings are held in person at Elk Creek Station 1, 11993 Blac
 kfoot Rd. Conifer, CO 80433 or may be attended virtually via Zoom. The Pens
 ion Board of Trustees January meeting will be held virtually only.\n\n\nBoa
 rd Agenda and Past Meeting Minutes posted at https://elkcreekfpd.colorado.g
 ov/transparency/meeting-minutes-and-agendas\nRules of Procedure Note for Mo
 nthly Board of Directors meetings: for Citizen Comment, it will be limited 
 to 3 minutes per person at the beginning and during Citizen Issues portion 
 of the Agenda. There will be a sign-up sheet available at the beginning of 
 the meeting to let the Board know you wish to provide comment.\nPublic Comm
 ent Period\nJoin Zoom Meeting(opens in new window)\nMeeting ID: 813 3590 38
 11\nPasscode: 001062\n\n
CONTACT:Barbara Stockton: This email address is being protected from spambots. You need JavaScript enabled to view it.
				document.getElementById('cloakfa11e3ca12bb7d4448628dd996183b33').innerHTML = '';
				var prefix = '&#109;a' + 'i&#108;' + '&#116;o';
				var path = 'hr' + 'ef' + '=';
				var addyfa11e3ca12bb7d4448628dd996183b33 = 'bst&#111;ckt&#111;n' + '&#64;';
				addyfa11e3ca12bb7d4448628dd996183b33 = addyfa11e3ca12bb7d4448628dd996183b33 + '&#101;lkcr&#101;&#101;kf&#105;r&#101;' + '&#46;' + '&#111;rg';
				var addy_textfa11e3ca12bb7d4448628dd996183b33 = 'bst&#111;ckt&#111;n' + '&#64;' + '&#101;lkcr&#101;&#101;kf&#105;r&#101;' + '&#46;' + '&#111;rg';document.getElementById('cloakfa11e3ca12bb7d4448628dd996183b33').innerHTML += ''+addy_textfa11e3ca12bb7d4448628dd996183b33+'';
		

DTSTAMP:20260422T135225Z
DTSTART;TZID=America/Denver:20240731T180000
DTEND;TZID=America/Denver:20240731T235959
RECURRENCE-ID;TZID=America/Denver:20240725T180000
SEQUENCE:0
TRANSP:OPAQUE
END:VEVENT
BEGIN:VEVENT
UID:4aa951c5a1930aff013c5068798ae86b
CATEGORIES:Politics
CREATED:20240111T000547
SUMMARY:Elk Creek Fire Protection District Board of Directors Meetings
LOCATION:Elk Creek Fire Station 1, 11993 Blackfoot Rd, Conifer, CO 80433
DESCRIPTION;ENCODING=QUOTED-PRINTABLE:Board Meetings\nBeginning in January of 2024, the regular Board of Director
 s meetings will now be held on the 4th Thursdays of the month (except for t
 he November and December meetings which will be held on the 3rd Thursdays d
 ue to the holidays) while the Pension Board of Trustees meetings will conti
 nue to be held on the 2nd Thursdays of January, April, July, and October. A
 ll meetings are scheduled to begin at 1800 hours or 6:00 p.m.\nThe Board of
  Directors meetings are held in person at Elk Creek Station 1, 11993 Blackf
 oot Rd. Conifer, CO 80433 or may be attended virtually via Zoom. The Pensio
 n Board of Trustees January meeting will be held virtually only.\n\n\nBoard
  Agenda and Past Meeting Minutes posted at https://elkcreekfpd.colorado.gov
 /transparency/meeting-minutes-and-agendas\nRules of Procedure Note for Mont
 hly Board of Directors meetings: for Citizen Comment, it will be limited to
  3 minutes per person at the beginning and during Citizen Issues portion of
  the Agenda. There will be a sign-up sheet available at the beginning of th
 e meeting to let the Board know you wish to provide comment.\nPublic Commen
 t Period\nJoin Zoom Meeting(opens in new window)\nMeeting ID: 813 3590 3811
 \nPasscode: 001062\n\n
CONTACT:Barbara Stockton: This email address is being protected from spambots. You need JavaScript enabled to view it.
				document.getElementById('cloak8189df35142daf0756e9b929e43d2224').innerHTML = '';
				var prefix = '&#109;a' + 'i&#108;' + '&#116;o';
				var path = 'hr' + 'ef' + '=';
				var addy8189df35142daf0756e9b929e43d2224 = 'bst&#111;ckt&#111;n' + '&#64;';
				addy8189df35142daf0756e9b929e43d2224 = addy8189df35142daf0756e9b929e43d2224 + '&#101;lkcr&#101;&#101;kf&#105;r&#101;' + '&#46;' + '&#111;rg';
				var addy_text8189df35142daf0756e9b929e43d2224 = 'bst&#111;ckt&#111;n' + '&#64;' + '&#101;lkcr&#101;&#101;kf&#105;r&#101;' + '&#46;' + '&#111;rg';document.getElementById('cloak8189df35142daf0756e9b929e43d2224').innerHTML += ''+addy_text8189df35142daf0756e9b929e43d2224+'';
		

DTSTAMP:20260422T135225Z
DTSTART;TZID=America/Denver:20250529T180000
DTEND;TZID=America/Denver:20250529T235959
RECURRENCE-ID;TZID=America/Denver:20250522T180000
SEQUENCE:0
TRANSP:OPAQUE
END:VEVENT
BEGIN:VEVENT
UID:4aa951c5a1930aff013c5068798ae86b
CATEGORIES:Politics
CREATED:20240111T000547
SUMMARY:Elk Creek Fire Protection District Board of Directors Meetings
LOCATION:Elk Creek Fire Station 1, 11993 Blackfoot Rd, Conifer, CO 80433
DESCRIPTION;ENCODING=QUOTED-PRINTABLE:The monthly Board of Directors meeting is rescheduled for November 20th in 
 order to not conflict with Thanksgiving.\nBoard Meetings\nBeginning in Janu
 ary of 2024, the regular Board of Directors meetings will now be held on th
 e 4th Thursdays of the month (except for the November and December meetings
  which will be held on the 3rd Thursdays due to the holidays) while the Pen
 sion Board of Trustees meetings will continue to be held on the 2nd Thursda
 ys of January, April, July, and October. All meetings are scheduled to begi
 n at 1800 hours or 6:00 p.m.\nThe Board of Directors meetings are held in p
 erson at Elk Creek Station 1, 11993 Blackfoot Rd. Conifer, CO 80433 or may 
 be attended virtually via Zoom. The Pension Board of Trustees January meeti
 ng will be held virtually only.\n\n\nBoard Agenda and Past Meeting Minutes 
 posted at https://elkcreekfpd.colorado.gov/transparency/meeting-minutes-and
 -agendas\nRules of Procedure Note for Monthly Board of Directors meetings: 
 for Citizen Comment, it will be limited to 3 minutes per person at the begi
 nning and during Citizen Issues portion of the Agenda. There will be a sign
 -up sheet available at the beginning of the meeting to let the Board know y
 ou wish to provide comment.\nPublic Comment Period\nJoin Zoom Meeting(opens
  in new window)\nMeeting ID: 813 3590 3811\nPasscode: 001062\n\n
CONTACT:Barbara Stockton: This email address is being protected from spambots. You need JavaScript enabled to view it.
				document.getElementById('cloak64d7e0b06929b21925ae22a92eb4f808').innerHTML = '';
				var prefix = '&#109;a' + 'i&#108;' + '&#116;o';
				var path = 'hr' + 'ef' + '=';
				var addy64d7e0b06929b21925ae22a92eb4f808 = 'bst&#111;ckt&#111;n' + '&#64;';
				addy64d7e0b06929b21925ae22a92eb4f808 = addy64d7e0b06929b21925ae22a92eb4f808 + '&#101;lkcr&#101;&#101;kf&#105;r&#101;' + '&#46;' + '&#111;rg';
				var addy_text64d7e0b06929b21925ae22a92eb4f808 = 'bst&#111;ckt&#111;n' + '&#64;' + '&#101;lkcr&#101;&#101;kf&#105;r&#101;' + '&#46;' + '&#111;rg';document.getElementById('cloak64d7e0b06929b21925ae22a92eb4f808').innerHTML += ''+addy_text64d7e0b06929b21925ae22a92eb4f808+'';
		

DTSTAMP:20260422T135225Z
DTSTART;TZID=America/Denver:20251120T180000
DTEND;TZID=America/Denver:20251120T235959
RECURRENCE-ID;TZID=America/Denver:20251127T180000
SEQUENCE:0
TRANSP:OPAQUE
END:VEVENT
BEGIN:VEVENT
UID:4aa951c5a1930aff013c5068798ae86b
CATEGORIES:Politics
CREATED:20240111T000547
SUMMARY:Elk Creek Fire Protection District Board of Directors Meetings
LOCATION:Elk Creek Fire Station 1, 11993 Blackfoot Rd, Conifer, CO 80433
DESCRIPTION;ENCODING=QUOTED-PRINTABLE:The monthly Board of Directors meeting is rescheduled to December 18th in o
 rder to not conflict with the Christmas holiday.\nBoard Meetings\nBeginning
  in January of 2024, the regular Board of Directors meetings will now be he
 ld on the 4th Thursdays of the month (except for the November and December 
 meetings which will be held on the 3rd Thursdays due to the holidays) while
  the Pension Board of Trustees meetings will continue to be held on the 2nd
  Thursdays of January, April, July, and October. All meetings are scheduled
  to begin at 1800 hours or 6:00 p.m.\nThe Board of Directors meetings are h
 eld in person at Elk Creek Station 1, 11993 Blackfoot Rd. Conifer, CO 80433
  or may be attended virtually via Zoom. The Pension Board of Trustees Janua
 ry meeting will be held virtually only.\n\n\nBoard Agenda and Past Meeting 
 Minutes posted at https://elkcreekfpd.colorado.gov/transparency/meeting-min
 utes-and-agendas\nRules of Procedure Note for Monthly Board of Directors me
 etings: for Citizen Comment, it will be limited to 3 minutes per person at 
 the beginning and during Citizen Issues portion of the Agenda. There will b
 e a sign-up sheet available at the beginning of the meeting to let the Boar
 d know you wish to provide comment.\nPublic Comment Period\nJoin Zoom Meeti
 ng(opens in new window)\nMeeting ID: 813 3590 3811\nPasscode: 001062\n\n
CONTACT:Barbara Stockton: This email address is being protected from spambots. You need JavaScript enabled to view it.
				document.getElementById('cloak1cd5d2c30f05c7bb36d5ebd20e69e1e2').innerHTML = '';
				var prefix = '&#109;a' + 'i&#108;' + '&#116;o';
				var path = 'hr' + 'ef' + '=';
				var addy1cd5d2c30f05c7bb36d5ebd20e69e1e2 = 'bst&#111;ckt&#111;n' + '&#64;';
				addy1cd5d2c30f05c7bb36d5ebd20e69e1e2 = addy1cd5d2c30f05c7bb36d5ebd20e69e1e2 + '&#101;lkcr&#101;&#101;kf&#105;r&#101;' + '&#46;' + '&#111;rg';
				var addy_text1cd5d2c30f05c7bb36d5ebd20e69e1e2 = 'bst&#111;ckt&#111;n' + '&#64;' + '&#101;lkcr&#101;&#101;kf&#105;r&#101;' + '&#46;' + '&#111;rg';document.getElementById('cloak1cd5d2c30f05c7bb36d5ebd20e69e1e2').innerHTML += ''+addy_text1cd5d2c30f05c7bb36d5ebd20e69e1e2+'';
		

DTSTAMP:20260422T135225Z
DTSTART;TZID=America/Denver:20251218T180000
DTEND;TZID=America/Denver:20251218T235959
RECURRENCE-ID;TZID=America/Denver:20251225T180000
SEQUENCE:0
TRANSP:OPAQUE
END:VEVENT
BEGIN:VEVENT
UID:4aa951c5a1930aff013c5068798ae86b
CATEGORIES:Politics
CREATED:20240111T000547
SUMMARY:Elk Creek Fire Protection District Board of Directors Meetings
LOCATION:Elk Creek Fire Station 1, 11993 Blackfoot Rd, Conifer, CO 80433
DESCRIPTION;ENCODING=QUOTED-PRINTABLE:Board Meetings\nThe regular Board of Directors meetings will be held on the
  4th Thursdays of the month (except for the November and December meetings 
 which will be held on the 3rd Thursdays due to the holidays). The Pension B
 oard of Trustees meetings will be held on the 4th Thursdays of January, Apr
 il, July, and October just prior to the regular Board of Directors meetings
 . Meetings are scheduled to begin at 1800 hours or 6:00 p.m.\nThe meetings 
 are held in person at Elk Creek Station 1, 11993 Blackfoot Rd. Conifer, CO 
 80433 or may be attended virtually via Zoom.\n\n\nBoard Agenda and Past Mee
 ting Minutes posted at https://elkcreekfpd.colorado.gov/transparency/meetin
 g-minutes-and-agendas\nRules of Procedure Note for Monthly Board of Directo
 rs meetings: for Citizen Comment, it will be limited to 3 minutes per perso
 n at the beginning and during Citizen Issues portion of the Agenda. There w
 ill be a sign-up sheet available at the beginning of the meeting to let the
  Board know you wish to provide comment.\nPublic Comment Period\nJoin Zoom 
 Meeting(opens in new window)\nMeeting ID: 813 3590 3811\nPasscode: 001062\n
 \n
CONTACT:Barbara Stockton: This email address is being protected from spambots. You need JavaScript enabled to view it.
				document.getElementById('cloak53ecb75c6ab638b7c5280aca9fd042c7').innerHTML = '';
				var prefix = '&#109;a' + 'i&#108;' + '&#116;o';
				var path = 'hr' + 'ef' + '=';
				var addy53ecb75c6ab638b7c5280aca9fd042c7 = 'bst&#111;ckt&#111;n' + '&#64;';
				addy53ecb75c6ab638b7c5280aca9fd042c7 = addy53ecb75c6ab638b7c5280aca9fd042c7 + '&#101;lkcr&#101;&#101;kf&#105;r&#101;' + '&#46;' + '&#111;rg';
				var addy_text53ecb75c6ab638b7c5280aca9fd042c7 = 'bst&#111;ckt&#111;n' + '&#64;' + '&#101;lkcr&#101;&#101;kf&#105;r&#101;' + '&#46;' + '&#111;rg';document.getElementById('cloak53ecb75c6ab638b7c5280aca9fd042c7').innerHTML += ''+addy_text53ecb75c6ab638b7c5280aca9fd042c7+'';
		

DTSTAMP:20260422T135225Z
DTSTART;TZID=America/Denver:20261217T180000
DTEND;TZID=America/Denver:20261217T235959
RECURRENCE-ID;TZID=America/Denver:20261224T180000
SEQUENCE:0
TRANSP:OPAQUE
END:VEVENT
END:VCALENDAR