BEGIN:VCALENDAR
VERSION:2.0
PRODID:-//jEvents 2.0 for Joomla//EN
CALSCALE:GREGORIAN
METHOD:PUBLISH
BEGIN:VTIMEZONE
TZID:America/Denver
BEGIN:STANDARD
DTSTART:20250106T180000
RDATE:20250309T030000
TZOFFSETFROM:-0600
TZOFFSETTO:-0700
TZNAME:America/Denver MST
END:STANDARD
BEGIN:STANDARD
DTSTART:20251102T010000
RDATE:20260308T030000
TZOFFSETFROM:-0600
TZOFFSETTO:-0700
TZNAME:America/Denver MST
END:STANDARD
BEGIN:STANDARD
DTSTART:20261101T010000
RDATE:20270314T030000
TZOFFSETFROM:-0600
TZOFFSETTO:-0700
TZNAME:America/Denver MST
END:STANDARD
BEGIN:STANDARD
DTSTART:20271107T010000
RDATE:20280312T030000
TZOFFSETFROM:-0600
TZOFFSETTO:-0700
TZNAME:America/Denver MST
END:STANDARD
BEGIN:STANDARD
DTSTART:20281105T010000
RDATE:20290311T030000
TZOFFSETFROM:-0600
TZOFFSETTO:-0700
TZNAME:America/Denver MST
END:STANDARD
BEGIN:STANDARD
DTSTART:20291104T010000
RDATE:20300310T030000
TZOFFSETFROM:-0600
TZOFFSETTO:-0700
TZNAME:America/Denver MST
END:STANDARD
BEGIN:STANDARD
DTSTART:20301103T010000
RDATE:20310309T030000
TZOFFSETFROM:-0600
TZOFFSETTO:-0700
TZNAME:America/Denver MST
END:STANDARD
BEGIN:STANDARD
DTSTART:20311102T010000
RDATE:20320314T030000
TZOFFSETFROM:-0600
TZOFFSETTO:-0700
TZNAME:America/Denver MST
END:STANDARD
BEGIN:DAYLIGHT
DTSTART:20250309T030000
RDATE:20251102T010000
TZOFFSETFROM:-0700
TZOFFSETTO:-0600
TZNAME:America/Denver MDT
END:DAYLIGHT
BEGIN:DAYLIGHT
DTSTART:20260308T030000
RDATE:20261101T010000
TZOFFSETFROM:-0700
TZOFFSETTO:-0600
TZNAME:America/Denver MDT
END:DAYLIGHT
BEGIN:DAYLIGHT
DTSTART:20270314T030000
RDATE:20271107T010000
TZOFFSETFROM:-0700
TZOFFSETTO:-0600
TZNAME:America/Denver MDT
END:DAYLIGHT
BEGIN:DAYLIGHT
DTSTART:20280312T030000
RDATE:20281105T010000
TZOFFSETFROM:-0700
TZOFFSETTO:-0600
TZNAME:America/Denver MDT
END:DAYLIGHT
BEGIN:DAYLIGHT
DTSTART:20290311T030000
RDATE:20291104T010000
TZOFFSETFROM:-0700
TZOFFSETTO:-0600
TZNAME:America/Denver MDT
END:DAYLIGHT
BEGIN:DAYLIGHT
DTSTART:20300310T030000
RDATE:20301103T010000
TZOFFSETFROM:-0700
TZOFFSETTO:-0600
TZNAME:America/Denver MDT
END:DAYLIGHT
BEGIN:DAYLIGHT
DTSTART:20310309T030000
RDATE:20311102T010000
TZOFFSETFROM:-0700
TZOFFSETTO:-0600
TZNAME:America/Denver MDT
END:DAYLIGHT
END:VTIMEZONE
BEGIN:VEVENT
UID:f65fafa3bcb51fd3fde0e1f253cc6fe7
CATEGORIES:Politics
CREATED:19691231T170000
SUMMARY:Evergreen Area Republican Club Meeting
LOCATION:The Wild Game, 1204 Bergen Pkwy, Evergreen, CO 80439
DESCRIPTION;ENCODING=QUOTED-PRINTABLE:1st Wednesday of every month at 6pm\n\nhttps://evergreenarearepublicanclub.
 org/\n\n\nhttps://jeffcorepublicans.com/clubs/\n\n\nOur Mission\nWe love ou
 r Country, our State, and our beautiful community. Evergreen Area Republica
 ns seek to inspire, educate, activate, and recruit citizens of Evergreen, C
 olorado and take our state back from one party control.\n\n - Protect the f
 ree rights of the individual\n - Protect the free enterprise system\n - Red
 uce government to the lowest practical level\n - Endorse and practice fisca
 l responsibility
CONTACT:Rich Mancuso richardmancuso10@gmail.com
DTSTAMP:20260419T111502Z
DTSTART;TZID=America/Denver:20260107T180000
SEQUENCE:0
RRULE:FREQ=MONTHLY;COUNT=999;INTERVAL=1;BYDAY=+1WE
TRANSP:OPAQUE
END:VEVENT
BEGIN:VEVENT
UID:f65fafa3bcb51fd3fde0e1f253cc6fe7
CATEGORIES:Politics
CREATED:20260105T231210
SUMMARY:Evergreen Area Republican Club Meeting
LOCATION:The Wild Game, 1204 Bergen Pkwy, Evergreen, CO 80439
DESCRIPTION;ENCODING=QUOTED-PRINTABLE:1st Wednesday of every month at 6pm\n\nFebruary Speaker: Colorado 2026 Gube
 rnatorial Candidate Dr. Scott Bottoms\n\n\nhttps://evergreenarearepublicanc
 lub.org/\n\n\nhttps://jeffcorepublicans.com/clubs/\n\n\nOur Mission\nWe lov
 e our Country, our State, and our beautiful community. Evergreen Area Repub
 licans seek to inspire, educate, activate, and recruit citizens of Evergree
 n, Colorado and take our state back from one party control.\n\n - Protect t
 he free rights of the individual\n - Protect the free enterprise system\n -
  Reduce government to the lowest practical level\n - Endorse and practice f
 iscal responsibility
CONTACT:Rich Mancuso This email address is being protected from spambots. You need JavaScript enabled to view it.
				document.getElementById('cloakce29b1be020d34cef6020c75950f6368').innerHTML = '';
				var prefix = '&#109;a' + 'i&#108;' + '&#116;o';
				var path = 'hr' + 'ef' + '=';
				var addyce29b1be020d34cef6020c75950f6368 = 'r&#105;ch&#97;rdm&#97;nc&#117;s&#111;10' + '&#64;';
				addyce29b1be020d34cef6020c75950f6368 = addyce29b1be020d34cef6020c75950f6368 + 'gm&#97;&#105;l' + '&#46;' + 'c&#111;m';
				var addy_textce29b1be020d34cef6020c75950f6368 = 'r&#105;ch&#97;rdm&#97;nc&#117;s&#111;10' + '&#64;' + 'gm&#97;&#105;l' + '&#46;' + 'c&#111;m';document.getElementById('cloakce29b1be020d34cef6020c75950f6368').innerHTML += ''+addy_textce29b1be020d34cef6020c75950f6368+'';
		

DTSTAMP:20260419T111502Z
DTSTART;TZID=America/Denver:20260204T180000
DTEND;TZID=America/Denver:20260204T235959
RECURRENCE-ID;TZID=America/Denver:20260204T180000
SEQUENCE:0
TRANSP:OPAQUE
END:VEVENT
BEGIN:VEVENT
UID:f65fafa3bcb51fd3fde0e1f253cc6fe7
CATEGORIES:Politics
CREATED:20260105T231210
SUMMARY:Evergreen Area Republican Club Meeting
LOCATION:The Wild Game, 1204 Bergen Pkwy, Evergreen, CO 80439
DESCRIPTION;ENCODING=QUOTED-PRINTABLE:1st Wednesday of every month at 6pm\n\nMarch Speaker: Colorado 2026 Guberna
 torial Candidate Victor Marx\n\n\nhttps://evergreenarearepublicanclub.org/\
 n\n\nhttps://jeffcorepublicans.com/clubs/\n\n\nOur Mission\nWe love our Cou
 ntry, our State, and our beautiful community. Evergreen Area Republicans se
 ek to inspire, educate, activate, and recruit citizens of Evergreen, Colora
 do and take our state back from one party control.\n\n - Protect the free r
 ights of the individual\n - Protect the free enterprise system\n - Reduce g
 overnment to the lowest practical level\n - Endorse and practice fiscal res
 ponsibility
CONTACT:Rich Mancuso This email address is being protected from spambots. You need JavaScript enabled to view it.
				document.getElementById('cloak757b62588fa2e5ef3f8b1c7813d09d7a').innerHTML = '';
				var prefix = '&#109;a' + 'i&#108;' + '&#116;o';
				var path = 'hr' + 'ef' + '=';
				var addy757b62588fa2e5ef3f8b1c7813d09d7a = 'r&#105;ch&#97;rdm&#97;nc&#117;s&#111;10' + '&#64;';
				addy757b62588fa2e5ef3f8b1c7813d09d7a = addy757b62588fa2e5ef3f8b1c7813d09d7a + 'gm&#97;&#105;l' + '&#46;' + 'c&#111;m';
				var addy_text757b62588fa2e5ef3f8b1c7813d09d7a = 'r&#105;ch&#97;rdm&#97;nc&#117;s&#111;10' + '&#64;' + 'gm&#97;&#105;l' + '&#46;' + 'c&#111;m';document.getElementById('cloak757b62588fa2e5ef3f8b1c7813d09d7a').innerHTML += ''+addy_text757b62588fa2e5ef3f8b1c7813d09d7a+'';
		

DTSTAMP:20260419T111502Z
DTSTART;TZID=America/Denver:20260304T180000
DTEND;TZID=America/Denver:20260304T235959
RECURRENCE-ID;TZID=America/Denver:20260304T180000
SEQUENCE:0
TRANSP:OPAQUE
END:VEVENT
BEGIN:VEVENT
UID:f65fafa3bcb51fd3fde0e1f253cc6fe7
CATEGORIES:Politics
CREATED:20260105T231210
SUMMARY:Evergreen Area Republican Club Meeting
LOCATION:The Wild Game, 1204 Bergen Pkwy, Evergreen, CO 80439
DESCRIPTION;ENCODING=QUOTED-PRINTABLE:1st Wednesday of every month at 6pm\n\nApril Speaker: Colorado 2026 Guberna
 torial Candidate Barbara Kirkmeyer\n\n\nhttps://evergreenarearepublicanclub
 .org/\n\n\nhttps://jeffcorepublicans.com/clubs/\n\n\nOur Mission\nWe love o
 ur Country, our State, and our beautiful community. Evergreen Area Republic
 ans seek to inspire, educate, activate, and recruit citizens of Evergreen, 
 Colorado and take our state back from one party control.\n\n - Protect the 
 free rights of the individual\n - Protect the free enterprise system\n - Re
 duce government to the lowest practical level\n - Endorse and practice fisc
 al responsibility
CONTACT:Rich Mancuso This email address is being protected from spambots. You need JavaScript enabled to view it.
				document.getElementById('cloakc8fe23dd02b2d37867859af6d59dc8c9').innerHTML = '';
				var prefix = '&#109;a' + 'i&#108;' + '&#116;o';
				var path = 'hr' + 'ef' + '=';
				var addyc8fe23dd02b2d37867859af6d59dc8c9 = 'r&#105;ch&#97;rdm&#97;nc&#117;s&#111;10' + '&#64;';
				addyc8fe23dd02b2d37867859af6d59dc8c9 = addyc8fe23dd02b2d37867859af6d59dc8c9 + 'gm&#97;&#105;l' + '&#46;' + 'c&#111;m';
				var addy_textc8fe23dd02b2d37867859af6d59dc8c9 = 'r&#105;ch&#97;rdm&#97;nc&#117;s&#111;10' + '&#64;' + 'gm&#97;&#105;l' + '&#46;' + 'c&#111;m';document.getElementById('cloakc8fe23dd02b2d37867859af6d59dc8c9').innerHTML += ''+addy_textc8fe23dd02b2d37867859af6d59dc8c9+'';
		

DTSTAMP:20260419T111502Z
DTSTART;TZID=America/Denver:20260401T180000
DTEND;TZID=America/Denver:20260401T235959
RECURRENCE-ID;TZID=America/Denver:20260401T180000
SEQUENCE:0
TRANSP:OPAQUE
END:VEVENT
END:VCALENDAR