BEGIN:VCALENDAR
VERSION:2.0
PRODID:-//jEvents 2.0 for Joomla//EN
CALSCALE:GREGORIAN
METHOD:PUBLISH
BEGIN:VTIMEZONE
TZID:America/Denver
BEGIN:STANDARD
DTSTART:20251102T010000
RDATE:20260308T030000
TZOFFSETFROM:-0600
TZOFFSETTO:-0700
TZNAME:America/Denver MST
END:STANDARD
BEGIN:STANDARD
DTSTART:20261101T010000
RDATE:20270314T030000
TZOFFSETFROM:-0600
TZOFFSETTO:-0700
TZNAME:America/Denver MST
END:STANDARD
BEGIN:STANDARD
DTSTART:20271107T010000
RDATE:20280312T030000
TZOFFSETFROM:-0600
TZOFFSETTO:-0700
TZNAME:America/Denver MST
END:STANDARD
BEGIN:STANDARD
DTSTART:20281105T010000
RDATE:20290311T030000
TZOFFSETFROM:-0600
TZOFFSETTO:-0700
TZNAME:America/Denver MST
END:STANDARD
BEGIN:STANDARD
DTSTART:20291104T010000
RDATE:20300310T030000
TZOFFSETFROM:-0600
TZOFFSETTO:-0700
TZNAME:America/Denver MST
END:STANDARD
BEGIN:STANDARD
DTSTART:20301103T010000
RDATE:20310309T030000
TZOFFSETFROM:-0600
TZOFFSETTO:-0700
TZNAME:America/Denver MST
END:STANDARD
BEGIN:STANDARD
DTSTART:20311102T010000
RDATE:20320314T030000
TZOFFSETFROM:-0600
TZOFFSETTO:-0700
TZNAME:America/Denver MST
END:STANDARD
BEGIN:DAYLIGHT
DTSTART:20250420T110000
RDATE:20251102T010000
TZOFFSETFROM:-0700
TZOFFSETTO:-0600
TZNAME:America/Denver MDT
END:DAYLIGHT
BEGIN:DAYLIGHT
DTSTART:20260308T030000
RDATE:20261101T010000
TZOFFSETFROM:-0700
TZOFFSETTO:-0600
TZNAME:America/Denver MDT
END:DAYLIGHT
BEGIN:DAYLIGHT
DTSTART:20270314T030000
RDATE:20271107T010000
TZOFFSETFROM:-0700
TZOFFSETTO:-0600
TZNAME:America/Denver MDT
END:DAYLIGHT
BEGIN:DAYLIGHT
DTSTART:20280312T030000
RDATE:20281105T010000
TZOFFSETFROM:-0700
TZOFFSETTO:-0600
TZNAME:America/Denver MDT
END:DAYLIGHT
BEGIN:DAYLIGHT
DTSTART:20290311T030000
RDATE:20291104T010000
TZOFFSETFROM:-0700
TZOFFSETTO:-0600
TZNAME:America/Denver MDT
END:DAYLIGHT
BEGIN:DAYLIGHT
DTSTART:20300310T030000
RDATE:20301103T010000
TZOFFSETFROM:-0700
TZOFFSETTO:-0600
TZNAME:America/Denver MDT
END:DAYLIGHT
BEGIN:DAYLIGHT
DTSTART:20310309T030000
RDATE:20311102T010000
TZOFFSETFROM:-0700
TZOFFSETTO:-0600
TZNAME:America/Denver MDT
END:DAYLIGHT
END:VTIMEZONE
BEGIN:VEVENT
UID:abe2847afa27f19a64e417dbc2ce7ecb
CATEGORIES:Chamber of Commerce/Business Meetings
CREATED:20260420T161439
SUMMARY:Connect and Learn: Changes to 2026 Taxes
LOCATION:Conifer Chamber of Commerce, 12424 Big Timber Dr. Unit 5, Conifer, CO 80433
DESCRIPTION;ENCODING=QUOTED-PRINTABLE:<p>Join us for an informative <strong data-end="46" data-start="27">Connect
  &amp; Learn</strong> with <strong data-end="100" data-start="52">Jeanie Bo
 ymel of Altitude Financial Partners</strong>, where business owners will ga
 in practical insights into important financial updates and strategies for 2
 026. Jeanie will walk participants through effective <strong data-end="294"
  data-start="259">business and personal budgeting</strong>, using a helpful
  budget worksheet that attendees will receive to support their financial pl
 anning. She’ll also cover key considerations for <strong data-end="491" dat
 a-start="435">business succession planning and buy/sell agreements</strong>
 , along with valuable <strong data-end="546" data-start="513">retirement an
 d tax strategies</strong> designed to help business owners plan for the fut
 ure while protecting what they’ve built. This session is a great opportunit
 y to learn actionable tips to strengthen both your business and personal fi
 nancial outlook.</p><p><a href="https://business.goconifer.com/events/detai
 ls/connect-learn-new-in-2026-for-business-owners-48403" target="_blank" rel
 ="noopener noreferrer">Register at the Conifer Chamber website.</a></p>
CONTACT:This email address is being protected from spambots. You need JavaScript enabled to view it.
				document.getElementById('cloakf004435b7d3e447e355da8fd4ef2e831').innerHTML = '';
				var prefix = '&#109;a' + 'i&#108;' + '&#116;o';
				var path = 'hr' + 'ef' + '=';
				var addyf004435b7d3e447e355da8fd4ef2e831 = 'd&#105;r&#101;ct&#111;r' + '&#64;';
				addyf004435b7d3e447e355da8fd4ef2e831 = addyf004435b7d3e447e355da8fd4ef2e831 + 'g&#111;c&#111;n&#105;f&#101;r' + '&#46;' + 'c&#111;m';
				var addy_textf004435b7d3e447e355da8fd4ef2e831 = 'd&#105;r&#101;ct&#111;r' + '&#64;' + 'g&#111;c&#111;n&#105;f&#101;r' + '&#46;' + 'c&#111;m';document.getElementById('cloakf004435b7d3e447e355da8fd4ef2e831').innerHTML += ''+addy_textf004435b7d3e447e355da8fd4ef2e831+'';
		
DTSTAMP:20260421T063217Z
DTSTART;TZID=America/Denver:20260421T110000
DTEND;TZID=America/Denver:20260421T120000
SEQUENCE:0
TRANSP:OPAQUE
END:VEVENT
END:VCALENDAR