BEGIN:VCALENDAR
VERSION:2.0
PRODID:-//jEvents 2.0 for Joomla//EN
CALSCALE:GREGORIAN
METHOD:PUBLISH
BEGIN:VTIMEZONE
TZID:America/Denver
BEGIN:STANDARD
DTSTART:20251102T010000
RDATE:20260308T030000
TZOFFSETFROM:-0600
TZOFFSETTO:-0700
TZNAME:America/Denver MST
END:STANDARD
BEGIN:STANDARD
DTSTART:20261101T010000
RDATE:20270314T030000
TZOFFSETFROM:-0600
TZOFFSETTO:-0700
TZNAME:America/Denver MST
END:STANDARD
BEGIN:STANDARD
DTSTART:20271107T010000
RDATE:20280312T030000
TZOFFSETFROM:-0600
TZOFFSETTO:-0700
TZNAME:America/Denver MST
END:STANDARD
BEGIN:STANDARD
DTSTART:20281105T010000
RDATE:20290311T030000
TZOFFSETFROM:-0600
TZOFFSETTO:-0700
TZNAME:America/Denver MST
END:STANDARD
BEGIN:STANDARD
DTSTART:20291104T010000
RDATE:20300310T030000
TZOFFSETFROM:-0600
TZOFFSETTO:-0700
TZNAME:America/Denver MST
END:STANDARD
BEGIN:STANDARD
DTSTART:20301103T010000
RDATE:20310309T030000
TZOFFSETFROM:-0600
TZOFFSETTO:-0700
TZNAME:America/Denver MST
END:STANDARD
BEGIN:STANDARD
DTSTART:20311102T010000
RDATE:20320314T030000
TZOFFSETFROM:-0600
TZOFFSETTO:-0700
TZNAME:America/Denver MST
END:STANDARD
BEGIN:DAYLIGHT
DTSTART:20250424T180000
RDATE:20251102T010000
TZOFFSETFROM:-0700
TZOFFSETTO:-0600
TZNAME:America/Denver MDT
END:DAYLIGHT
BEGIN:DAYLIGHT
DTSTART:20260308T030000
RDATE:20261101T010000
TZOFFSETFROM:-0700
TZOFFSETTO:-0600
TZNAME:America/Denver MDT
END:DAYLIGHT
BEGIN:DAYLIGHT
DTSTART:20270314T030000
RDATE:20271107T010000
TZOFFSETFROM:-0700
TZOFFSETTO:-0600
TZNAME:America/Denver MDT
END:DAYLIGHT
BEGIN:DAYLIGHT
DTSTART:20280312T030000
RDATE:20281105T010000
TZOFFSETFROM:-0700
TZOFFSETTO:-0600
TZNAME:America/Denver MDT
END:DAYLIGHT
BEGIN:DAYLIGHT
DTSTART:20290311T030000
RDATE:20291104T010000
TZOFFSETFROM:-0700
TZOFFSETTO:-0600
TZNAME:America/Denver MDT
END:DAYLIGHT
BEGIN:DAYLIGHT
DTSTART:20300310T030000
RDATE:20301103T010000
TZOFFSETFROM:-0700
TZOFFSETTO:-0600
TZNAME:America/Denver MDT
END:DAYLIGHT
BEGIN:DAYLIGHT
DTSTART:20310309T030000
RDATE:20311102T010000
TZOFFSETFROM:-0700
TZOFFSETTO:-0600
TZNAME:America/Denver MDT
END:DAYLIGHT
END:VTIMEZONE
BEGIN:VEVENT
UID:708e38ec6954546ee9ac2f7f09629b6d
CATEGORIES:Arts, Dining, & Entertainment, Nonprofit/Fundraiser
CREATED:20260420T171642
SUMMARY:Boogie at the Bear for Wild Aware
LOCATION:The Little Bear Saloon, 28075 Colorado 74, Evergreen, CO 80439
DESCRIPTION;ENCODING=QUOTED-PRINTABLE:\n\n\n\n\nOriginally a Frankie Valli and the 4 Seasons band, this show has 
 gone through an evolution. They still do the 4 Seasons music with great cho
 reography and tight harmonies in front of a full band, but they have added 
 a catalogue of over 40 songs with 1960s and 70s favorites by the Beach Boys
 , The Beatles, The Zombies, The Mama's and the Papa's, and many more bands.
  So get ready to get up and sing, dance and enjoy The Jerseys!\n\n\nBuy tic
 kets ahead of time\n\n\nVIP Package:\n\n - Entry to the upstairs private VI
 P room with outdoor deck\n - Private cash bar &amp; bartender\n - Private r
 estrooms\n - Light appetizers\n - Real-time viewing of the Band performance
  on VIP TV\n - Advanced tickets - $60\n - At the door tickets - $75\n - VIP
  tickets are limited\n\nGeneral Admission:\n\n - Advanced tickets are $30\n
  - At the door tickets are $40\n\nBenefitting Wild Aware\nOur Mission: Wild
  Aware encourages, supports &amp; enhances the safe &amp; rewarding coexist
 ence of humans &amp; wildlife.\n\n\nWe care about our community and seek wa
 ys which enable us to live with our treasured and abundant wildlife in a pe
 aceful and respectful way.\n\n\nhttps://wildaware.org/\n
DTSTAMP:20260424T082635Z
DTSTART;TZID=America/Denver:20260425T180000
DTEND;TZID=America/Denver:20260425T220000
SEQUENCE:0
TRANSP:OPAQUE
END:VEVENT
END:VCALENDAR