BEGIN:VCALENDAR
VERSION:2.0
PRODID:-//jEvents 2.0 for Joomla//EN
CALSCALE:GREGORIAN
METHOD:PUBLISH
BEGIN:VTIMEZONE
TZID:America/Denver
BEGIN:STANDARD
DTSTART:20251102T010000
RDATE:20260308T030000
TZOFFSETFROM:-0600
TZOFFSETTO:-0700
TZNAME:America/Denver MST
END:STANDARD
BEGIN:STANDARD
DTSTART:20261101T010000
RDATE:20270314T030000
TZOFFSETFROM:-0600
TZOFFSETTO:-0700
TZNAME:America/Denver MST
END:STANDARD
BEGIN:STANDARD
DTSTART:20271107T010000
RDATE:20280312T030000
TZOFFSETFROM:-0600
TZOFFSETTO:-0700
TZNAME:America/Denver MST
END:STANDARD
BEGIN:STANDARD
DTSTART:20281105T010000
RDATE:20290311T030000
TZOFFSETFROM:-0600
TZOFFSETTO:-0700
TZNAME:America/Denver MST
END:STANDARD
BEGIN:STANDARD
DTSTART:20291104T010000
RDATE:20300310T030000
TZOFFSETFROM:-0600
TZOFFSETTO:-0700
TZNAME:America/Denver MST
END:STANDARD
BEGIN:STANDARD
DTSTART:20301103T010000
RDATE:20310309T030000
TZOFFSETFROM:-0600
TZOFFSETTO:-0700
TZNAME:America/Denver MST
END:STANDARD
BEGIN:STANDARD
DTSTART:20311102T010000
RDATE:20320314T030000
TZOFFSETFROM:-0600
TZOFFSETTO:-0700
TZNAME:America/Denver MST
END:STANDARD
BEGIN:DAYLIGHT
DTSTART:20250422T153000
RDATE:20251102T010000
TZOFFSETFROM:-0700
TZOFFSETTO:-0600
TZNAME:America/Denver MDT
END:DAYLIGHT
BEGIN:DAYLIGHT
DTSTART:20260308T030000
RDATE:20261101T010000
TZOFFSETFROM:-0700
TZOFFSETTO:-0600
TZNAME:America/Denver MDT
END:DAYLIGHT
BEGIN:DAYLIGHT
DTSTART:20270314T030000
RDATE:20271107T010000
TZOFFSETFROM:-0700
TZOFFSETTO:-0600
TZNAME:America/Denver MDT
END:DAYLIGHT
BEGIN:DAYLIGHT
DTSTART:20280312T030000
RDATE:20281105T010000
TZOFFSETFROM:-0700
TZOFFSETTO:-0600
TZNAME:America/Denver MDT
END:DAYLIGHT
BEGIN:DAYLIGHT
DTSTART:20290311T030000
RDATE:20291104T010000
TZOFFSETFROM:-0700
TZOFFSETTO:-0600
TZNAME:America/Denver MDT
END:DAYLIGHT
BEGIN:DAYLIGHT
DTSTART:20300310T030000
RDATE:20301103T010000
TZOFFSETFROM:-0700
TZOFFSETTO:-0600
TZNAME:America/Denver MDT
END:DAYLIGHT
BEGIN:DAYLIGHT
DTSTART:20310309T030000
RDATE:20311102T010000
TZOFFSETFROM:-0700
TZOFFSETTO:-0600
TZNAME:America/Denver MDT
END:DAYLIGHT
END:VTIMEZONE
BEGIN:VEVENT
UID:b5471cdd11698497772a9315619da14d
CATEGORIES:Evergreen Strong, Kids & Family, Health, Wellness, & Safety
CREATED:20260421T110654
SUMMARY:Cacao & Meditation Ceremony
LOCATION:Evergreen Resiliency Center, 5120 CO Road 73 , Evergreen, CO 80439
DESCRIPTION;ENCODING=QUOTED-PRINTABLE:\n\nJoin us for a peaceful Cacao &amp; Meditation Ceremony at the ERC. Sip 
 warm cacao as you are guided into a space of calm, clarity, and connection.
  This special experience is open to ages 12–21 and is a beautiful way to re
 lax and recharge. Sign up here: https://microsoft.pulse.ly/rvs4e3gh7l\n\n\n
 \n
CONTACT:720-362-2925 or This email address is being protected from spambots. You need JavaScript enabled to view it.
				document.getElementById('cloakabbd205ae3442cbddbdd1b83b5d021bc').innerHTML = '';
				var prefix = '&#109;a' + 'i&#108;' + '&#116;o';
				var path = 'hr' + 'ef' + '=';
				var addyabbd205ae3442cbddbdd1b83b5d021bc = '&#97;dm&#105;n.&#101;rc' + '&#64;';
				addyabbd205ae3442cbddbdd1b83b5d021bc = addyabbd205ae3442cbddbdd1b83b5d021bc + 'v&#105;ct&#105;m&#111;&#117;tr&#101;&#97;ch' + '&#46;' + '&#111;rg';
				var addy_textabbd205ae3442cbddbdd1b83b5d021bc = '&#97;dm&#105;n.&#101;rc' + '&#64;' + 'v&#105;ct&#105;m&#111;&#117;tr&#101;&#97;ch' + '&#46;' + '&#111;rg';document.getElementById('cloakabbd205ae3442cbddbdd1b83b5d021bc').innerHTML += ''+addy_textabbd205ae3442cbddbdd1b83b5d021bc+'';
		
DTSTAMP:20260423T083953Z
DTSTART;TZID=America/Denver:20260423T153000
DTEND;TZID=America/Denver:20260423T163000
SEQUENCE:0
TRANSP:OPAQUE
END:VEVENT
END:VCALENDAR