BEGIN:VCALENDAR
VERSION:2.0
PRODID:-//jEvents 2.0 for Joomla//EN
CALSCALE:GREGORIAN
METHOD:PUBLISH
BEGIN:VTIMEZONE
TZID:America/Denver
BEGIN:STANDARD
DTSTART:20251102T010000
RDATE:20260308T030000
TZOFFSETFROM:-0600
TZOFFSETTO:-0700
TZNAME:America/Denver MST
END:STANDARD
BEGIN:STANDARD
DTSTART:20261101T010000
RDATE:20270314T030000
TZOFFSETFROM:-0600
TZOFFSETTO:-0700
TZNAME:America/Denver MST
END:STANDARD
BEGIN:STANDARD
DTSTART:20271107T010000
RDATE:20280312T030000
TZOFFSETFROM:-0600
TZOFFSETTO:-0700
TZNAME:America/Denver MST
END:STANDARD
BEGIN:STANDARD
DTSTART:20281105T010000
RDATE:20290311T030000
TZOFFSETFROM:-0600
TZOFFSETTO:-0700
TZNAME:America/Denver MST
END:STANDARD
BEGIN:STANDARD
DTSTART:20291104T010000
RDATE:20300310T030000
TZOFFSETFROM:-0600
TZOFFSETTO:-0700
TZNAME:America/Denver MST
END:STANDARD
BEGIN:STANDARD
DTSTART:20301103T010000
RDATE:20310309T030000
TZOFFSETFROM:-0600
TZOFFSETTO:-0700
TZNAME:America/Denver MST
END:STANDARD
BEGIN:STANDARD
DTSTART:20311102T010000
RDATE:20320314T030000
TZOFFSETFROM:-0600
TZOFFSETTO:-0700
TZNAME:America/Denver MST
END:STANDARD
BEGIN:DAYLIGHT
DTSTART:20250423T180000
RDATE:20251102T010000
TZOFFSETFROM:-0700
TZOFFSETTO:-0600
TZNAME:America/Denver MDT
END:DAYLIGHT
BEGIN:DAYLIGHT
DTSTART:20260308T030000
RDATE:20261101T010000
TZOFFSETFROM:-0700
TZOFFSETTO:-0600
TZNAME:America/Denver MDT
END:DAYLIGHT
BEGIN:DAYLIGHT
DTSTART:20270314T030000
RDATE:20271107T010000
TZOFFSETFROM:-0700
TZOFFSETTO:-0600
TZNAME:America/Denver MDT
END:DAYLIGHT
BEGIN:DAYLIGHT
DTSTART:20280312T030000
RDATE:20281105T010000
TZOFFSETFROM:-0700
TZOFFSETTO:-0600
TZNAME:America/Denver MDT
END:DAYLIGHT
BEGIN:DAYLIGHT
DTSTART:20290311T030000
RDATE:20291104T010000
TZOFFSETFROM:-0700
TZOFFSETTO:-0600
TZNAME:America/Denver MDT
END:DAYLIGHT
BEGIN:DAYLIGHT
DTSTART:20300310T030000
RDATE:20301103T010000
TZOFFSETFROM:-0700
TZOFFSETTO:-0600
TZNAME:America/Denver MDT
END:DAYLIGHT
BEGIN:DAYLIGHT
DTSTART:20310309T030000
RDATE:20311102T010000
TZOFFSETFROM:-0700
TZOFFSETTO:-0600
TZNAME:America/Denver MDT
END:DAYLIGHT
END:VTIMEZONE
BEGIN:VEVENT
UID:e434a282ce9f60f14c66204555c18133
CATEGORIES:Arts, Dining, & Entertainment, School/Library/Cont Educ.
CREATED:20260421T121114
SUMMARY:Murder at the Library Murder Mystery Party
LOCATION:John Tomay Memorial Library, 605 Sixth St, Georgetown and Idaho Springs Pub
 lic Library, 219 14th Ave, Idaho Springs
DESCRIPTION;ENCODING=QUOTED-PRINTABLE:\n\nPut your detective skills to the test at our thrilling murder mystery p
 arty coming up on April 24! Costumes are welcome. Refreshments will be serv
 ed!Registration is required – please email This email address is being prot
 ected from spambots. You need JavaScript enabled to view it.
				document.g
 etElementById('cloak268eeb88ead06ef14af5e901081c7ca7').innerHTML = '';
				
 var prefix = '&#109;a' + 'i&#108;' + '&#116;o';
				var path = 'hr' + 'ef' 
 + '=';
				var addy268eeb88ead06ef14af5e901081c7ca7 = 'h&#111;lly' + '&#64;
 ';
				addy268eeb88ead06ef14af5e901081c7ca7 = addy268eeb88ead06ef14af5e9010
 81c7ca7 + 'cccld' + '&#46;' + '&#111;rg';
				var addy_text268eeb88ead06ef1
 4af5e901081c7ca7 = 'h&#111;lly' + '&#64;' + 'cccld' + '&#46;' + '&#111;rg';
 document.getElementById('cloak268eeb88ead06ef14af5e901081c7ca7').innerHTML 
 += ''+addy_text268eeb88ead06ef14af5e901081c7ca7+'';
		 to sign up. This pro
 gram is for adults aged 18 years and older.\n\n\n\n
DTSTAMP:20260424T065424Z
DTSTART;TZID=America/Denver:20260424T180000
DTEND;TZID=America/Denver:20260424T200000
SEQUENCE:0
TRANSP:OPAQUE
END:VEVENT
END:VCALENDAR