BEGIN:VCALENDAR
VERSION:2.0
PRODID:-//jEvents 2.0 for Joomla//EN
CALSCALE:GREGORIAN
METHOD:PUBLISH
BEGIN:VTIMEZONE
TZID:America/Denver
BEGIN:STANDARD
DTSTART:20251102T010000
RDATE:20260308T030000
TZOFFSETFROM:-0600
TZOFFSETTO:-0700
TZNAME:America/Denver MST
END:STANDARD
BEGIN:STANDARD
DTSTART:20261101T010000
RDATE:20270314T030000
TZOFFSETFROM:-0600
TZOFFSETTO:-0700
TZNAME:America/Denver MST
END:STANDARD
BEGIN:STANDARD
DTSTART:20271107T010000
RDATE:20280312T030000
TZOFFSETFROM:-0600
TZOFFSETTO:-0700
TZNAME:America/Denver MST
END:STANDARD
BEGIN:STANDARD
DTSTART:20281105T010000
RDATE:20290311T030000
TZOFFSETFROM:-0600
TZOFFSETTO:-0700
TZNAME:America/Denver MST
END:STANDARD
BEGIN:STANDARD
DTSTART:20291104T010000
RDATE:20300310T030000
TZOFFSETFROM:-0600
TZOFFSETTO:-0700
TZNAME:America/Denver MST
END:STANDARD
BEGIN:STANDARD
DTSTART:20301103T010000
RDATE:20310309T030000
TZOFFSETFROM:-0600
TZOFFSETTO:-0700
TZNAME:America/Denver MST
END:STANDARD
BEGIN:STANDARD
DTSTART:20311102T010000
RDATE:20320314T030000
TZOFFSETFROM:-0600
TZOFFSETTO:-0700
TZNAME:America/Denver MST
END:STANDARD
BEGIN:DAYLIGHT
DTSTART:20250423T130000
RDATE:20251102T010000
TZOFFSETFROM:-0700
TZOFFSETTO:-0600
TZNAME:America/Denver MDT
END:DAYLIGHT
BEGIN:DAYLIGHT
DTSTART:20260308T030000
RDATE:20261101T010000
TZOFFSETFROM:-0700
TZOFFSETTO:-0600
TZNAME:America/Denver MDT
END:DAYLIGHT
BEGIN:DAYLIGHT
DTSTART:20270314T030000
RDATE:20271107T010000
TZOFFSETFROM:-0700
TZOFFSETTO:-0600
TZNAME:America/Denver MDT
END:DAYLIGHT
BEGIN:DAYLIGHT
DTSTART:20280312T030000
RDATE:20281105T010000
TZOFFSETFROM:-0700
TZOFFSETTO:-0600
TZNAME:America/Denver MDT
END:DAYLIGHT
BEGIN:DAYLIGHT
DTSTART:20290311T030000
RDATE:20291104T010000
TZOFFSETFROM:-0700
TZOFFSETTO:-0600
TZNAME:America/Denver MDT
END:DAYLIGHT
BEGIN:DAYLIGHT
DTSTART:20300310T030000
RDATE:20301103T010000
TZOFFSETFROM:-0700
TZOFFSETTO:-0600
TZNAME:America/Denver MDT
END:DAYLIGHT
BEGIN:DAYLIGHT
DTSTART:20310309T030000
RDATE:20311102T010000
TZOFFSETFROM:-0700
TZOFFSETTO:-0600
TZNAME:America/Denver MDT
END:DAYLIGHT
END:VTIMEZONE
BEGIN:VEVENT
UID:17aab8bfdf96e50850b03cbe3a993afb
CATEGORIES:Leisure/Hobbies/Recreation, Kids & Family, School/Library/Cont Educ.
CREATED:20260421T185336
SUMMARY:Little Gardeners Day - Bailey Library
LOCATION:Bailey Public Library, 350 Bulldogger Rd, Bailey, CO 80421
DESCRIPTION;ENCODING=QUOTED-PRINTABLE:\n\nGeared for ages 3-12, but kids of all ages welcome!\n\n - Listen to a g
 raden story\n - Plant seeds\n - Decorate tags for your plant\n - Learn abou
 t gardening with your mom and dad!\n\nReservations call 303-838-5539.\n\n\n
 \n
CONTACT:303-838-5539 or This email address is being protected from spambots. You need JavaScript enabled to view it.
				document.getElementById('cloak3d8753acc4a14b3bee3f83202ec371fd').innerHTML = '';
				var prefix = '&#109;a' + 'i&#108;' + '&#116;o';
				var path = 'hr' + 'ef' + '=';
				var addy3d8753acc4a14b3bee3f83202ec371fd = 'B&#97;&#105;l&#101;yl&#105;b' + '&#64;';
				addy3d8753acc4a14b3bee3f83202ec371fd = addy3d8753acc4a14b3bee3f83202ec371fd + 'p&#97;rkc&#111;' + '&#46;' + '&#117;s';
				var addy_text3d8753acc4a14b3bee3f83202ec371fd = 'B&#97;&#105;l&#101;yl&#105;b' + '&#64;' + 'p&#97;rkc&#111;' + '&#46;' + '&#117;s';document.getElementById('cloak3d8753acc4a14b3bee3f83202ec371fd').innerHTML += ''+addy_text3d8753acc4a14b3bee3f83202ec371fd+'';
		
DTSTAMP:20260423T085539Z
DTSTART;TZID=America/Denver:20260424T130000
SEQUENCE:0
TRANSP:OPAQUE
END:VEVENT
END:VCALENDAR