BEGIN:VCALENDAR
VERSION:2.0
PRODID:-//jEvents 2.0 for Joomla//EN
CALSCALE:GREGORIAN
METHOD:PUBLISH
BEGIN:VTIMEZONE
TZID:America/Denver
BEGIN:STANDARD
DTSTART:20251102T010000
RDATE:20260308T030000
TZOFFSETFROM:-0600
TZOFFSETTO:-0700
TZNAME:America/Denver MST
END:STANDARD
BEGIN:STANDARD
DTSTART:20261101T010000
RDATE:20270314T030000
TZOFFSETFROM:-0600
TZOFFSETTO:-0700
TZNAME:America/Denver MST
END:STANDARD
BEGIN:STANDARD
DTSTART:20271107T010000
RDATE:20280312T030000
TZOFFSETFROM:-0600
TZOFFSETTO:-0700
TZNAME:America/Denver MST
END:STANDARD
BEGIN:STANDARD
DTSTART:20281105T010000
RDATE:20290311T030000
TZOFFSETFROM:-0600
TZOFFSETTO:-0700
TZNAME:America/Denver MST
END:STANDARD
BEGIN:STANDARD
DTSTART:20291104T010000
RDATE:20300310T030000
TZOFFSETFROM:-0600
TZOFFSETTO:-0700
TZNAME:America/Denver MST
END:STANDARD
BEGIN:STANDARD
DTSTART:20301103T010000
RDATE:20310309T030000
TZOFFSETFROM:-0600
TZOFFSETTO:-0700
TZNAME:America/Denver MST
END:STANDARD
BEGIN:STANDARD
DTSTART:20311102T010000
RDATE:20320314T030000
TZOFFSETFROM:-0600
TZOFFSETTO:-0700
TZNAME:America/Denver MST
END:STANDARD
BEGIN:DAYLIGHT
DTSTART:20250424T180000
RDATE:20251102T010000
TZOFFSETFROM:-0700
TZOFFSETTO:-0600
TZNAME:America/Denver MDT
END:DAYLIGHT
BEGIN:DAYLIGHT
DTSTART:20260308T030000
RDATE:20261101T010000
TZOFFSETFROM:-0700
TZOFFSETTO:-0600
TZNAME:America/Denver MDT
END:DAYLIGHT
BEGIN:DAYLIGHT
DTSTART:20270314T030000
RDATE:20271107T010000
TZOFFSETFROM:-0700
TZOFFSETTO:-0600
TZNAME:America/Denver MDT
END:DAYLIGHT
BEGIN:DAYLIGHT
DTSTART:20280312T030000
RDATE:20281105T010000
TZOFFSETFROM:-0700
TZOFFSETTO:-0600
TZNAME:America/Denver MDT
END:DAYLIGHT
BEGIN:DAYLIGHT
DTSTART:20290311T030000
RDATE:20291104T010000
TZOFFSETFROM:-0700
TZOFFSETTO:-0600
TZNAME:America/Denver MDT
END:DAYLIGHT
BEGIN:DAYLIGHT
DTSTART:20300310T030000
RDATE:20301103T010000
TZOFFSETFROM:-0700
TZOFFSETTO:-0600
TZNAME:America/Denver MDT
END:DAYLIGHT
BEGIN:DAYLIGHT
DTSTART:20310309T030000
RDATE:20311102T010000
TZOFFSETFROM:-0700
TZOFFSETTO:-0600
TZNAME:America/Denver MDT
END:DAYLIGHT
END:VTIMEZONE
BEGIN:VEVENT
UID:f851f0dc27375ef1d1c9d563f6824851
CATEGORIES:Arts, Dining, & Entertainment, Nonprofit/Fundraiser
CREATED:20260422T143422
SUMMARY:Ski You in Hell Murder Mystery - Alma Foundation
LOCATION:Alma Town Hall, 59 Buckskin Rd, Alma, CO 80420
DESCRIPTION;ENCODING=QUOTED-PRINTABLE:\n\nIt might be closing day somewhere, but the stoke isn't dead--just someo
 ne at this murder mystery party. Register ahead of time in order to receive
  your character in advance!Signup here: https://checkout.square.site/mercha
 nt/MLSR1MMZ7TT1P/checkout/R3NWOTBQCXHCONRW5KCCAEBJ\n\n\nhttps://www.almafou
 ndation.com/events/\n\n\n\n
CONTACT:This email address is being protected from spambots. You need JavaScript enabled to view it.
				document.getElementById('cloak4eff430e30e5d4c0b438f6eda8f190d6').innerHTML = '';
				var prefix = '&#109;a' + 'i&#108;' + '&#116;o';
				var path = 'hr' + 'ef' + '=';
				var addy4eff430e30e5d4c0b438f6eda8f190d6 = '&#97;lm&#97;f&#111;&#117;nd&#97;t&#105;&#111;nc&#111;l&#111;r&#97;d&#111;' + '&#64;';
				addy4eff430e30e5d4c0b438f6eda8f190d6 = addy4eff430e30e5d4c0b438f6eda8f190d6 + 'gm&#97;&#105;l' + '&#46;' + 'c&#111;m';
				var addy_text4eff430e30e5d4c0b438f6eda8f190d6 = '&#97;lm&#97;f&#111;&#117;nd&#97;t&#105;&#111;nc&#111;l&#111;r&#97;d&#111;' + '&#64;' + 'gm&#97;&#105;l' + '&#46;' + 'c&#111;m';document.getElementById('cloak4eff430e30e5d4c0b438f6eda8f190d6').innerHTML += ''+addy_text4eff430e30e5d4c0b438f6eda8f190d6+'';
		
DTSTAMP:20260424T082635Z
DTSTART;TZID=America/Denver:20260425T180000
DTEND;TZID=America/Denver:20260425T203000
SEQUENCE:0
TRANSP:OPAQUE
END:VEVENT
END:VCALENDAR