BEGIN:VCALENDAR
VERSION:2.0
PRODID:-//jEvents 2.0 for Joomla//EN
CALSCALE:GREGORIAN
METHOD:PUBLISH
BEGIN:VEVENT
UID:f629d887e74ef50502627ec5b83f56bc
CATEGORIES:Community Events, Kids & Family
CREATED:20150814T162516
SUMMARY:American Legion All-You-Can-Eat-Buffet-Breakfast
LOCATION:601 Clark Street, Fairplay, CO
DESCRIPTION;ENCODING=QUOTED-PRINTABLE:\n\n3rd Sunday every month 8am - 12noon\n $12.00 12-adult\n $8.00 4-12 year
 s of age\n Free under 4 years of age\n\n\n\n
CONTACT:719-836-2720 or This email address is being protected from spambots. You need JavaScript enabled to view it.
				document.getElementById('cloak47f8b48fb7ef487368134902102ee5cf').innerHTML = '';
				var prefix = '&#109;a' + 'i&#108;' + '&#116;o';
				var path = 'hr' + 'ef' + '=';
				var addy47f8b48fb7ef487368134902102ee5cf = 's&#111;&#117;thp&#97;rkp&#111;st172' + '&#64;';
				addy47f8b48fb7ef487368134902102ee5cf = addy47f8b48fb7ef487368134902102ee5cf + 'gm&#97;&#105;l' + '&#46;' + 'c&#111;m';
				var addy_text47f8b48fb7ef487368134902102ee5cf = 's&#111;&#117;thp&#97;rkp&#111;st172' + '&#64;' + 'gm&#97;&#105;l' + '&#46;' + 'c&#111;m';document.getElementById('cloak47f8b48fb7ef487368134902102ee5cf').innerHTML += ''+addy_text47f8b48fb7ef487368134902102ee5cf+'';
		
DTSTAMP:20260420T095043Z
DTSTART;TZID=America/Denver:20440619T080000
DTEND;TZID=America/Denver:20440619T120000
SEQUENCE:0
TRANSP:OPAQUE
END:VEVENT
END:VCALENDAR