BEGIN:VCALENDAR
VERSION:2.0
PRODID:-//jEvents 2.0 for Joomla//EN
CALSCALE:GREGORIAN
METHOD:PUBLISH
BEGIN:VEVENT
UID:30a44eebf89b3e1fa31cfd9718db80b4
CATEGORIES:Arts, Dining, & Entertainment
CREATED:20171009T174749
SUMMARY:Platte Canyon Artists Guild Monthly General Meeting
LOCATION:Platte Canyon Fire, 153 Delwood Dr., Bailey, Colorado 80421
DESCRIPTION;ENCODING=QUOTED-PRINTABLE:\n\n\n\n\nGeneral meeting the first Wednesday of each month.&nbsp; Our memb
 ers put together art shows, have excursions to plein air paint sites, view 
 galleries and educational demonstrations.&nbsp; The second&nbsp;Wednesday o
 f the month, we take turns setting up a still life or other challenge for m
 embers to participate in or not.&nbsp; We are sociable and fun loving.\n\n\
 nYou are invited to drop in any Wednesday to meet us and see what we do. &n
 bsp;Find us at the&nbsp;Fire Protection Station, 153 Delwood Dr., Bailey, C
 olorado (intersection of Hwy 285 and Hwy 43). Platte Canyon Artists Guild i
 s a non-profit organization formed 40 years ago to bring together local art
 ists for the purpose of sharing, inspiring, expanding and promoting their a
 rt. We meet weekly to pursue our individual fine art projects in the presen
 ce of other artists.\n\n\n\nIf you would like to join us, we will have you 
 fill out a membership form.&nbsp;\nDues are $25 per year.&nbsp;You may call
  Joanne Gregory, 303-816-7361, or email at&nbsp;This email address is being
  protected from spambots. You need JavaScript enabled to view it.
				docum
 ent.getElementById('cloakfbe89825811af22496ac5c14d9b5b0b7').innerHTML = '';
 
				var prefix = '&#109;a' + 'i&#108;' + '&#116;o';
				var path = 'hr' + 
 'ef' + '=';
				var addyfbe89825811af22496ac5c14d9b5b0b7 = 't&#117;cs&#111;
 n2c&#111;' + '&#64;';
				addyfbe89825811af22496ac5c14d9b5b0b7 = addyfbe898
 25811af22496ac5c14d9b5b0b7 + 'y&#97;h&#111;&#111;' + '&#46;' + 'c&#111;m';

 				var addy_textfbe89825811af22496ac5c14d9b5b0b7 = 't&#117;cs&#111;n2c&#11
 1;' + '&#64;' + 'y&#97;h&#111;&#111;' + '&#46;' + 'c&#111;m';document.getEl
 ementById('cloakfbe89825811af22496ac5c14d9b5b0b7').innerHTML += ''+addy_tex
 tfbe89825811af22496ac5c14d9b5b0b7+'';
		\n
CONTACT:Joanne Gregory, 303-816-7361 or email at This email address is being protected from spambots. You need JavaScript enabled to view it.
				document.getElementById('cloakfa507e4f73444919f8b1e4e713cb1736').innerHTML = '';
				var prefix = '&#109;a' + 'i&#108;' + '&#116;o';
				var path = 'hr' + 'ef' + '=';
				var addyfa507e4f73444919f8b1e4e713cb1736 = 't&#117;cs&#111;n2c&#111;' + '&#64;';
				addyfa507e4f73444919f8b1e4e713cb1736 = addyfa507e4f73444919f8b1e4e713cb1736 + 'y&#97;h&#111;&#111;' + '&#46;' + 'c&#111;m';
				var addy_textfa507e4f73444919f8b1e4e713cb1736 = 't&#117;cs&#111;n2c&#111;' + '&#64;' + 'y&#97;h&#111;&#111;' + '&#46;' + 'c&#111;m';document.getElementById('cloakfa507e4f73444919f8b1e4e713cb1736').innerHTML += ''+addy_textfa507e4f73444919f8b1e4e713cb1736+'';
		
X-EXTRAINFO:http://www.pcaguild.com/
DTSTAMP:20260423T034351Z
DTSTART;TZID=America/Denver:20441207T110000
DTEND;TZID=America/Denver:20441207T120000
SEQUENCE:0
TRANSP:OPAQUE
END:VEVENT
END:VCALENDAR