BEGIN:VCALENDAR
VERSION:2.0
PRODID:-//jEvents 2.0 for Joomla//EN
CALSCALE:GREGORIAN
METHOD:PUBLISH
BEGIN:VTIMEZONE
TZID:America/Denver
END:VTIMEZONE
BEGIN:VEVENT
UID:4ad72cfc8d1c818cda13557fc77f29d7
CATEGORIES:Politics
CREATED:20171125T155350
SUMMARY:High Country Republican Club Meeting
LOCATION:Memorial Barn at Marshdale, 26624 N Turkey Creek Rd, Evergreen CO 80439
DESCRIPTION;ENCODING=QUOTED-PRINTABLE:\n\nMeets the third Tuesday at 7:00 AM at The Barn located at&nbsp;26624 No
 rth Turkey Creek Rd., Evergreen, CO.\n\n\nContact: &nbsp;Art Onweller &nbsp
 ;(303) 670-1540 &nbsp;or This email address is being protected from spambot
 s. You need JavaScript enabled to view it.
				document.getElementById('clo
 ak27f2573335e9ffe1e29031dabecfbb9c').innerHTML = '';
				var prefix = '&#10
 9;a' + 'i&#108;' + '&#116;o';
				var path = 'hr' + 'ef' + '=';
				var add
 y27f2573335e9ffe1e29031dabecfbb9c = '&#97;&#111;nw&#101;ll&#101;r' + '&#64;
 ';
				addy27f2573335e9ffe1e29031dabecfbb9c = addy27f2573335e9ffe1e29031dab
 ecfbb9c + 'msn' + '&#46;' + 'c&#111;m';
				var addy_text27f2573335e9ffe1e2
 9031dabecfbb9c = '&#97;&#111;nw&#101;ll&#101;r' + '&#64;' + 'msn' + '&#46;'
  + 'c&#111;m';document.getElementById('cloak27f2573335e9ffe1e29031dabecfbb9
 c').innerHTML += ''+addy_text27f2573335e9ffe1e29031dabecfbb9c+'';
		\n
X-EXTRAINFO:https://www.jeffcorepublicans.com/index.php/en/main-take-action/clubs-and-o
 rganizations
DTSTAMP:20260420T133758Z
DTSTART;TZID=America/Denver:20381019T070000
DTEND;TZID=America/Denver:20381019T080000
SEQUENCE:0
TRANSP:OPAQUE
END:VEVENT
END:VCALENDAR