BEGIN:VCALENDAR
VERSION:2.0
PRODID:-//jEvents 2.0 for Joomla//EN
CALSCALE:GREGORIAN
METHOD:PUBLISH
BEGIN:VEVENT
UID:4ad72cfc8d1c818cda13557fc77f29d7
CATEGORIES:Politics
CREATED:20171125T155350
SUMMARY:High Country Republican Club Meeting
LOCATION:Memorial Barn at Marshdale, 26624 N Turkey Creek Rd, Evergreen CO 80439
DESCRIPTION;ENCODING=QUOTED-PRINTABLE:<p><span style="font-size: 12pt;">Meets the third Tuesday at 7:00 AM at The
  Barn located at&nbsp;26624 North Turkey Creek Rd., Evergreen, CO.</span></
 p><p><span style="font-size: 12pt;">Contact: &nbsp;Art Onweller &nbsp;(303)
  670-1540 &nbsp;or <span id="cloaka20af72c749aef2f9284d3f0cb2128ad">This em
 ail address is being protected from spambots. You need JavaScript enabled t
 o view it.</span><script type='text/javascript'>
				document.getElementByI
 d('cloaka20af72c749aef2f9284d3f0cb2128ad').innerHTML = '';
				var prefix =
  '&#109;a' + 'i&#108;' + '&#116;o';
				var path = 'hr' + 'ef' + '=';
				v
 ar addya20af72c749aef2f9284d3f0cb2128ad = '&#97;&#111;nw&#101;ll&#101;r' + 
 '&#64;';
				addya20af72c749aef2f9284d3f0cb2128ad = addya20af72c749aef2f928
 4d3f0cb2128ad + 'msn' + '&#46;' + 'c&#111;m';
				var addy_texta20af72c749a
 ef2f9284d3f0cb2128ad = '&#97;&#111;nw&#101;ll&#101;r' + '&#64;' + 'msn' + '
 &#46;' + 'c&#111;m';document.getElementById('cloaka20af72c749aef2f9284d3f0c
 b2128ad').innerHTML += '<a ' + path + '\'' + prefix + ':' + addya20af72c749
 aef2f9284d3f0cb2128ad + '\'>'+addy_texta20af72c749aef2f9284d3f0cb2128ad+'<\
 /a>';
		</script></span></p>
X-EXTRAINFO:https://www.jeffcorepublicans.com/index.php/en/main-take-action/clubs-and-o
 rganizations
DTSTAMP:20260422T173820Z
DTSTART;TZID=America/Denver:20410219T070000
DTEND;TZID=America/Denver:20410219T080000
SEQUENCE:0
TRANSP:OPAQUE
END:VEVENT
END:VCALENDAR