BEGIN:VCALENDAR
VERSION:2.0
PRODID:-//jEvents 2.0 for Joomla//EN
CALSCALE:GREGORIAN
METHOD:PUBLISH
BEGIN:VEVENT
UID:4ad72cfc8d1c818cda13557fc77f29d7
CATEGORIES:Politics
CREATED:20171125T155350
SUMMARY:High Country Republican Club Meeting
LOCATION:Memorial Barn at Marshdale, 26624 N Turkey Creek Rd, Evergreen CO 80439
DESCRIPTION;ENCODING=QUOTED-PRINTABLE:<p><span style="font-size: 12pt;">Meets the third Tuesday at 7:00 AM at The
  Barn located at&nbsp;26624 North Turkey Creek Rd., Evergreen, CO.</span></
 p><p><span style="font-size: 12pt;">Contact: &nbsp;Art Onweller &nbsp;(303)
  670-1540 &nbsp;or <span id="cloakdb5a3d63f01265b803c5aa601ecf87ee">This em
 ail address is being protected from spambots. You need JavaScript enabled t
 o view it.</span><script type='text/javascript'>
				document.getElementByI
 d('cloakdb5a3d63f01265b803c5aa601ecf87ee').innerHTML = '';
				var prefix =
  '&#109;a' + 'i&#108;' + '&#116;o';
				var path = 'hr' + 'ef' + '=';
				v
 ar addydb5a3d63f01265b803c5aa601ecf87ee = '&#97;&#111;nw&#101;ll&#101;r' + 
 '&#64;';
				addydb5a3d63f01265b803c5aa601ecf87ee = addydb5a3d63f01265b803c
 5aa601ecf87ee + 'msn' + '&#46;' + 'c&#111;m';
				var addy_textdb5a3d63f012
 65b803c5aa601ecf87ee = '&#97;&#111;nw&#101;ll&#101;r' + '&#64;' + 'msn' + '
 &#46;' + 'c&#111;m';document.getElementById('cloakdb5a3d63f01265b803c5aa601
 ecf87ee').innerHTML += '<a ' + path + '\'' + prefix + ':' + addydb5a3d63f01
 265b803c5aa601ecf87ee + '\'>'+addy_textdb5a3d63f01265b803c5aa601ecf87ee+'<\
 /a>';
		</script></span></p>
X-EXTRAINFO:https://www.jeffcorepublicans.com/index.php/en/main-take-action/clubs-and-o
 rganizations
DTSTAMP:20260424T154247Z
DTSTART;TZID=America/Denver:20870318T070000
DTEND;TZID=America/Denver:20870318T080000
SEQUENCE:0
TRANSP:OPAQUE
END:VEVENT
END:VCALENDAR