BEGIN:VCALENDAR
VERSION:2.0
PRODID:-//jEvents 2.0 for Joomla//EN
CALSCALE:GREGORIAN
METHOD:PUBLISH
BEGIN:VEVENT
UID:4ad72cfc8d1c818cda13557fc77f29d7
CATEGORIES:Politics
CREATED:20171125T155350
SUMMARY:High Country Republican Club Meeting
LOCATION:Memorial Barn at Marshdale, 26624 N Turkey Creek Rd, Evergreen CO 80439
DESCRIPTION;ENCODING=QUOTED-PRINTABLE:\n\nMeets the third Tuesday at 7:00 AM at The Barn located at&nbsp;26624 No
 rth Turkey Creek Rd., Evergreen, CO.\n\n\nContact: &nbsp;Art Onweller &nbsp
 ;(303) 670-1540 &nbsp;or This email address is being protected from spambot
 s. You need JavaScript enabled to view it.
				document.getElementById('clo
 akec2dc0216d6f54f2a5f11be92ec57153').innerHTML = '';
				var prefix = '&#10
 9;a' + 'i&#108;' + '&#116;o';
				var path = 'hr' + 'ef' + '=';
				var add
 yec2dc0216d6f54f2a5f11be92ec57153 = '&#97;&#111;nw&#101;ll&#101;r' + '&#64;
 ';
				addyec2dc0216d6f54f2a5f11be92ec57153 = addyec2dc0216d6f54f2a5f11be92
 ec57153 + 'msn' + '&#46;' + 'c&#111;m';
				var addy_textec2dc0216d6f54f2a5
 f11be92ec57153 = '&#97;&#111;nw&#101;ll&#101;r' + '&#64;' + 'msn' + '&#46;'
  + 'c&#111;m';document.getElementById('cloakec2dc0216d6f54f2a5f11be92ec5715
 3').innerHTML += ''+addy_textec2dc0216d6f54f2a5f11be92ec57153+'';
		\n
X-EXTRAINFO:https://www.jeffcorepublicans.com/index.php/en/main-take-action/clubs-and-o
 rganizations
DTSTAMP:20260424T045323Z
DTSTART;TZID=America/Denver:20870916T070000
DTEND;TZID=America/Denver:20870916T080000
SEQUENCE:0
TRANSP:OPAQUE
END:VEVENT
END:VCALENDAR