BEGIN:VCALENDAR
VERSION:2.0
PRODID:-//jEvents 2.0 for Joomla//EN
CALSCALE:GREGORIAN
METHOD:PUBLISH
BEGIN:VEVENT
UID:4ad72cfc8d1c818cda13557fc77f29d7
CATEGORIES:Politics
CREATED:20171125T155350
SUMMARY:High Country Republican Club Meeting
LOCATION:Memorial Barn at Marshdale, 26624 N Turkey Creek Rd, Evergreen CO 80439
DESCRIPTION;ENCODING=QUOTED-PRINTABLE:<p><span style="font-size: 12pt;">Meets the third Tuesday at 7:00 AM at The
  Barn located at&nbsp;26624 North Turkey Creek Rd., Evergreen, CO.</span></
 p><p><span style="font-size: 12pt;">Contact: &nbsp;Art Onweller &nbsp;(303)
  670-1540 &nbsp;or <span id="cloak5f2eb4ef2a5475d631b88074216f82bc">This em
 ail address is being protected from spambots. You need JavaScript enabled t
 o view it.</span><script type='text/javascript'>
				document.getElementByI
 d('cloak5f2eb4ef2a5475d631b88074216f82bc').innerHTML = '';
				var prefix =
  '&#109;a' + 'i&#108;' + '&#116;o';
				var path = 'hr' + 'ef' + '=';
				v
 ar addy5f2eb4ef2a5475d631b88074216f82bc = '&#97;&#111;nw&#101;ll&#101;r' + 
 '&#64;';
				addy5f2eb4ef2a5475d631b88074216f82bc = addy5f2eb4ef2a5475d631b
 88074216f82bc + 'msn' + '&#46;' + 'c&#111;m';
				var addy_text5f2eb4ef2a54
 75d631b88074216f82bc = '&#97;&#111;nw&#101;ll&#101;r' + '&#64;' + 'msn' + '
 &#46;' + 'c&#111;m';document.getElementById('cloak5f2eb4ef2a5475d631b880742
 16f82bc').innerHTML += '<a ' + path + '\'' + prefix + ':' + addy5f2eb4ef2a5
 475d631b88074216f82bc + '\'>'+addy_text5f2eb4ef2a5475d631b88074216f82bc+'<\
 /a>';
		</script></span></p>
X-EXTRAINFO:https://www.jeffcorepublicans.com/index.php/en/main-take-action/clubs-and-o
 rganizations
DTSTAMP:20260422T082336Z
DTSTART;TZID=America/Denver:20890920T070000
DTEND;TZID=America/Denver:20890920T080000
SEQUENCE:0
TRANSP:OPAQUE
END:VEVENT
END:VCALENDAR