BEGIN:VCALENDAR
VERSION:2.0
PRODID:-//jEvents 2.0 for Joomla//EN
CALSCALE:GREGORIAN
METHOD:PUBLISH
BEGIN:VEVENT
UID:4ad72cfc8d1c818cda13557fc77f29d7
CATEGORIES:Politics
CREATED:20171125T155350
SUMMARY:High Country Republican Club Meeting
LOCATION:Memorial Barn at Marshdale, 26624 N Turkey Creek Rd, Evergreen CO 80439
DESCRIPTION;ENCODING=QUOTED-PRINTABLE:<p><span style="font-size: 12pt;">Meets the third Tuesday at 7:00 AM at The
  Barn located at&nbsp;26624 North Turkey Creek Rd., Evergreen, CO.</span></
 p><p><span style="font-size: 12pt;">Contact: &nbsp;Art Onweller &nbsp;(303)
  670-1540 &nbsp;or <span id="cloak0d1e72ba897f6e64938b4d8718454d98">This em
 ail address is being protected from spambots. You need JavaScript enabled t
 o view it.</span><script type='text/javascript'>
				document.getElementByI
 d('cloak0d1e72ba897f6e64938b4d8718454d98').innerHTML = '';
				var prefix =
  '&#109;a' + 'i&#108;' + '&#116;o';
				var path = 'hr' + 'ef' + '=';
				v
 ar addy0d1e72ba897f6e64938b4d8718454d98 = '&#97;&#111;nw&#101;ll&#101;r' + 
 '&#64;';
				addy0d1e72ba897f6e64938b4d8718454d98 = addy0d1e72ba897f6e64938
 b4d8718454d98 + 'msn' + '&#46;' + 'c&#111;m';
				var addy_text0d1e72ba897f
 6e64938b4d8718454d98 = '&#97;&#111;nw&#101;ll&#101;r' + '&#64;' + 'msn' + '
 &#46;' + 'c&#111;m';document.getElementById('cloak0d1e72ba897f6e64938b4d871
 8454d98').innerHTML += '<a ' + path + '\'' + prefix + ':' + addy0d1e72ba897
 f6e64938b4d8718454d98 + '\'>'+addy_text0d1e72ba897f6e64938b4d8718454d98+'<\
 /a>';
		</script></span></p>
X-EXTRAINFO:https://www.jeffcorepublicans.com/index.php/en/main-take-action/clubs-and-o
 rganizations
DTSTAMP:20260422T063555Z
DTSTART;TZID=America/Denver:20891018T070000
DTEND;TZID=America/Denver:20891018T080000
SEQUENCE:0
TRANSP:OPAQUE
END:VEVENT
END:VCALENDAR