BEGIN:VCALENDAR
VERSION:2.0
PRODID:-//jEvents 2.0 for Joomla//EN
CALSCALE:GREGORIAN
METHOD:PUBLISH
BEGIN:VTIMEZONE
TZID:America/Denver
END:VTIMEZONE
BEGIN:VEVENT
UID:3f9b03c0ba5e126741c77f5f038b76e0
CATEGORIES:Politics
CREATED:20171125T160101
SUMMARY:Jefferson County Republican Men's Club Meeting
LOCATION:IHOP, 389 S. Wadsworth Blvd, Lakewood
DESCRIPTION;ENCODING=QUOTED-PRINTABLE:<p align="justify"><span style="font-size: 10pt;">Our group meets every Mon
 day at 11:30.  Admission is $5 and you can get a great lunch off of the men
 u. Our goal is to learn about America's History, Heritage, Founding and Fre
 edom Documents; The Declaration of Independence, U. S. Constitution and its
  incredibly important Bill of Rights. </span></p><p align="justify"><span s
 tyle="font-size: 10pt;">We also hear from our appointed, hired and elected 
 public officials, and the public policy issues, events and personalities of
  the day, that often so profoundly influence our freedoms, standards of liv
 ing and quality of life.  There are several books we suggest in the reading
  list that will increase your personal political power, understanding and c
 lout, through increasing your political literacy, and deepening your knowle
 dge of our country's founding and core beliefs. Send an email to <span id="
 cloakc7ef7e2f6e3c1fc4185ed918c11c462c">This email address is being protecte
 d from spambots. You need JavaScript enabled to view it.</span><script type
 ='text/javascript'>
				document.getElementById('cloakc7ef7e2f6e3c1fc4185ed
 918c11c462c').innerHTML = '';
				var prefix = '&#109;a' + 'i&#108;' + '&#1
 16;o';
				var path = 'hr' + 'ef' + '=';
				var addyc7ef7e2f6e3c1fc4185ed9
 18c11c462c = 'pr&#101;s&#105;d&#101;nt' + '&#64;';
				addyc7ef7e2f6e3c1fc4
 185ed918c11c462c = addyc7ef7e2f6e3c1fc4185ed918c11c462c + 'jrmc2' + '&#46;'
  + 'c&#111;m';
				var addy_textc7ef7e2f6e3c1fc4185ed918c11c462c = 'pr&#101
 ;s&#105;d&#101;nt' + '&#64;' + 'jrmc2' + '&#46;' + 'c&#111;m';document.getE
 lementById('cloakc7ef7e2f6e3c1fc4185ed918c11c462c').innerHTML += '<a ' + pa
 th + '\'' + prefix + ':' + addyc7ef7e2f6e3c1fc4185ed918c11c462c + '\'>'+add
 y_textc7ef7e2f6e3c1fc4185ed918c11c462c+'<\/a>';
		</script> if you want to 
 receive our weekly notice about our upcoming speakers.</span></p><p><span s
 tyle="font-size: 10pt;"><strong><span style="text-decoration: underline;">Y
 ou are invited and welcome</span></strong>. Tell a Friend. Bring a Friend. 
 Be a Friend. Call or invite a few more friends. Especially consider invitin
 g students, young people and ladies.</span></p><p><a href="https://jeffcore
 publicans.com/clubs/" target="_blank" rel="noopener noreferrer">https://jef
 fcorepublicans.com/clubs/</a></p>
CONTACT:Dan Bidstrup 303-882-5456 or This email address is being protected from spambots. You need JavaScript enabled to view it.
				document.getElementById('cloak740575902b7a0455a6675b7630b52dd8').innerHTML = '';
				var prefix = '&#109;a' + 'i&#108;' + '&#116;o';
				var path = 'hr' + 'ef' + '=';
				var addy740575902b7a0455a6675b7630b52dd8 = 'pr&#101;s&#105;d&#101;nt' + '&#64;';
				addy740575902b7a0455a6675b7630b52dd8 = addy740575902b7a0455a6675b7630b52dd8 + 'jrmc2' + '&#46;' + 'c&#111;m';
				var addy_text740575902b7a0455a6675b7630b52dd8 = 'pr&#101;s&#105;d&#101;nt' + '&#64;' + 'jrmc2' + '&#46;' + 'c&#111;m';document.getElementById('cloak740575902b7a0455a6675b7630b52dd8').innerHTML += ''+addy_text740575902b7a0455a6675b7630b52dd8+'';
		
X-EXTRAINFO:http://www.jrmc2.com/
DTSTAMP:20260420T045916Z
DTSTART;TZID=America/Denver:20340522T113000
DTEND;TZID=America/Denver:20340522T133000
SEQUENCE:0
TRANSP:OPAQUE
END:VEVENT
END:VCALENDAR