BEGIN:VCALENDAR
VERSION:2.0
PRODID:-//jEvents 2.0 for Joomla//EN
CALSCALE:GREGORIAN
METHOD:PUBLISH
BEGIN:VTIMEZONE
TZID:America/Denver
END:VTIMEZONE
BEGIN:VEVENT
UID:3f9b03c0ba5e126741c77f5f038b76e0
CATEGORIES:Politics
CREATED:20171125T160101
SUMMARY:Jefferson County Republican Men's Club Meeting
LOCATION:IHOP, 389 S. Wadsworth Blvd, Lakewood
DESCRIPTION;ENCODING=QUOTED-PRINTABLE:<p align="justify"><span style="font-size: 10pt;">Our group meets every Mon
 day at 11:30.  Admission is $5 and you can get a great lunch off of the men
 u. Our goal is to learn about America's History, Heritage, Founding and Fre
 edom Documents; The Declaration of Independence, U. S. Constitution and its
  incredibly important Bill of Rights. </span></p><p align="justify"><span s
 tyle="font-size: 10pt;">We also hear from our appointed, hired and elected 
 public officials, and the public policy issues, events and personalities of
  the day, that often so profoundly influence our freedoms, standards of liv
 ing and quality of life.  There are several books we suggest in the reading
  list that will increase your personal political power, understanding and c
 lout, through increasing your political literacy, and deepening your knowle
 dge of our country's founding and core beliefs. Send an email to <span id="
 cloakcd2c83e959794351ddf44b8884b34848">This email address is being protecte
 d from spambots. You need JavaScript enabled to view it.</span><script type
 ='text/javascript'>
				document.getElementById('cloakcd2c83e959794351ddf44
 b8884b34848').innerHTML = '';
				var prefix = '&#109;a' + 'i&#108;' + '&#1
 16;o';
				var path = 'hr' + 'ef' + '=';
				var addycd2c83e959794351ddf44b
 8884b34848 = 'pr&#101;s&#105;d&#101;nt' + '&#64;';
				addycd2c83e959794351
 ddf44b8884b34848 = addycd2c83e959794351ddf44b8884b34848 + 'jrmc2' + '&#46;'
  + 'c&#111;m';
				var addy_textcd2c83e959794351ddf44b8884b34848 = 'pr&#101
 ;s&#105;d&#101;nt' + '&#64;' + 'jrmc2' + '&#46;' + 'c&#111;m';document.getE
 lementById('cloakcd2c83e959794351ddf44b8884b34848').innerHTML += '<a ' + pa
 th + '\'' + prefix + ':' + addycd2c83e959794351ddf44b8884b34848 + '\'>'+add
 y_textcd2c83e959794351ddf44b8884b34848+'<\/a>';
		</script> if you want to 
 receive our weekly notice about our upcoming speakers.</span></p><p><span s
 tyle="font-size: 10pt;"><strong><span style="text-decoration: underline;">Y
 ou are invited and welcome</span></strong>. Tell a Friend. Bring a Friend. 
 Be a Friend. Call or invite a few more friends. Especially consider invitin
 g students, young people and ladies.</span></p><p><a href="https://jeffcore
 publicans.com/clubs/" target="_blank" rel="noopener noreferrer">https://jef
 fcorepublicans.com/clubs/</a></p>
CONTACT:Dan Bidstrup 303-882-5456 or This email address is being protected from spambots. You need JavaScript enabled to view it.
				document.getElementById('cloakc4fab94eae2987c3d604ab5bf30c0d5d').innerHTML = '';
				var prefix = '&#109;a' + 'i&#108;' + '&#116;o';
				var path = 'hr' + 'ef' + '=';
				var addyc4fab94eae2987c3d604ab5bf30c0d5d = 'pr&#101;s&#105;d&#101;nt' + '&#64;';
				addyc4fab94eae2987c3d604ab5bf30c0d5d = addyc4fab94eae2987c3d604ab5bf30c0d5d + 'jrmc2' + '&#46;' + 'c&#111;m';
				var addy_textc4fab94eae2987c3d604ab5bf30c0d5d = 'pr&#101;s&#105;d&#101;nt' + '&#64;' + 'jrmc2' + '&#46;' + 'c&#111;m';document.getElementById('cloakc4fab94eae2987c3d604ab5bf30c0d5d').innerHTML += ''+addy_textc4fab94eae2987c3d604ab5bf30c0d5d+'';
		
X-EXTRAINFO:http://www.jrmc2.com/
DTSTAMP:20260421T104057Z
DTSTART;TZID=America/Denver:20340918T113000
DTEND;TZID=America/Denver:20340918T133000
SEQUENCE:0
TRANSP:OPAQUE
END:VEVENT
END:VCALENDAR