BEGIN:VCALENDAR
VERSION:2.0
PRODID:-//jEvents 2.0 for Joomla//EN
CALSCALE:GREGORIAN
METHOD:PUBLISH
BEGIN:VTIMEZONE
TZID:America/Denver
END:VTIMEZONE
BEGIN:VEVENT
UID:3f9b03c0ba5e126741c77f5f038b76e0
CATEGORIES:Politics
CREATED:20171125T160101
SUMMARY:Jefferson County Republican Men's Club Meeting
LOCATION:IHOP, 389 S. Wadsworth Blvd, Lakewood
DESCRIPTION;ENCODING=QUOTED-PRINTABLE:<p align="justify"><span style="font-size: 10pt;">Our group meets every Mon
 day at 11:30.  Admission is $5 and you can get a great lunch off of the men
 u. Our goal is to learn about America's History, Heritage, Founding and Fre
 edom Documents; The Declaration of Independence, U. S. Constitution and its
  incredibly important Bill of Rights. </span></p><p align="justify"><span s
 tyle="font-size: 10pt;">We also hear from our appointed, hired and elected 
 public officials, and the public policy issues, events and personalities of
  the day, that often so profoundly influence our freedoms, standards of liv
 ing and quality of life.  There are several books we suggest in the reading
  list that will increase your personal political power, understanding and c
 lout, through increasing your political literacy, and deepening your knowle
 dge of our country's founding and core beliefs. Send an email to <span id="
 cloak492f47be16bc107be736bdde4efc1c68">This email address is being protecte
 d from spambots. You need JavaScript enabled to view it.</span><script type
 ='text/javascript'>
				document.getElementById('cloak492f47be16bc107be736b
 dde4efc1c68').innerHTML = '';
				var prefix = '&#109;a' + 'i&#108;' + '&#1
 16;o';
				var path = 'hr' + 'ef' + '=';
				var addy492f47be16bc107be736bd
 de4efc1c68 = 'pr&#101;s&#105;d&#101;nt' + '&#64;';
				addy492f47be16bc107b
 e736bdde4efc1c68 = addy492f47be16bc107be736bdde4efc1c68 + 'jrmc2' + '&#46;'
  + 'c&#111;m';
				var addy_text492f47be16bc107be736bdde4efc1c68 = 'pr&#101
 ;s&#105;d&#101;nt' + '&#64;' + 'jrmc2' + '&#46;' + 'c&#111;m';document.getE
 lementById('cloak492f47be16bc107be736bdde4efc1c68').innerHTML += '<a ' + pa
 th + '\'' + prefix + ':' + addy492f47be16bc107be736bdde4efc1c68 + '\'>'+add
 y_text492f47be16bc107be736bdde4efc1c68+'<\/a>';
		</script> if you want to 
 receive our weekly notice about our upcoming speakers.</span></p><p><span s
 tyle="font-size: 10pt;"><strong><span style="text-decoration: underline;">Y
 ou are invited and welcome</span></strong>. Tell a Friend. Bring a Friend. 
 Be a Friend. Call or invite a few more friends. Especially consider invitin
 g students, young people and ladies.</span></p><p><a href="https://jeffcore
 publicans.com/clubs/" target="_blank" rel="noopener noreferrer">https://jef
 fcorepublicans.com/clubs/</a></p>
CONTACT:Dan Bidstrup 303-882-5456 or This email address is being protected from spambots. You need JavaScript enabled to view it.
				document.getElementById('cloaka791d230fd7b3f0b0a92fb10427ccc61').innerHTML = '';
				var prefix = '&#109;a' + 'i&#108;' + '&#116;o';
				var path = 'hr' + 'ef' + '=';
				var addya791d230fd7b3f0b0a92fb10427ccc61 = 'pr&#101;s&#105;d&#101;nt' + '&#64;';
				addya791d230fd7b3f0b0a92fb10427ccc61 = addya791d230fd7b3f0b0a92fb10427ccc61 + 'jrmc2' + '&#46;' + 'c&#111;m';
				var addy_texta791d230fd7b3f0b0a92fb10427ccc61 = 'pr&#101;s&#105;d&#101;nt' + '&#64;' + 'jrmc2' + '&#46;' + 'c&#111;m';document.getElementById('cloaka791d230fd7b3f0b0a92fb10427ccc61').innerHTML += ''+addy_texta791d230fd7b3f0b0a92fb10427ccc61+'';
		
X-EXTRAINFO:http://www.jrmc2.com/
DTSTAMP:20260423T060659Z
DTSTART;TZID=America/Denver:20350305T113000
DTEND;TZID=America/Denver:20350305T133000
SEQUENCE:0
TRANSP:OPAQUE
END:VEVENT
END:VCALENDAR