BEGIN:VCALENDAR
VERSION:2.0
PRODID:-//jEvents 2.0 for Joomla//EN
CALSCALE:GREGORIAN
METHOD:PUBLISH
BEGIN:VEVENT
UID:07d2788a6d98f2ddde89d45c1b1cee1d
CATEGORIES:Nonprofit/Fundraiser
CREATED:20171212T071944
SUMMARY:CONIFER VFW POST MEETING
LOCATION:Mountain Resource Center, Conifer Colorado
DESCRIPTION;ENCODING=QUOTED-PRINTABLE:\n\n\n\n\nConifer Veterans of Foreign Wars Post 12009 meets every second Tu
 esday of the month at the Mountain Resource Center in Conifer.&nbsp; If you
  served overseas, in a combat zone, a conflict, Korea, etc, you may qualify
  to join one of the oldest Veterans organizations in the United States.&nbs
 p; Our website is vfw12009.org&nbsp; You can email us from our website.\n
CONTACT:Kirk Rosa, This email address is being protected from spambots. You need JavaScript enabled to view it.
				document.getElementById('cloakacd2fef469b3d2172049903e6c422335').innerHTML = '';
				var prefix = '&#109;a' + 'i&#108;' + '&#116;o';
				var path = 'hr' + 'ef' + '=';
				var addyacd2fef469b3d2172049903e6c422335 = 'c&#111;mm&#97;nd&#101;r' + '&#64;';
				addyacd2fef469b3d2172049903e6c422335 = addyacd2fef469b3d2172049903e6c422335 + 'vfw12009' + '&#46;' + '&#111;rg';
				var addy_textacd2fef469b3d2172049903e6c422335 = 'c&#111;mm&#97;nd&#101;r' + '&#64;' + 'vfw12009' + '&#46;' + '&#111;rg';document.getElementById('cloakacd2fef469b3d2172049903e6c422335').innerHTML += ''+addy_textacd2fef469b3d2172049903e6c422335+'';
		
DTSTAMP:20260419T133534Z
DTSTART;TZID=America/Denver:20910612T183000
DTEND;TZID=America/Denver:20910612T193000
SEQUENCE:0
TRANSP:OPAQUE
END:VEVENT
END:VCALENDAR