BEGIN:VCALENDAR
VERSION:2.0
PRODID:-//jEvents 2.0 for Joomla//EN
CALSCALE:GREGORIAN
METHOD:PUBLISH
BEGIN:VEVENT
UID:4183cd60b9af6ebe099c2b9d689a6594
CATEGORIES:Politics
CREATED:20180219T161551
SUMMARY:Mountain Area Dems Monthly Meeting
LOCATION:United Methodist Church, 3757 Ponderosa Drive, Evergreen, Colorado 80439
DESCRIPTION;ENCODING=QUOTED-PRINTABLE:\n\nSave the date! Mountain Area Dems monthly meeting: every 4th Saturday o
 f the month from 9:00-11:00am at United Methodist Church of Evergreen.\n\n\
 nSpeaker for February 2018 is Morgan Carroll, Chair of the CO Democratic Pa
 rty.\n
CONTACT:This email address is being protected from spambots. You need JavaScript enabled to view it.
				document.getElementById('cloak4b88defdeec6f76a59cafd58114c668c').innerHTML = '';
				var prefix = '&#109;a' + 'i&#108;' + '&#116;o';
				var path = 'hr' + 'ef' + '=';
				var addy4b88defdeec6f76a59cafd58114c668c = 'M&#111;&#117;nt&#97;&#105;nAr&#101;&#97;D&#101;ms' + '&#64;';
				addy4b88defdeec6f76a59cafd58114c668c = addy4b88defdeec6f76a59cafd58114c668c + 'gm&#97;&#105;l' + '&#46;' + 'c&#111;m';
				var addy_text4b88defdeec6f76a59cafd58114c668c = 'M&#111;&#117;nt&#97;&#105;nAr&#101;&#97;D&#101;ms' + '&#64;' + 'gm&#97;&#105;l' + '&#46;' + 'c&#111;m';document.getElementById('cloak4b88defdeec6f76a59cafd58114c668c').innerHTML += ''+addy_text4b88defdeec6f76a59cafd58114c668c+'';
		
DTSTAMP:20260424T165129Z
DTSTART;TZID=America/Denver:20450325T090000
DTEND;TZID=America/Denver:20450325T110000
SEQUENCE:0
TRANSP:OPAQUE
END:VEVENT
END:VCALENDAR