BEGIN:VCALENDAR
VERSION:2.0
PRODID:-//jEvents 2.0 for Joomla//EN
CALSCALE:GREGORIAN
METHOD:PUBLISH
BEGIN:VEVENT
UID:4183cd60b9af6ebe099c2b9d689a6594
CATEGORIES:Politics
CREATED:20180219T161551
SUMMARY:Mountain Area Dems Monthly Meeting
LOCATION:United Methodist Church, 3757 Ponderosa Drive, Evergreen, Colorado 80439
DESCRIPTION;ENCODING=QUOTED-PRINTABLE:<p>Save the date! Mountain Area Dems monthly meeting: every 4th Saturday of
  the month from 9:00-11:00am at United Methodist Church of Evergreen.</p><p
 >Speaker for February 2018 is Morgan Carroll, Chair of the CO Democratic Pa
 rty.</p>
CONTACT:This email address is being protected from spambots. You need JavaScript enabled to view it.
				document.getElementById('cloakd1f2bd4d75a71d379fbecde2e293d9fc').innerHTML = '';
				var prefix = '&#109;a' + 'i&#108;' + '&#116;o';
				var path = 'hr' + 'ef' + '=';
				var addyd1f2bd4d75a71d379fbecde2e293d9fc = 'M&#111;&#117;nt&#97;&#105;nAr&#101;&#97;D&#101;ms' + '&#64;';
				addyd1f2bd4d75a71d379fbecde2e293d9fc = addyd1f2bd4d75a71d379fbecde2e293d9fc + 'gm&#97;&#105;l' + '&#46;' + 'c&#111;m';
				var addy_textd1f2bd4d75a71d379fbecde2e293d9fc = 'M&#111;&#117;nt&#97;&#105;nAr&#101;&#97;D&#101;ms' + '&#64;' + 'gm&#97;&#105;l' + '&#46;' + 'c&#111;m';document.getElementById('cloakd1f2bd4d75a71d379fbecde2e293d9fc').innerHTML += ''+addy_textd1f2bd4d75a71d379fbecde2e293d9fc+'';
		
DTSTAMP:20260425T190907Z
DTSTART;TZID=America/Denver:20840624T090000
DTEND;TZID=America/Denver:20840624T110000
SEQUENCE:0
TRANSP:OPAQUE
END:VEVENT
END:VCALENDAR