BEGIN:VCALENDAR
VERSION:2.0
PRODID:-//jEvents 2.0 for Joomla//EN
CALSCALE:GREGORIAN
METHOD:PUBLISH
BEGIN:VTIMEZONE
TZID:America/Denver
BEGIN:STANDARD
DTSTART:20171105T010000
RDATE:20180311T030000
TZOFFSETFROM:-0600
TZOFFSETTO:-0700
TZNAME:America/Denver MST
END:STANDARD
BEGIN:STANDARD
DTSTART:20181104T010000
RDATE:20190310T030000
TZOFFSETFROM:-0600
TZOFFSETTO:-0700
TZNAME:America/Denver MST
END:STANDARD
BEGIN:STANDARD
DTSTART:20191103T010000
RDATE:20200308T030000
TZOFFSETFROM:-0600
TZOFFSETTO:-0700
TZNAME:America/Denver MST
END:STANDARD
BEGIN:STANDARD
DTSTART:20201101T010000
RDATE:20210314T030000
TZOFFSETFROM:-0600
TZOFFSETTO:-0700
TZNAME:America/Denver MST
END:STANDARD
BEGIN:STANDARD
DTSTART:20211107T010000
RDATE:20220313T030000
TZOFFSETFROM:-0600
TZOFFSETTO:-0700
TZNAME:America/Denver MST
END:STANDARD
BEGIN:STANDARD
DTSTART:20221106T010000
RDATE:20230312T030000
TZOFFSETFROM:-0600
TZOFFSETTO:-0700
TZNAME:America/Denver MST
END:STANDARD
BEGIN:STANDARD
DTSTART:20231105T010000
RDATE:20240310T030000
TZOFFSETFROM:-0600
TZOFFSETTO:-0700
TZNAME:America/Denver MST
END:STANDARD
BEGIN:STANDARD
DTSTART:20241103T010000
RDATE:20250309T030000
TZOFFSETFROM:-0600
TZOFFSETTO:-0700
TZNAME:America/Denver MST
END:STANDARD
BEGIN:STANDARD
DTSTART:20251102T010000
RDATE:20260308T030000
TZOFFSETFROM:-0600
TZOFFSETTO:-0700
TZNAME:America/Denver MST
END:STANDARD
BEGIN:STANDARD
DTSTART:20261101T010000
RDATE:20270314T030000
TZOFFSETFROM:-0600
TZOFFSETTO:-0700
TZNAME:America/Denver MST
END:STANDARD
BEGIN:STANDARD
DTSTART:20271107T010000
RDATE:20280312T030000
TZOFFSETFROM:-0600
TZOFFSETTO:-0700
TZNAME:America/Denver MST
END:STANDARD
BEGIN:STANDARD
DTSTART:20281105T010000
RDATE:20290311T030000
TZOFFSETFROM:-0600
TZOFFSETTO:-0700
TZNAME:America/Denver MST
END:STANDARD
BEGIN:STANDARD
DTSTART:20291104T010000
RDATE:20300310T030000
TZOFFSETFROM:-0600
TZOFFSETTO:-0700
TZNAME:America/Denver MST
END:STANDARD
BEGIN:STANDARD
DTSTART:20301103T010000
RDATE:20310309T030000
TZOFFSETFROM:-0600
TZOFFSETTO:-0700
TZNAME:America/Denver MST
END:STANDARD
BEGIN:STANDARD
DTSTART:20311102T010000
RDATE:20320314T030000
TZOFFSETFROM:-0600
TZOFFSETTO:-0700
TZNAME:America/Denver MST
END:STANDARD
BEGIN:DAYLIGHT
DTSTART:20170824T090000
RDATE:20171105T010000
TZOFFSETFROM:-0700
TZOFFSETTO:-0600
TZNAME:America/Denver MDT
END:DAYLIGHT
BEGIN:DAYLIGHT
DTSTART:20180311T030000
RDATE:20181104T010000
TZOFFSETFROM:-0700
TZOFFSETTO:-0600
TZNAME:America/Denver MDT
END:DAYLIGHT
BEGIN:DAYLIGHT
DTSTART:20190310T030000
RDATE:20191103T010000
TZOFFSETFROM:-0700
TZOFFSETTO:-0600
TZNAME:America/Denver MDT
END:DAYLIGHT
BEGIN:DAYLIGHT
DTSTART:20200308T030000
RDATE:20201101T010000
TZOFFSETFROM:-0700
TZOFFSETTO:-0600
TZNAME:America/Denver MDT
END:DAYLIGHT
BEGIN:DAYLIGHT
DTSTART:20210314T030000
RDATE:20211107T010000
TZOFFSETFROM:-0700
TZOFFSETTO:-0600
TZNAME:America/Denver MDT
END:DAYLIGHT
BEGIN:DAYLIGHT
DTSTART:20220313T030000
RDATE:20221106T010000
TZOFFSETFROM:-0700
TZOFFSETTO:-0600
TZNAME:America/Denver MDT
END:DAYLIGHT
BEGIN:DAYLIGHT
DTSTART:20230312T030000
RDATE:20231105T010000
TZOFFSETFROM:-0700
TZOFFSETTO:-0600
TZNAME:America/Denver MDT
END:DAYLIGHT
BEGIN:DAYLIGHT
DTSTART:20240310T030000
RDATE:20241103T010000
TZOFFSETFROM:-0700
TZOFFSETTO:-0600
TZNAME:America/Denver MDT
END:DAYLIGHT
BEGIN:DAYLIGHT
DTSTART:20250309T030000
RDATE:20251102T010000
TZOFFSETFROM:-0700
TZOFFSETTO:-0600
TZNAME:America/Denver MDT
END:DAYLIGHT
BEGIN:DAYLIGHT
DTSTART:20260308T030000
RDATE:20261101T010000
TZOFFSETFROM:-0700
TZOFFSETTO:-0600
TZNAME:America/Denver MDT
END:DAYLIGHT
BEGIN:DAYLIGHT
DTSTART:20270314T030000
RDATE:20271107T010000
TZOFFSETFROM:-0700
TZOFFSETTO:-0600
TZNAME:America/Denver MDT
END:DAYLIGHT
BEGIN:DAYLIGHT
DTSTART:20280312T030000
RDATE:20281105T010000
TZOFFSETFROM:-0700
TZOFFSETTO:-0600
TZNAME:America/Denver MDT
END:DAYLIGHT
BEGIN:DAYLIGHT
DTSTART:20290311T030000
RDATE:20291104T010000
TZOFFSETFROM:-0700
TZOFFSETTO:-0600
TZNAME:America/Denver MDT
END:DAYLIGHT
BEGIN:DAYLIGHT
DTSTART:20300310T030000
RDATE:20301103T010000
TZOFFSETFROM:-0700
TZOFFSETTO:-0600
TZNAME:America/Denver MDT
END:DAYLIGHT
BEGIN:DAYLIGHT
DTSTART:20310309T030000
RDATE:20311102T010000
TZOFFSETFROM:-0700
TZOFFSETTO:-0600
TZNAME:America/Denver MDT
END:DAYLIGHT
END:VTIMEZONE
BEGIN:VEVENT
UID:343f9cd450c8929d20d6165ab2cbf189
CATEGORIES:Community Events
CREATED:20180326T205443
SUMMARY:King Boletus Mushroom Festival
LOCATION:merican Legion Hall, 338 N. Railroad Street, Buena Vista, CO
DESCRIPTION;ENCODING=QUOTED-PRINTABLE:\n\nA two-day mushroom seminar with classroom lectures and mountain forays.
 \n\n\n\n\n\nBack in 1996, Jim and Carol Sanford conceived of the King Bolet
 us Mushroom Festival as a fundraiser for Buena Vista Heritage, combining tw
 o of their passions. Although mushroom forays and historic preservation see
 med an unlikely pairing, the event has been a success in every year except 
 2002, when it was cancelled due to drought conditions.\n\n\nMore than its s
 uccess as a fundraiser, however, the King Boletus Mushroom Festival has edu
 cated hundreds of participants on the fine art of hunting for and identifyi
 ng mushrooms in the Upper Arkansas Valley and throughout Colorado. It has a
 lso brought together mushroom hunters of all ages and levels of experience 
 to share their passion, tips and success stories.\n\n\nOh, and did we menti
 on that it’s fun? \n\n\nThis year's&nbsp;Mushroom Fest will be August 25th 
 &amp; 26th. &nbsp;&nbsp; The fee is&nbsp; $100.00, including lunch on Satur
 day, a wine and cheese reception&nbsp; Saturday afternoon, and a light lunc
 h on Sunday. &nbsp;There is no one-day rate. Please leave your dog at home.
 \n\n\nBVH sells mushroom guide books, collecting baskets, knives and loupes
  at the event.\n\n\nSchedule - Check back for updates\n\n\nThe&nbsp;seminar
  starts on Saturday, Aug. 25th, at 9:00 a.m. at the American Legion Hall, 3
 38 N. Railroad Street, Buena Vista. &nbsp;Check in between 8:30 and 9:00. M
 ushroom expert Ellen Jacobson and other members of the Colorado Mycological
  Society will present&nbsp;slides, display tables, handouts and information
  on locating and identifying mushrooms. In the afternoon,&nbsp;attendees wi
 ll carpool to the local mountains to go on mushroom forays. \n\n\nAfter the
  foray,&nbsp;everyone will gather to compare and identify the mushrooms the
 y have collected, followed by a wine-cheese&nbsp;reception at the historic 
 Turner Farm, 829 W. Main. \n\n\nThe festival will continue on Sunday at 8:3
 0 a.m.&nbsp;There will again be forays into the mountains to find mushrooms
 .&nbsp; Then, participants return to the Legion Hall for more identificatio
 n, question-and-answers session, and a light lunch of quick&nbsp;mushroom-b
 ased snacks and pizza. \n\n\nWhat to Bring:\nHiking boots\npocket knife or 
 mushroom knife\nwater and snacks for the forays\nbug spray\ncamera\nhat, su
 n protection\na collection basket, loupe, or mushroom guide if you have the
 m.\n\n\nRegistration is limited. No refunds after August 10, 2018. Register
  online  . Request a printable form at \n\n\n\nFor more information,&nbsp;c
 all 719-395-8458.&nbsp;&nbsp;\n\n\nhttp://www.buenavistaheritage.org/Mushro
 om-Fest-\n\n\n&nbsp;\n
CONTACT:719-395-8458
DTSTAMP:20260421T060413Z
DTSTART;TZID=America/Denver:20180825T090000
DTEND;TZID=America/Denver:20180825T170000
SEQUENCE:0
TRANSP:OPAQUE
END:VEVENT
END:VCALENDAR