BEGIN:VCALENDAR
VERSION:2.0
PRODID:-//jEvents 2.0 for Joomla//EN
CALSCALE:GREGORIAN
METHOD:PUBLISH
BEGIN:VEVENT
UID:eeab98ec9e95059078a99eab11f6bb5c
CATEGORIES:Politics
CREATED:20180610T225726
SUMMARY:Indian Hills Fire Protection District Public Board Meeting
LOCATION:Indian Hills Fire Rescue, 4476 Parmalee Gulch Rd, Indian Hills, Colorado 80
 454
DESCRIPTION;ENCODING=QUOTED-PRINTABLE:\n\nPublic is Invited and Welcome to Attend\n\nPublic notice of 2024 monthl
 y board meetings at 7:00 pm at the Indian Hills Fire Station.\n\nMore at ht
 tps://www.ihfr.org/board\n\n\n*November and December's meetings will be hel
 d on the 2nd Wednesdays due to the holidays.\n\n\n \n
CONTACT:303-697-4568 or This email address is being protected from spambots. You need JavaScript enabled to view it.
				document.getElementById('cloakf1706ac4e7e778b9ff3746cb12792a16').innerHTML = '';
				var prefix = '&#109;a' + 'i&#108;' + '&#116;o';
				var path = 'hr' + 'ef' + '=';
				var addyf1706ac4e7e778b9ff3746cb12792a16 = '&#105;nf&#111;' + '&#64;';
				addyf1706ac4e7e778b9ff3746cb12792a16 = addyf1706ac4e7e778b9ff3746cb12792a16 + '&#105;hfr' + '&#46;' + '&#111;rg';
				var addy_textf1706ac4e7e778b9ff3746cb12792a16 = '&#105;nf&#111;' + '&#64;' + '&#105;hfr' + '&#46;' + '&#111;rg';document.getElementById('cloakf1706ac4e7e778b9ff3746cb12792a16').innerHTML += ''+addy_textf1706ac4e7e778b9ff3746cb12792a16+'';
		
DTSTAMP:20260420T181302Z
DTSTART;TZID=America/Denver:20400125T190000
DTEND;TZID=America/Denver:20400125T203000
SEQUENCE:0
TRANSP:OPAQUE
END:VEVENT
END:VCALENDAR