BEGIN:VCALENDAR
VERSION:2.0
PRODID:-//jEvents 2.0 for Joomla//EN
CALSCALE:GREGORIAN
METHOD:PUBLISH
BEGIN:VEVENT
UID:eeab98ec9e95059078a99eab11f6bb5c
CATEGORIES:Politics
CREATED:20180610T225726
SUMMARY:Indian Hills Fire Protection District Public Board Meeting
LOCATION:Indian Hills Fire Rescue, 4476 Parmalee Gulch Rd, Indian Hills, Colorado 80
 454
DESCRIPTION;ENCODING=QUOTED-PRINTABLE:<p><span style="font-size: 10pt;">Public is Invited and Welcome to Attend<b
 r /></span></p><h3><strong>Public notice of 2024 monthly board meetings at 
 7:00 pm at the Indian Hills Fire Station.</strong></h3><p><span style="font
 -size: 10pt;">More at <a href="https://www.ihfr.org/board">https://www.ihfr
 .org/board</a></span></p><p><span style="font-size: 10pt;">*November and De
 cember's meetings will be held on the 2nd Wednesdays due to the holidays.</
 span></p><p> </p>
CONTACT:303-697-4568 or This email address is being protected from spambots. You need JavaScript enabled to view it.
				document.getElementById('cloak33ac9d2369bd8bcf415e1e95a1374e52').innerHTML = '';
				var prefix = '&#109;a' + 'i&#108;' + '&#116;o';
				var path = 'hr' + 'ef' + '=';
				var addy33ac9d2369bd8bcf415e1e95a1374e52 = '&#105;nf&#111;' + '&#64;';
				addy33ac9d2369bd8bcf415e1e95a1374e52 = addy33ac9d2369bd8bcf415e1e95a1374e52 + '&#105;hfr' + '&#46;' + '&#111;rg';
				var addy_text33ac9d2369bd8bcf415e1e95a1374e52 = '&#105;nf&#111;' + '&#64;' + '&#105;hfr' + '&#46;' + '&#111;rg';document.getElementById('cloak33ac9d2369bd8bcf415e1e95a1374e52').innerHTML += ''+addy_text33ac9d2369bd8bcf415e1e95a1374e52+'';
		
DTSTAMP:20260421T094030Z
DTSTART;TZID=America/Denver:20401128T190000
DTEND;TZID=America/Denver:20401128T203000
SEQUENCE:0
TRANSP:OPAQUE
END:VEVENT
END:VCALENDAR