BEGIN:VCALENDAR
VERSION:2.0
PRODID:-//jEvents 2.0 for Joomla//EN
CALSCALE:GREGORIAN
METHOD:PUBLISH
BEGIN:VEVENT
UID:eeab98ec9e95059078a99eab11f6bb5c
CATEGORIES:Politics
CREATED:20180610T225726
SUMMARY:Indian Hills Fire Protection District Public Board Meeting
LOCATION:Indian Hills Fire Rescue, 4476 Parmalee Gulch Rd, Indian Hills, Colorado 80
 454
DESCRIPTION;ENCODING=QUOTED-PRINTABLE:\n\nPublic is Invited and Welcome to Attend\n\nPublic notice of 2024 monthl
 y board meetings at 7:00 pm at the Indian Hills Fire Station.\n\nMore at ht
 tps://www.ihfr.org/board\n\n\n*November and December's meetings will be hel
 d on the 2nd Wednesdays due to the holidays.\n\n\n \n
CONTACT:303-697-4568 or This email address is being protected from spambots. You need JavaScript enabled to view it.
				document.getElementById('cloak97b1f5e5dbdca866e46d9916c4d4699e').innerHTML = '';
				var prefix = '&#109;a' + 'i&#108;' + '&#116;o';
				var path = 'hr' + 'ef' + '=';
				var addy97b1f5e5dbdca866e46d9916c4d4699e = '&#105;nf&#111;' + '&#64;';
				addy97b1f5e5dbdca866e46d9916c4d4699e = addy97b1f5e5dbdca866e46d9916c4d4699e + '&#105;hfr' + '&#46;' + '&#111;rg';
				var addy_text97b1f5e5dbdca866e46d9916c4d4699e = '&#105;nf&#111;' + '&#64;' + '&#105;hfr' + '&#46;' + '&#111;rg';document.getElementById('cloak97b1f5e5dbdca866e46d9916c4d4699e').innerHTML += ''+addy_text97b1f5e5dbdca866e46d9916c4d4699e+'';
		
DTSTAMP:20260422T115143Z
DTSTART;TZID=America/Denver:20880428T190000
DTEND;TZID=America/Denver:20880428T203000
SEQUENCE:0
TRANSP:OPAQUE
END:VEVENT
END:VCALENDAR