BEGIN:VCALENDAR
VERSION:2.0
PRODID:-//jEvents 2.0 for Joomla//EN
CALSCALE:GREGORIAN
METHOD:PUBLISH
BEGIN:VEVENT
UID:eeab98ec9e95059078a99eab11f6bb5c
CATEGORIES:Politics
CREATED:20180610T225726
SUMMARY:Indian Hills Fire Protection District Public Board Meeting
LOCATION:Indian Hills Fire Rescue, 4476 Parmalee Gulch Rd, Indian Hills, Colorado 80
 454
DESCRIPTION;ENCODING=QUOTED-PRINTABLE:<p><span style="font-size: 10pt;">Public is Invited and Welcome to Attend<b
 r /></span></p><h3><strong>Public notice of 2024 monthly board meetings at 
 7:00 pm at the Indian Hills Fire Station.</strong></h3><p><span style="font
 -size: 10pt;">More at <a href="https://www.ihfr.org/board">https://www.ihfr
 .org/board</a></span></p><p><span style="font-size: 10pt;">*November and De
 cember's meetings will be held on the 2nd Wednesdays due to the holidays.</
 span></p><p> </p>
CONTACT:303-697-4568 or This email address is being protected from spambots. You need JavaScript enabled to view it.
				document.getElementById('cloakf2b2abb5d1c603b74d6f1360edd786cd').innerHTML = '';
				var prefix = '&#109;a' + 'i&#108;' + '&#116;o';
				var path = 'hr' + 'ef' + '=';
				var addyf2b2abb5d1c603b74d6f1360edd786cd = '&#105;nf&#111;' + '&#64;';
				addyf2b2abb5d1c603b74d6f1360edd786cd = addyf2b2abb5d1c603b74d6f1360edd786cd + '&#105;hfr' + '&#46;' + '&#111;rg';
				var addy_textf2b2abb5d1c603b74d6f1360edd786cd = '&#105;nf&#111;' + '&#64;' + '&#105;hfr' + '&#46;' + '&#111;rg';document.getElementById('cloakf2b2abb5d1c603b74d6f1360edd786cd').innerHTML += ''+addy_textf2b2abb5d1c603b74d6f1360edd786cd+'';
		
DTSTAMP:20260422T005157Z
DTSTART;TZID=America/Denver:20881027T190000
DTEND;TZID=America/Denver:20881027T203000
SEQUENCE:0
TRANSP:OPAQUE
END:VEVENT
END:VCALENDAR