BEGIN:VCALENDAR
VERSION:2.0
PRODID:-//jEvents 2.0 for Joomla//EN
CALSCALE:GREGORIAN
METHOD:PUBLISH
BEGIN:VTIMEZONE
TZID:America/Denver
END:VTIMEZONE
BEGIN:VEVENT
UID:c547c677547efa591350924d748888c4
CATEGORIES:Kids & Family, Church/Religion/Spirituality/Worship
CREATED:20181218T142928
SUMMARY:Mass at Our Lady of the Pines Catholic Church
LOCATION:Our Lady of the Pines Catholic Church, 9444 Eagle Cliff Rd, Conifer, CO 804
 33
DESCRIPTION;ENCODING=QUOTED-PRINTABLE:\n\nOur Lady of the Pines Roman Catholic Church is a mountain parish dedica
 ted to our Blessed Mother.  We support and evangelize through liturgy, wors
 hip, service and community building events.\nOur Lady of the Pines &amp; St
 . Elizabeth  \n  \n\n \nMass Sign Up Link\n \n Please click the link above 
 and sign up for the Mass you wish to attend.  If you have a problem, please
  email This email address is being protected from spambots. You need JavaSc
 ript enabled to view it.
				document.getElementById('cloak5c0f4cf664571666
 e1309f3979976ace').innerHTML = '';
				var prefix = '&#109;a' + 'i&#108;' +
  '&#116;o';
				var path = 'hr' + 'ef' + '=';
				var addy5c0f4cf664571666e
 1309f3979976ace = '&#111;ff&#105;c&#101;' + '&#64;';
				addy5c0f4cf6645716
 66e1309f3979976ace = addy5c0f4cf664571666e1309f3979976ace + '&#111;lpc&#111
 ;n&#105;f&#101;r' + '&#46;' + '&#111;rg';
				var addy_text5c0f4cf664571666
 e1309f3979976ace = '&#111;ff&#105;c&#101;' + '&#64;' + '&#111;lpc&#111;n&#1
 05;f&#101;r' + '&#46;' + '&#111;rg';document.getElementById('cloak5c0f4cf66
 4571666e1309f3979976ace').innerHTML += ''+addy_text5c0f4cf664571666e1309f39
 79976ace+'';
		 \n \n You are welcome to sign up for Mass at either parish.
 \n  Our New Mass times are:\n \n St. Elizabeth:  (Capacity 20)\n 4:00 pm Sa
 turday\n 6:00 pm Wednesday\n \n Our Lady of the Pines: (Capacity 50)\n 5:30
  pm Saturday\n 8:00 am, 9:30 am &amp; 11:00 am Sunday\n 6:00 pm Tuesday &am
 p; Thursday\n 8:30 am Friday - followed with AdorationReconciliation\n \n W
 ill be before and after Mass or by appointment \n \n    The Restrictions fo
 r Attending Mass\n  Social distancing will be practiced at all public Masse
 s. Parishioners should follow the guidance of any usher or posted sign and 
 can expect for rows/pews to be roped off.\n  \n Families who live together 
 can sit together, but should be spaced more than 6-feet from other families
 .\n  \n Everyone is asked to wear a mask (except children 3 and under), and
  parishioners are encouraged to bring their hand sanitizer and/or sanitizin
 g wipes.\n  \n There will also be liturgical changes similar to those imple
 mented during the early stages of this pandemic back in February and March.
 \n  \n To reduce movement Holy Communion will be distributed to you in the 
 pew.\n\n \n\n\n \n
CONTACT:303-838-0338
X-EXTRAINFO:https://olpconifer.org/
DTSTAMP:20260423T060230Z
DTSTART;TZID=America/Denver:20360406T080000
SEQUENCE:0
TRANSP:OPAQUE
END:VEVENT
END:VCALENDAR