BEGIN:VCALENDAR
VERSION:2.0
PRODID:-//jEvents 2.0 for Joomla//EN
CALSCALE:GREGORIAN
METHOD:PUBLISH
BEGIN:VEVENT
UID:0592c221c8df60e9a11ccde529e24d57
CATEGORIES:Leisure/Hobbies/Recreation
CREATED:20211023T150659
SUMMARY:Pine Needle Basket Class at the Florissant Grange
LOCATION:Florissant Grange #420, 2009 Co Rd 31, Florissant, CO 80816
DESCRIPTION;ENCODING=QUOTED-PRINTABLE:<h2><em>EVERYONE is welcome at the Florissant Grange. </em></h2><h4><em>You
 r membership is not required to attend our events, but we welcome you to be
 come an active/ “doer”,  member ($40/YEAR).</em></h4><p><strong><span style
 ="color: #ff0000;">Pine Needle Basket Class</span></strong> is always the s
 econd Saturday of each month unless otherwise noted. Call 719-510-2325 for 
 more information.</p><h2><u>WHAT IS THE GRANGE?</u></h2><p>We receive many 
 questions about the Florissant Grange Organization and the answer to most o
 f these questions, are:  The Grange Organization is a Fraternal Organizatio
 n that is centered on Community Service.</p><p>We are dedicated to our Comm
 unity and we thrive on community support.  We are open to everyone and invi
 te everyone to join us at all our activities and meetings.  We love to gain
  new members and encourage everyone to join.  You do not have to be a membe
 r to come to our events or to come to our meetings.  If you are curious abo
 ut us – come see what we are all about.  We have a very corny motto, but it
  is true to its word… “You are never a stranger if you are a Granger.”  Joi
 n us anytime.</p><p>Everyone is welcome and <strong>encouraged</strong> to 
 attend our monthly meetings.  Come see what the Grange is all about. We are
  not a closed organization and we encourage everyone to join us.  We would 
 love to have you as a member because we are here for YOU.</p><p><a href="ht
 tps://florissantgrange420.org/">https://florissantgrange420.org/</a></p><p>
  </p>
CONTACT:Contact Us:  This email address is being protected from spambots. You need JavaScript enabled to view it.
				document.getElementById('cloaka382395dbe9dde54dbfbffd8beaa51f9').innerHTML = '';
				var prefix = '&#109;a' + 'i&#108;' + '&#116;o';
				var path = 'hr' + 'ef' + '=';
				var addya382395dbe9dde54dbfbffd8beaa51f9 = 'fl&#111;r&#105;ss&#97;ntgr&#97;ng&#101;' + '&#64;';
				addya382395dbe9dde54dbfbffd8beaa51f9 = addya382395dbe9dde54dbfbffd8beaa51f9 + 'gm&#97;&#105;l' + '&#46;' + 'c&#111;m';
				var addy_texta382395dbe9dde54dbfbffd8beaa51f9 = 'fl&#111;r&#105;ss&#97;ntgr&#97;ng&#101;' + '&#64;' + 'gm&#97;&#105;l' + '&#46;' + 'c&#111;m';document.getElementById('cloaka382395dbe9dde54dbfbffd8beaa51f9').innerHTML += ''+addy_texta382395dbe9dde54dbfbffd8beaa51f9+'';
		 or 719-510-2325
DTSTAMP:20260425T075442Z
DTSTART;TZID=America/Denver;VALUE=DATE:20981108
DTEND;TZID=America/Denver;VALUE=DATE:20981109
SEQUENCE:0
TRANSP:OPAQUE
END:VEVENT
END:VCALENDAR